BEGIN:VCALENDAR
VERSION:2.0
PRODID:-//Boulder County - ECPv6.15.17.1//NONSGML v1.0//EN
CALSCALE:GREGORIAN
METHOD:PUBLISH
X-WR-CALNAME:Boulder County
X-ORIGINAL-URL:https://bouldercounty.gov
X-WR-CALDESC:Events for Boulder County
REFRESH-INTERVAL;VALUE=DURATION:PT1H
X-Robots-Tag:noindex
X-PUBLISHED-TTL:PT1H
BEGIN:VTIMEZONE
TZID:America/Denver
BEGIN:DAYLIGHT
TZOFFSETFROM:-0700
TZOFFSETTO:-0600
TZNAME:MDT
DTSTART:20240310T090000
END:DAYLIGHT
BEGIN:STANDARD
TZOFFSETFROM:-0600
TZOFFSETTO:-0700
TZNAME:MST
DTSTART:20241103T080000
END:STANDARD
BEGIN:DAYLIGHT
TZOFFSETFROM:-0700
TZOFFSETTO:-0600
TZNAME:MDT
DTSTART:20250309T090000
END:DAYLIGHT
BEGIN:STANDARD
TZOFFSETFROM:-0600
TZOFFSETTO:-0700
TZNAME:MST
DTSTART:20251102T080000
END:STANDARD
BEGIN:DAYLIGHT
TZOFFSETFROM:-0700
TZOFFSETTO:-0600
TZNAME:MDT
DTSTART:20260308T090000
END:DAYLIGHT
BEGIN:STANDARD
TZOFFSETFROM:-0600
TZOFFSETTO:-0700
TZNAME:MST
DTSTART:20261101T080000
END:STANDARD
END:VTIMEZONE
BEGIN:VEVENT
DTSTART;TZID=America/Denver:20250912T083000
DTEND;TZID=America/Denver:20250912T143000
DTSTAMP:20260420T020619
CREATED:20250902T174319Z
LAST-MODIFIED:20250908T152759Z
UID:10001747-1757665800-1757687400@bouldercounty.gov
SUMMARY:Parks & Open Space Advisory Committee (POSAC) Site Visit
DESCRIPTION:Parks & Open Space Advisory Committee members will visit the Prescott Wetland restoration area and Sherwood Creek at the Conger Mine site. \nThis site visit will not provide an opportunity for formal public comment. The tour is informational only and POSAC will not vote on matters related to this item. \nRegistration is required. \nRegister
URL:https://bouldercounty.gov/event/parks-open-space-advisory-committee-posac-site-visit-9/
LOCATION:CO
CATEGORIES:Parks & Open Space Advisory Committee
END:VEVENT
BEGIN:VEVENT
DTSTART;TZID=America/Denver:20250925T183000
DTEND;TZID=America/Denver:20250925T213000
DTSTAMP:20260420T020619
CREATED:20250902T170442Z
LAST-MODIFIED:20250915T164512Z
UID:10001034-1758825000-1758835800@bouldercounty.gov
SUMMARY:Parks & Open Space Advisory Committee (POSAC)
DESCRIPTION:Complete details can be found at Parks & Open Space Advisory Committee.
URL:https://bouldercounty.gov/event/parks-open-space-advisory-committee-posac-20/
LOCATION:Commissioners’ Hearing Room\, Downtown County Courthouse\, 1325 Pearl Street\, 3rd Floor\, Boulder\, CO\, 80302\, United States
CATEGORIES:Hikes & Events,Parks & Open Space,Parks & Open Space Advisory Committee
GEO:40.018877;-105.278254
X-APPLE-STRUCTURED-LOCATION;VALUE=URI;X-ADDRESS=Commissioners’ Hearing Room Downtown County Courthouse 1325 Pearl Street 3rd Floor Boulder CO 80302 United States;X-APPLE-RADIUS=500;X-TITLE=Downtown County Courthouse\, 1325 Pearl Street\, 3rd Floor:geo:-105.278254,40.018877
END:VEVENT
END:VCALENDAR