BEGIN:VCALENDAR
VERSION:2.0
PRODID:-//Boulder County - ECPv6.15.17.1//NONSGML v1.0//EN
CALSCALE:GREGORIAN
METHOD:PUBLISH
X-WR-CALNAME:Boulder County
X-ORIGINAL-URL:https://bouldercounty.gov
X-WR-CALDESC:Events for Boulder County
REFRESH-INTERVAL;VALUE=DURATION:PT1H
X-Robots-Tag:noindex
X-PUBLISHED-TTL:PT1H
BEGIN:VTIMEZONE
TZID:America/Denver
BEGIN:DAYLIGHT
TZOFFSETFROM:-0700
TZOFFSETTO:-0600
TZNAME:MDT
DTSTART:20240310T090000
END:DAYLIGHT
BEGIN:STANDARD
TZOFFSETFROM:-0600
TZOFFSETTO:-0700
TZNAME:MST
DTSTART:20241103T080000
END:STANDARD
BEGIN:DAYLIGHT
TZOFFSETFROM:-0700
TZOFFSETTO:-0600
TZNAME:MDT
DTSTART:20250309T090000
END:DAYLIGHT
BEGIN:STANDARD
TZOFFSETFROM:-0600
TZOFFSETTO:-0700
TZNAME:MST
DTSTART:20251102T080000
END:STANDARD
BEGIN:DAYLIGHT
TZOFFSETFROM:-0700
TZOFFSETTO:-0600
TZNAME:MDT
DTSTART:20260308T090000
END:DAYLIGHT
BEGIN:STANDARD
TZOFFSETFROM:-0600
TZOFFSETTO:-0700
TZNAME:MST
DTSTART:20261101T080000
END:STANDARD
END:VTIMEZONE
BEGIN:VEVENT
DTSTART;TZID=America/Denver:20251016T180000
DTEND;TZID=America/Denver:20251016T193000
DTSTAMP:20260419T115031
CREATED:20250911T174612Z
LAST-MODIFIED:20250911T174612Z
UID:10002355-1760637600-1760643000@bouldercounty.gov
SUMMARY:Evening at the Museum: Hard Rock Mining in Boulder County - How and Why Did Deposits Form Here?
DESCRIPTION:Beneath Boulder County’s scenic landscapes lies a story of shifting continents\, ancient seas\, and valuable minerals that shaped the region’s history. Join Rick and Becky Lewis\, Boulder County volunteers\, for a look at how plate tectonics formed the Colorado Mineral Belt. They will share the stories behind three of the county’s most notable mineral deposits: gold at Gold Hill\, silver at Caribou\, and tungsten below Barker Reservoir.  \nRegistration for most programs begins on the 20th of the month before the event. \nRegistration required. \nRegister
URL:https://bouldercounty.gov/event/evening-at-the-museum-hard-rock-mining-in-boulder-county-how-and-why-did-deposits-form-here/
LOCATION:Nederland Mining Museum\, 200 N. Bridge Street\, Nederland\, CO\, 80466
CATEGORIES:Hikes & Events,Nederland Mining Museum,Parks & Open Space
ORGANIZER;CN="Sheryl Kippen":MAILTO:skippen@bouldercounty.gov
GEO:39.962708;-105.510559
X-APPLE-STRUCTURED-LOCATION;VALUE=URI;X-ADDRESS=Nederland Mining Museum 200 N. Bridge Street Nederland CO 80466;X-APPLE-RADIUS=500;X-TITLE=200 N. Bridge Street:geo:-105.510559,39.962708
END:VEVENT
END:VCALENDAR