BEGIN:VCALENDAR
VERSION:2.0
PRODID:-//Boulder County - ECPv6.15.17.1//NONSGML v1.0//EN
CALSCALE:GREGORIAN
METHOD:PUBLISH
X-WR-CALNAME:Boulder County
X-ORIGINAL-URL:https://bouldercounty.gov
X-WR-CALDESC:Events for Boulder County
REFRESH-INTERVAL;VALUE=DURATION:PT1H
X-Robots-Tag:noindex
X-PUBLISHED-TTL:PT1H
BEGIN:VTIMEZONE
TZID:America/Denver
BEGIN:DAYLIGHT
TZOFFSETFROM:-0700
TZOFFSETTO:-0600
TZNAME:MDT
DTSTART:20240310T090000
END:DAYLIGHT
BEGIN:STANDARD
TZOFFSETFROM:-0600
TZOFFSETTO:-0700
TZNAME:MST
DTSTART:20241103T080000
END:STANDARD
BEGIN:DAYLIGHT
TZOFFSETFROM:-0700
TZOFFSETTO:-0600
TZNAME:MDT
DTSTART:20250309T090000
END:DAYLIGHT
BEGIN:STANDARD
TZOFFSETFROM:-0600
TZOFFSETTO:-0700
TZNAME:MST
DTSTART:20251102T080000
END:STANDARD
BEGIN:DAYLIGHT
TZOFFSETFROM:-0700
TZOFFSETTO:-0600
TZNAME:MDT
DTSTART:20260308T090000
END:DAYLIGHT
BEGIN:STANDARD
TZOFFSETFROM:-0600
TZOFFSETTO:-0700
TZNAME:MST
DTSTART:20261101T080000
END:STANDARD
END:VTIMEZONE
BEGIN:VEVENT
DTSTART;TZID=America/Denver:20251004T110000
DTEND;TZID=America/Denver:20251004T170000
DTSTAMP:20260419T115717
CREATED:20250902T164328Z
LAST-MODIFIED:20251014T222627Z
UID:10002628-1759575600-1759597200@bouldercounty.gov
SUMMARY:Nederland Mining Museum Open 11am-5pm
DESCRIPTION:The Nederland Mining Museum is open Friday\, Saturday\, and Sunday from 11 a.m. – 5 p.m from June 1 through Oct. 31. \nThe museum will be closed Friday\, July 4\, and Sunday\, Oct. 19.
URL:https://bouldercounty.gov/event/nederland-mining-museum-open-11am-5pm/2025-10-04/
LOCATION:Nederland Mining Museum\, 200 N. Bridge Street\, Nederland\, CO\, 80466
CATEGORIES:Nederland Mining Museum
ORGANIZER;CN="Sheryl Kippen":MAILTO:skippen@bouldercounty.gov
GEO:39.962708;-105.510559
X-APPLE-STRUCTURED-LOCATION;VALUE=URI;X-ADDRESS=Nederland Mining Museum 200 N. Bridge Street Nederland CO 80466;X-APPLE-RADIUS=500;X-TITLE=200 N. Bridge Street:geo:-105.510559,39.962708
END:VEVENT
END:VCALENDAR