BEGIN:VCALENDAR
VERSION:2.0
PRODID:-//Boulder County - ECPv6.15.17.1//NONSGML v1.0//EN
CALSCALE:GREGORIAN
METHOD:PUBLISH
X-WR-CALNAME:Boulder County
X-ORIGINAL-URL:https://bouldercounty.gov
X-WR-CALDESC:Events for Boulder County
REFRESH-INTERVAL;VALUE=DURATION:PT1H
X-Robots-Tag:noindex
X-PUBLISHED-TTL:PT1H
BEGIN:VTIMEZONE
TZID:America/Denver
BEGIN:DAYLIGHT
TZOFFSETFROM:-0700
TZOFFSETTO:-0600
TZNAME:MDT
DTSTART:20240310T090000
END:DAYLIGHT
BEGIN:STANDARD
TZOFFSETFROM:-0600
TZOFFSETTO:-0700
TZNAME:MST
DTSTART:20241103T080000
END:STANDARD
BEGIN:DAYLIGHT
TZOFFSETFROM:-0700
TZOFFSETTO:-0600
TZNAME:MDT
DTSTART:20250309T090000
END:DAYLIGHT
BEGIN:STANDARD
TZOFFSETFROM:-0600
TZOFFSETTO:-0700
TZNAME:MST
DTSTART:20251102T080000
END:STANDARD
BEGIN:DAYLIGHT
TZOFFSETFROM:-0700
TZOFFSETTO:-0600
TZNAME:MDT
DTSTART:20260308T090000
END:DAYLIGHT
BEGIN:STANDARD
TZOFFSETFROM:-0600
TZOFFSETTO:-0700
TZNAME:MST
DTSTART:20261101T080000
END:STANDARD
END:VTIMEZONE
BEGIN:VEVENT
DTSTART;TZID=America/Denver:20250821T160000
DTEND;TZID=America/Denver:20250821T180000
DTSTAMP:20260425T181729
CREATED:20250902T174233Z
LAST-MODIFIED:20250902T174233Z
UID:10001726-1755792000-1755799200@bouldercounty.gov
SUMMARY:Willoughby Corner Grand Opening
DESCRIPTION:Join us to celebrate the grand opening of Willoughby Corner Phase 1!  \nThursday\, Aug. 21\, 2025 | 4 to 6 p.m. \nWilloughby Corner Community Center \n(933 Canterbury Drive\, Lafayette\, CO 80026) \n  \nEvent Schedule  \n  \n4:15 to 4:45 | Opening Remarks  \nHear from the people who made Willoughby Corner possible:   \n\nMarta Loachamin\, Boulder County Commissioner \n\n\nAlison George\, Colorado State Division of Housing Director \n\n\nBrian Wong\, Lafayette Mayor Pro Tem \n\n\nJoe Revielle\, Manager\, Pinkard Construction Company \n\n\nKat Goldberg\, Willoughby Corner Resident and Social Justice Ministries member \n\n\nSusana Lopez Baker\, Boulder County Housing Director and Boulder County Housing Authority Executive Director \n\n  \n4:45 | Ribbon cutting  \n  \n5:10 – 5:40 | Tours  \n\nSign up for a tour at the welcome table. Tours leave every 10 minutes and will feature the Community Center\, the dog park\, and our buildings. \n\n\nTours will be offered in English and Spanish! \n\n  \nEnjoy food\, fun\, and community throughout the event!  \nFood and drinks  \n\nTacos from Dos Manos taco truck \n\n\nHawaiian shaved ice from Punch Buggy \n\n\nSnacks from Meals on Wheels \n\n  \nActivities for all ages  \n\nRobotics demo  \n\n\nLEGO building station \n\n\nTemporary tattoos \n\n\n“Pets of Willoughby Corner” photo display \n\n\nLive music from the Lafayette Senior Choir \n\n  \nMeet our community partners  \n\nThe City of Lafayette \n\n\nThe Lafayette Recreation and Senior Center \n\n\nRegional Transportation District (RTD) \n\n\nSister Carmen Community Center \n\n  \nParking is limited – plan ahead  \n\nThe Community Center parking lot will be closed for food trucks and activities \n\n\nRide the bus (225 and DASH) or carpool if you can \n\n\nA few spaces may be available along Canterbury Drive \n\n  \nBoulder County wants to ensure that everyone has equal access to our programs\, activities\, and services. To request an Americans with Disability Act (ADA) accommodation\, please email  ADA@bouldercounty.gov\, or call 303-441-1386. Submit your request as early as possible\, and no later than two business days before the event. 
URL:https://bouldercounty.gov/event/willoughby-corner-grand-opening/
LOCATION:Willoughby Corner\, 928 Canterbury Dr.\, Lafayette\, CO\, 80026
CATEGORIES:Housing & Human Services
END:VEVENT
END:VCALENDAR