BEGIN:VCALENDAR
VERSION:2.0
PRODID:-//Boulder County - ECPv6.15.17.1//NONSGML v1.0//EN
CALSCALE:GREGORIAN
METHOD:PUBLISH
X-WR-CALNAME:Boulder County
X-ORIGINAL-URL:https://bouldercounty.gov
X-WR-CALDESC:Events for Boulder County
REFRESH-INTERVAL;VALUE=DURATION:PT1H
X-Robots-Tag:noindex
X-PUBLISHED-TTL:PT1H
BEGIN:VTIMEZONE
TZID:America/Denver
BEGIN:DAYLIGHT
TZOFFSETFROM:-0700
TZOFFSETTO:-0600
TZNAME:MDT
DTSTART:20250309T090000
END:DAYLIGHT
BEGIN:STANDARD
TZOFFSETFROM:-0600
TZOFFSETTO:-0700
TZNAME:MST
DTSTART:20251102T080000
END:STANDARD
BEGIN:DAYLIGHT
TZOFFSETFROM:-0700
TZOFFSETTO:-0600
TZNAME:MDT
DTSTART:20260308T090000
END:DAYLIGHT
BEGIN:STANDARD
TZOFFSETFROM:-0600
TZOFFSETTO:-0700
TZNAME:MST
DTSTART:20261101T080000
END:STANDARD
BEGIN:DAYLIGHT
TZOFFSETFROM:-0700
TZOFFSETTO:-0600
TZNAME:MDT
DTSTART:20270314T090000
END:DAYLIGHT
BEGIN:STANDARD
TZOFFSETFROM:-0600
TZOFFSETTO:-0700
TZNAME:MST
DTSTART:20271107T080000
END:STANDARD
END:VTIMEZONE
BEGIN:VEVENT
DTSTART;TZID=America/Denver:20260628T000000
DTEND;TZID=America/Denver:20260628T140000
DTSTAMP:20260419T072638
CREATED:20260108T070307Z
LAST-MODIFIED:20260108T190326Z
UID:10003141-1782604800-1782655200@bouldercounty.gov
SUMMARY:Longmont Amateur Radio Club Field Day
DESCRIPTION:
URL:https://bouldercounty.gov/event/longmont-amateur-radio-club-field-day-2/
LOCATION:Picnic Shelter\, 9595 Nelson Road\, Longmont\, CO\, 80501
CATEGORIES:Fairgrounds
GEO:40.153462;-105.12901
X-APPLE-STRUCTURED-LOCATION;VALUE=URI;X-ADDRESS=Picnic Shelter 9595 Nelson Road Longmont CO 80501;X-APPLE-RADIUS=500;X-TITLE=9595 Nelson Road:geo:-105.12901,40.153462
END:VEVENT
BEGIN:VEVENT
DTSTART;TZID=America/Denver:20260628T073000
DTEND;TZID=America/Denver:20260628T170000
DTSTAMP:20260419T072638
CREATED:20260416T152222Z
LAST-MODIFIED:20260416T152222Z
UID:10003696-1782631800-1782666000@bouldercounty.gov
SUMMARY:Boulder Valley Dressage Clinic and Show
DESCRIPTION:
URL:https://bouldercounty.gov/event/boulder-valley-dressage-clinic-and-show-2/
LOCATION:Outdoor Arena\, 9595 Nelson Road\, Longmont\, CO\, 80501
CATEGORIES:Fairgrounds
GEO:40.15675;-105.127464
X-APPLE-STRUCTURED-LOCATION;VALUE=URI;X-ADDRESS=Outdoor Arena 9595 Nelson Road Longmont CO 80501;X-APPLE-RADIUS=500;X-TITLE=9595 Nelson Road:geo:-105.127464,40.15675
END:VEVENT
BEGIN:VEVENT
DTSTART;TZID=America/Denver:20260628T090000
DTEND;TZID=America/Denver:20260628T180000
DTSTAMP:20260419T072638
CREATED:20260210T163740Z
LAST-MODIFIED:20260210T163740Z
UID:10003223-1782637200-1782669600@bouldercounty.gov
SUMMARY:Niwot Antique Auction
DESCRIPTION:
URL:https://bouldercounty.gov/event/niwot-antique-auction-17/
LOCATION:Barn A\, 9595 Nelson Road\, Longmont\, CO\, 80501
CATEGORIES:Fairgrounds
GEO:40.155727;-105.127717
X-APPLE-STRUCTURED-LOCATION;VALUE=URI;X-ADDRESS=Barn A 9595 Nelson Road Longmont CO 80501;X-APPLE-RADIUS=500;X-TITLE=9595 Nelson Road:geo:-105.127717,40.155727
END:VEVENT
BEGIN:VEVENT
DTSTART;TZID=America/Denver:20260628T093000
DTEND;TZID=America/Denver:20260628T180000
DTSTAMP:20260419T072638
CREATED:20260302T085500Z
LAST-MODIFIED:20260302T205618Z
UID:10003276-1782639000-1782669600@bouldercounty.gov
SUMMARY:Rocky Mountain Miniature Horse Clinic and Fun Show
DESCRIPTION:
URL:https://bouldercounty.gov/event/rocky-mountain-miniature-horse-clinic-and-fun-show/
LOCATION:Indoor Arena\, 9595 Nelson Road\, Longmont\, CO\, 80501
CATEGORIES:Fairgrounds
ORGANIZER;CN="Mary Lou Elder":MAILTO:mlelder.922@gmail.com
GEO:40.155026;-105.128081
X-APPLE-STRUCTURED-LOCATION;VALUE=URI;X-ADDRESS=Indoor Arena 9595 Nelson Road Longmont CO 80501;X-APPLE-RADIUS=500;X-TITLE=9595 Nelson Road:geo:-105.128081,40.155026
END:VEVENT
END:VCALENDAR