BEGIN:VCALENDAR
VERSION:2.0
PRODID:-//Boulder County - ECPv6.15.17.1//NONSGML v1.0//EN
CALSCALE:GREGORIAN
METHOD:PUBLISH
X-WR-CALNAME:Boulder County
X-ORIGINAL-URL:https://bouldercounty.gov
X-WR-CALDESC:Events for Boulder County
REFRESH-INTERVAL;VALUE=DURATION:PT1H
X-Robots-Tag:noindex
X-PUBLISHED-TTL:PT1H
BEGIN:VTIMEZONE
TZID:America/Denver
BEGIN:DAYLIGHT
TZOFFSETFROM:-0700
TZOFFSETTO:-0600
TZNAME:MDT
DTSTART:20240310T090000
END:DAYLIGHT
BEGIN:STANDARD
TZOFFSETFROM:-0600
TZOFFSETTO:-0700
TZNAME:MST
DTSTART:20241103T080000
END:STANDARD
BEGIN:DAYLIGHT
TZOFFSETFROM:-0700
TZOFFSETTO:-0600
TZNAME:MDT
DTSTART:20250309T090000
END:DAYLIGHT
BEGIN:STANDARD
TZOFFSETFROM:-0600
TZOFFSETTO:-0700
TZNAME:MST
DTSTART:20251102T080000
END:STANDARD
BEGIN:DAYLIGHT
TZOFFSETFROM:-0700
TZOFFSETTO:-0600
TZNAME:MDT
DTSTART:20260308T090000
END:DAYLIGHT
BEGIN:STANDARD
TZOFFSETFROM:-0600
TZOFFSETTO:-0700
TZNAME:MST
DTSTART:20261101T080000
END:STANDARD
END:VTIMEZONE
BEGIN:VEVENT
DTSTART;TZID=America/Denver:20250816T080000
DTEND;TZID=America/Denver:20250816T170000
DTSTAMP:20260419T125759
CREATED:20250902T170711Z
LAST-MODIFIED:20250903T173749Z
UID:10001117-1755331200-1755363600@bouldercounty.gov
SUMMARY:Mile High Agility Dog Agility
DESCRIPTION:
URL:https://bouldercounty.gov/event/mile-high-agility-dog-agility-9/
LOCATION:Indoor Arena\, 9595 Nelson Road\, Longmont\, CO\, 80501
CATEGORIES:Fairgrounds
ORGANIZER;CN="Betty Jo Warriner":MAILTO:bjwarriner@earthlink.net
GEO:40.155026;-105.128081
X-APPLE-STRUCTURED-LOCATION;VALUE=URI;X-ADDRESS=Indoor Arena 9595 Nelson Road Longmont CO 80501;X-APPLE-RADIUS=500;X-TITLE=9595 Nelson Road:geo:-105.128081,40.155026
END:VEVENT
BEGIN:VEVENT
DTSTART;TZID=America/Denver:20250816T090000
DTEND;TZID=America/Denver:20250816T220000
DTSTAMP:20260419T125759
CREATED:20250902T173416Z
LAST-MODIFIED:20250903T174425Z
UID:10001599-1755334800-1755381600@bouldercounty.gov
SUMMARY:True West Productions Barrels Jackpot
DESCRIPTION:
URL:https://bouldercounty.gov/event/true-west-productions-barrels-jackpot-47/
LOCATION:Outdoor Arena\, 9595 Nelson Road\, Longmont\, CO\, 80501
CATEGORIES:Fairgrounds
GEO:40.15675;-105.127464
X-APPLE-STRUCTURED-LOCATION;VALUE=URI;X-ADDRESS=Outdoor Arena 9595 Nelson Road Longmont CO 80501;X-APPLE-RADIUS=500;X-TITLE=9595 Nelson Road:geo:-105.127464,40.15675
END:VEVENT
BEGIN:VEVENT
DTSTART;TZID=America/Denver:20250816T120000
DTEND;TZID=America/Denver:20250816T213000
DTSTAMP:20260419T125759
CREATED:20250902T174136Z
LAST-MODIFIED:20250903T174322Z
UID:10001695-1755345600-1755379800@bouldercounty.gov
SUMMARY:Freewheel Moon Skate
DESCRIPTION:
URL:https://bouldercounty.gov/event/freewheel-moon-skate-2/
LOCATION:Exhibit Building\, 9595 Nelson Road\, Longmont\, CO\, 80501
CATEGORIES:Fairgrounds
ORGANIZER;CN="Mandy Martin":MAILTO:mandy@skatefreewheel.com
GEO:40.155579;-105.129117
X-APPLE-STRUCTURED-LOCATION;VALUE=URI;X-ADDRESS=Exhibit Building 9595 Nelson Road Longmont CO 80501;X-APPLE-RADIUS=500;X-TITLE=9595 Nelson Road:geo:-105.129117,40.155579
END:VEVENT
END:VCALENDAR