BEGIN:VCALENDAR
VERSION:2.0
PRODID:-//Boulder County - ECPv6.15.17.1//NONSGML v1.0//EN
CALSCALE:GREGORIAN
METHOD:PUBLISH
X-ORIGINAL-URL:https://bouldercounty.gov
X-WR-CALDESC:Events for Boulder County
REFRESH-INTERVAL;VALUE=DURATION:PT1H
X-Robots-Tag:noindex
X-PUBLISHED-TTL:PT1H
BEGIN:VTIMEZONE
TZID:America/Denver
BEGIN:DAYLIGHT
TZOFFSETFROM:-0700
TZOFFSETTO:-0600
TZNAME:MDT
DTSTART:20240310T090000
END:DAYLIGHT
BEGIN:STANDARD
TZOFFSETFROM:-0600
TZOFFSETTO:-0700
TZNAME:MST
DTSTART:20241103T080000
END:STANDARD
BEGIN:DAYLIGHT
TZOFFSETFROM:-0700
TZOFFSETTO:-0600
TZNAME:MDT
DTSTART:20250309T090000
END:DAYLIGHT
BEGIN:STANDARD
TZOFFSETFROM:-0600
TZOFFSETTO:-0700
TZNAME:MST
DTSTART:20251102T080000
END:STANDARD
BEGIN:DAYLIGHT
TZOFFSETFROM:-0700
TZOFFSETTO:-0600
TZNAME:MDT
DTSTART:20260308T090000
END:DAYLIGHT
BEGIN:STANDARD
TZOFFSETFROM:-0600
TZOFFSETTO:-0700
TZNAME:MST
DTSTART:20261101T080000
END:STANDARD
END:VTIMEZONE
BEGIN:VEVENT
DTSTART;TZID=America/Denver:20250810T140000
DTEND;TZID=America/Denver:20250810T220000
DTSTAMP:20260419T125916
CREATED:20250902T173724Z
LAST-MODIFIED:20250903T173759Z
UID:10001613-1754834400-1754863200@bouldercounty.gov
SUMMARY:Boulder County Fair
DESCRIPTION:                                                           Welcome to Boulder County FairCelebrating the 156th Boulder County Fair! Come enjoy the carnival\, live entertainment in the Fair Garden\, Kid’s Corral and Petting Zoo and your favorite fair foods\, along with 4-H animal projects\, the Dairy Bar and Grandstand Events like the CPRA Rodeo\, Demo Derby\, Tractor Pull\, and Mexican Rodeo Fiesta \nCARNIVAL HOURS:\nWednesday: 5 – 11pm\nThursday: Noon – 11pm\nFriday: 2pm – 11pm\nSaturday: 2pm – 11pm Saturday is Kid’s Day = Half price carnival wristbands until 4pm\nSunday: 2pm – 10pm \nFor more information and tickets\, go to: http://bouldercountyfair.org
URL:https://bouldercounty.gov/event/boulder-county-fair-9/
LOCATION:CO
CATEGORIES:Fairgrounds
END:VEVENT
END:VCALENDAR