BEGIN:VCALENDAR
VERSION:2.0
PRODID:-//Boulder County - ECPv6.15.17.1//NONSGML v1.0//EN
CALSCALE:GREGORIAN
METHOD:PUBLISH
X-WR-CALNAME:Boulder County
X-ORIGINAL-URL:https://bouldercounty.gov
X-WR-CALDESC:Events for Boulder County
REFRESH-INTERVAL;VALUE=DURATION:PT1H
X-Robots-Tag:noindex
X-PUBLISHED-TTL:PT1H
BEGIN:VTIMEZONE
TZID:America/Denver
BEGIN:DAYLIGHT
TZOFFSETFROM:-0700
TZOFFSETTO:-0600
TZNAME:MDT
DTSTART:20240310T090000
END:DAYLIGHT
BEGIN:STANDARD
TZOFFSETFROM:-0600
TZOFFSETTO:-0700
TZNAME:MST
DTSTART:20241103T080000
END:STANDARD
BEGIN:DAYLIGHT
TZOFFSETFROM:-0700
TZOFFSETTO:-0600
TZNAME:MDT
DTSTART:20250309T090000
END:DAYLIGHT
BEGIN:STANDARD
TZOFFSETFROM:-0600
TZOFFSETTO:-0700
TZNAME:MST
DTSTART:20251102T080000
END:STANDARD
BEGIN:DAYLIGHT
TZOFFSETFROM:-0700
TZOFFSETTO:-0600
TZNAME:MDT
DTSTART:20260308T090000
END:DAYLIGHT
BEGIN:STANDARD
TZOFFSETFROM:-0600
TZOFFSETTO:-0700
TZNAME:MST
DTSTART:20261101T080000
END:STANDARD
END:VTIMEZONE
BEGIN:VEVENT
DTSTART;TZID=America/Denver:20250726T080000
DTEND;TZID=America/Denver:20250726T170000
DTSTAMP:20260419T143528
CREATED:20250902T173424Z
LAST-MODIFIED:20250903T174421Z
UID:10001605-1753516800-1753549200@bouldercounty.gov
SUMMARY:4-H and Open Horse Show
DESCRIPTION:
URL:https://bouldercounty.gov/event/4-h-and-open-horse-show-7/
LOCATION:Indoor Arena\, 9595 Nelson Road\, Longmont\, CO\, 80501
CATEGORIES:Fairgrounds
ORGANIZER;CN="Kelly Thomas":MAILTO:kelly0515@aol.com
GEO:40.155026;-105.128081
X-APPLE-STRUCTURED-LOCATION;VALUE=URI;X-ADDRESS=Indoor Arena 9595 Nelson Road Longmont CO 80501;X-APPLE-RADIUS=500;X-TITLE=9595 Nelson Road:geo:-105.128081,40.155026
END:VEVENT
BEGIN:VEVENT
DTSTART;TZID=America/Denver:20250726T090000
DTEND;TZID=America/Denver:20250726T220000
DTSTAMP:20260419T143528
CREATED:20250902T173409Z
LAST-MODIFIED:20250903T173810Z
UID:10001596-1753520400-1753567200@bouldercounty.gov
SUMMARY:True West Productions Barrels Jackpot
DESCRIPTION:
URL:https://bouldercounty.gov/event/true-west-productions-barrels-jackpot-44/
LOCATION:Outdoor Arena\, 9595 Nelson Road\, Longmont\, CO\, 80501
CATEGORIES:Fairgrounds
GEO:40.15675;-105.127464
X-APPLE-STRUCTURED-LOCATION;VALUE=URI;X-ADDRESS=Outdoor Arena 9595 Nelson Road Longmont CO 80501;X-APPLE-RADIUS=500;X-TITLE=9595 Nelson Road:geo:-105.127464,40.15675
END:VEVENT
BEGIN:VEVENT
DTSTART;TZID=America/Denver:20250726T100000
DTEND;TZID=America/Denver:20250726T170000
DTSTAMP:20260419T143528
CREATED:20250902T172809Z
LAST-MODIFIED:20250903T173807Z
UID:10001418-1753524000-1753549200@bouldercounty.gov
SUMMARY:Antique Clock and Watch Show
DESCRIPTION:
URL:https://bouldercounty.gov/event/antique-clock-and-watch-show/
LOCATION:Barn A\, 9595 Nelson Road\, Longmont\, CO\, 80501
CATEGORIES:Fairgrounds
GEO:40.155727;-105.127717
X-APPLE-STRUCTURED-LOCATION;VALUE=URI;X-ADDRESS=Barn A 9595 Nelson Road Longmont CO 80501;X-APPLE-RADIUS=500;X-TITLE=9595 Nelson Road:geo:-105.127717,40.155727
END:VEVENT
BEGIN:VEVENT
DTSTART;TZID=America/Denver:20250726T140000
DTEND;TZID=America/Denver:20250726T200000
DTSTAMP:20260419T143528
CREATED:20250902T173421Z
LAST-MODIFIED:20250903T174423Z
UID:10001602-1753538400-1753560000@bouldercounty.gov
SUMMARY:Cleto Reyes Boxing Championship
DESCRIPTION:
URL:https://bouldercounty.gov/event/cleto-reyes-boxing-championship/
LOCATION:Exhibit Building\, 9595 Nelson Road\, Longmont\, CO\, 80501
CATEGORIES:Fairgrounds
GEO:40.155579;-105.129117
X-APPLE-STRUCTURED-LOCATION;VALUE=URI;X-ADDRESS=Exhibit Building 9595 Nelson Road Longmont CO 80501;X-APPLE-RADIUS=500;X-TITLE=9595 Nelson Road:geo:-105.129117,40.155579
END:VEVENT
END:VCALENDAR