BEGIN:VCALENDAR
VERSION:2.0
PRODID:-//Boulder County - ECPv6.15.17.1//NONSGML v1.0//EN
CALSCALE:GREGORIAN
METHOD:PUBLISH
X-WR-CALNAME:Boulder County
X-ORIGINAL-URL:https://bouldercounty.gov
X-WR-CALDESC:Events for Boulder County
REFRESH-INTERVAL;VALUE=DURATION:PT1H
X-Robots-Tag:noindex
X-PUBLISHED-TTL:PT1H
BEGIN:VTIMEZONE
TZID:America/Denver
BEGIN:DAYLIGHT
TZOFFSETFROM:-0700
TZOFFSETTO:-0600
TZNAME:MDT
DTSTART:20240310T090000
END:DAYLIGHT
BEGIN:STANDARD
TZOFFSETFROM:-0600
TZOFFSETTO:-0700
TZNAME:MST
DTSTART:20241103T080000
END:STANDARD
BEGIN:DAYLIGHT
TZOFFSETFROM:-0700
TZOFFSETTO:-0600
TZNAME:MDT
DTSTART:20250309T090000
END:DAYLIGHT
BEGIN:STANDARD
TZOFFSETFROM:-0600
TZOFFSETTO:-0700
TZNAME:MST
DTSTART:20251102T080000
END:STANDARD
BEGIN:DAYLIGHT
TZOFFSETFROM:-0700
TZOFFSETTO:-0600
TZNAME:MDT
DTSTART:20260308T090000
END:DAYLIGHT
BEGIN:STANDARD
TZOFFSETFROM:-0600
TZOFFSETTO:-0700
TZNAME:MST
DTSTART:20261101T080000
END:STANDARD
END:VTIMEZONE
BEGIN:VEVENT
DTSTART;TZID=America/Denver:20250621T080000
DTEND;TZID=America/Denver:20250621T160000
DTSTAMP:20260419T160901
CREATED:20250902T172303Z
LAST-MODIFIED:20250903T173636Z
UID:10001271-1750492800-1750521600@bouldercounty.gov
SUMMARY:Native American Art Auction
DESCRIPTION:Native American Art Auction \nSaturday\, 8am-4pm\, auction starts at 10am \nSunday\, 8am-4pm\, auction starts at 11am \n 
URL:https://bouldercounty.gov/event/native-american-art-auction-9/
LOCATION:Barn A\, 9595 Nelson Road\, Longmont\, CO\, 80501
CATEGORIES:Fairgrounds
GEO:40.155727;-105.127717
X-APPLE-STRUCTURED-LOCATION;VALUE=URI;X-ADDRESS=Barn A 9595 Nelson Road Longmont CO 80501;X-APPLE-RADIUS=500;X-TITLE=9595 Nelson Road:geo:-105.127717,40.155727
END:VEVENT
BEGIN:VEVENT
DTSTART;TZID=America/Denver:20250621T080000
DTEND;TZID=America/Denver:20250621T180000
DTSTAMP:20260419T160901
CREATED:20250902T173130Z
LAST-MODIFIED:20250903T173636Z
UID:10001499-1750492800-1750528800@bouldercounty.gov
SUMMARY:Encuentro Carismático 2025
DESCRIPTION:
URL:https://bouldercounty.gov/event/encuentro-carismatico-2025/
LOCATION:Exhibit Building\, 9595 Nelson Road\, Longmont\, CO\, 80501
CATEGORIES:Fairgrounds
GEO:40.155579;-105.129117
X-APPLE-STRUCTURED-LOCATION;VALUE=URI;X-ADDRESS=Exhibit Building 9595 Nelson Road Longmont CO 80501;X-APPLE-RADIUS=500;X-TITLE=9595 Nelson Road:geo:-105.129117,40.155579
END:VEVENT
BEGIN:VEVENT
DTSTART;TZID=America/Denver:20250621T083000
DTEND;TZID=America/Denver:20250621T170000
DTSTAMP:20260419T160901
CREATED:20250902T172135Z
LAST-MODIFIED:20250903T173637Z
UID:10001229-1750494600-1750525200@bouldercounty.gov
SUMMARY:4-H Open Horse Show
DESCRIPTION:
URL:https://bouldercounty.gov/event/4-h-open-horse-show-3/
LOCATION:Indoor Arena\, 9595 Nelson Road\, Longmont\, CO\, 80501
CATEGORIES:Fairgrounds
GEO:40.155026;-105.128081
X-APPLE-STRUCTURED-LOCATION;VALUE=URI;X-ADDRESS=Indoor Arena 9595 Nelson Road Longmont CO 80501;X-APPLE-RADIUS=500;X-TITLE=9595 Nelson Road:geo:-105.128081,40.155026
END:VEVENT
BEGIN:VEVENT
DTSTART;TZID=America/Denver:20250621T090000
DTEND;TZID=America/Denver:20250621T140000
DTSTAMP:20260419T160901
CREATED:20250902T173032Z
LAST-MODIFIED:20250903T173637Z
UID:10001465-1750496400-1750514400@bouldercounty.gov
SUMMARY:Ford Vs Chevy Car Show
DESCRIPTION:
URL:https://bouldercounty.gov/event/ford-vs-chevy-car-show/
LOCATION:Picnic Shelter\, 9595 Nelson Road\, Longmont\, CO\, 80501
CATEGORIES:Fairgrounds
GEO:40.153462;-105.12901
X-APPLE-STRUCTURED-LOCATION;VALUE=URI;X-ADDRESS=Picnic Shelter 9595 Nelson Road Longmont CO 80501;X-APPLE-RADIUS=500;X-TITLE=9595 Nelson Road:geo:-105.12901,40.153462
END:VEVENT
END:VCALENDAR