BEGIN:VCALENDAR
VERSION:2.0
PRODID:-//Boulder County - ECPv6.15.17.1//NONSGML v1.0//EN
CALSCALE:GREGORIAN
METHOD:PUBLISH
X-WR-CALNAME:Boulder County
X-ORIGINAL-URL:https://bouldercounty.gov
X-WR-CALDESC:Events for Boulder County
REFRESH-INTERVAL;VALUE=DURATION:PT1H
X-Robots-Tag:noindex
X-PUBLISHED-TTL:PT1H
BEGIN:VTIMEZONE
TZID:America/Denver
BEGIN:DAYLIGHT
TZOFFSETFROM:-0700
TZOFFSETTO:-0600
TZNAME:MDT
DTSTART:20240310T090000
END:DAYLIGHT
BEGIN:STANDARD
TZOFFSETFROM:-0600
TZOFFSETTO:-0700
TZNAME:MST
DTSTART:20241103T080000
END:STANDARD
BEGIN:DAYLIGHT
TZOFFSETFROM:-0700
TZOFFSETTO:-0600
TZNAME:MDT
DTSTART:20250309T090000
END:DAYLIGHT
BEGIN:STANDARD
TZOFFSETFROM:-0600
TZOFFSETTO:-0700
TZNAME:MST
DTSTART:20251102T080000
END:STANDARD
BEGIN:DAYLIGHT
TZOFFSETFROM:-0700
TZOFFSETTO:-0600
TZNAME:MDT
DTSTART:20260308T090000
END:DAYLIGHT
BEGIN:STANDARD
TZOFFSETFROM:-0600
TZOFFSETTO:-0700
TZNAME:MST
DTSTART:20261101T080000
END:STANDARD
END:VTIMEZONE
BEGIN:VEVENT
DTSTART;TZID=America/Denver:20250613T080000
DTEND;TZID=America/Denver:20250613T170000
DTSTAMP:20260419T161006
CREATED:20250902T172831Z
LAST-MODIFIED:20250903T173630Z
UID:10001425-1749801600-1749834000@bouldercounty.gov
SUMMARY:All Breed Open Horse Show
DESCRIPTION:
URL:https://bouldercounty.gov/event/all-breed-open-horse-show-5/
LOCATION:Indoor Arena\, 9595 Nelson Road\, Longmont\, CO\, 80501
CATEGORIES:Fairgrounds
GEO:40.155026;-105.128081
X-APPLE-STRUCTURED-LOCATION;VALUE=URI;X-ADDRESS=Indoor Arena 9595 Nelson Road Longmont CO 80501;X-APPLE-RADIUS=500;X-TITLE=9595 Nelson Road:geo:-105.128081,40.155026
END:VEVENT
BEGIN:VEVENT
DTSTART;TZID=America/Denver:20250613T100000
DTEND;TZID=America/Denver:20250613T180000
DTSTAMP:20260419T161006
CREATED:20250902T172115Z
LAST-MODIFIED:20250903T173631Z
UID:10001218-1749808800-1749837600@bouldercounty.gov
SUMMARY:Longmont Artists' Guild Art Show and Sale
DESCRIPTION:
URL:https://bouldercounty.gov/event/longmont-artists-guild-art-show-and-sale/
LOCATION:Barn A\, 9595 Nelson Road\, Longmont\, CO\, 80501
CATEGORIES:Fairgrounds
GEO:40.155727;-105.127717
X-APPLE-STRUCTURED-LOCATION;VALUE=URI;X-ADDRESS=Barn A 9595 Nelson Road Longmont CO 80501;X-APPLE-RADIUS=500;X-TITLE=9595 Nelson Road:geo:-105.127717,40.155727
END:VEVENT
BEGIN:VEVENT
DTSTART;TZID=America/Denver:20250613T120000
DTEND;TZID=America/Denver:20250613T213000
DTSTAMP:20260419T161006
CREATED:20250902T173236Z
LAST-MODIFIED:20250903T173631Z
UID:10001535-1749816000-1749850200@bouldercounty.gov
SUMMARY:Freewheel Vibe Skate
DESCRIPTION:
URL:https://bouldercounty.gov/event/freewheel-vibe-skate/
LOCATION:Exhibit Building\, 9595 Nelson Road\, Longmont\, CO\, 80501
CATEGORIES:Fairgrounds
ORGANIZER;CN="Mandy Martin":MAILTO:mandy@skatefreewheel.com
GEO:40.155579;-105.129117
X-APPLE-STRUCTURED-LOCATION;VALUE=URI;X-ADDRESS=Exhibit Building 9595 Nelson Road Longmont CO 80501;X-APPLE-RADIUS=500;X-TITLE=9595 Nelson Road:geo:-105.129117,40.155579
END:VEVENT
END:VCALENDAR