BEGIN:VCALENDAR
VERSION:2.0
PRODID:-//Boulder County - ECPv6.15.17.1//NONSGML v1.0//EN
CALSCALE:GREGORIAN
METHOD:PUBLISH
X-WR-CALNAME:Boulder County
X-ORIGINAL-URL:https://bouldercounty.gov
X-WR-CALDESC:Events for Boulder County
REFRESH-INTERVAL;VALUE=DURATION:PT1H
X-Robots-Tag:noindex
X-PUBLISHED-TTL:PT1H
BEGIN:VTIMEZONE
TZID:America/Denver
BEGIN:DAYLIGHT
TZOFFSETFROM:-0700
TZOFFSETTO:-0600
TZNAME:MDT
DTSTART:20240310T090000
END:DAYLIGHT
BEGIN:STANDARD
TZOFFSETFROM:-0600
TZOFFSETTO:-0700
TZNAME:MST
DTSTART:20241103T080000
END:STANDARD
BEGIN:DAYLIGHT
TZOFFSETFROM:-0700
TZOFFSETTO:-0600
TZNAME:MDT
DTSTART:20250309T090000
END:DAYLIGHT
BEGIN:STANDARD
TZOFFSETFROM:-0600
TZOFFSETTO:-0700
TZNAME:MST
DTSTART:20251102T080000
END:STANDARD
BEGIN:DAYLIGHT
TZOFFSETFROM:-0700
TZOFFSETTO:-0600
TZNAME:MDT
DTSTART:20260308T090000
END:DAYLIGHT
BEGIN:STANDARD
TZOFFSETFROM:-0600
TZOFFSETTO:-0700
TZNAME:MST
DTSTART:20261101T080000
END:STANDARD
END:VTIMEZONE
BEGIN:VEVENT
DTSTART;TZID=America/Denver:20250412T080000
DTEND;TZID=America/Denver:20250412T193000
DTSTAMP:20260419T191622
CREATED:20250902T172830Z
LAST-MODIFIED:20250903T173520Z
UID:10001424-1744444800-1744486200@bouldercounty.gov
SUMMARY:Boulder County Roller Derby Cryptid Catastrophe Tournament
DESCRIPTION:Visit their website for more info:  https://bouldercountyrollerderby.com/upcoming-roller-derby-bouts/
URL:https://bouldercounty.gov/event/boulder-county-roller-derby-cryptid-catastrophe-tournament/
LOCATION:Exhibit Building\, 9595 Nelson Road\, Longmont\, CO\, 80501
CATEGORIES:Fairgrounds
ORGANIZER;CN="Boulder County Roller Derby":MAILTO:boutproduction@bouldercountyrollerderby.com
GEO:40.155579;-105.129117
X-APPLE-STRUCTURED-LOCATION;VALUE=URI;X-ADDRESS=Exhibit Building 9595 Nelson Road Longmont CO 80501;X-APPLE-RADIUS=500;X-TITLE=9595 Nelson Road:geo:-105.129117,40.155579
END:VEVENT
BEGIN:VEVENT
DTSTART;TZID=America/Denver:20250412T090000
DTEND;TZID=America/Denver:20250412T170000
DTSTAMP:20260419T191622
CREATED:20250902T172325Z
LAST-MODIFIED:20250903T173521Z
UID:10001284-1744448400-1744477200@bouldercounty.gov
SUMMARY:Colorado Tartan Day Festival
DESCRIPTION:
URL:https://bouldercounty.gov/event/colorado-tartan-day-festival-3/
LOCATION:Picnic Shelter\, 9595 Nelson Road\, Longmont\, CO\, 80501
CATEGORIES:Fairgrounds
GEO:40.153462;-105.12901
X-APPLE-STRUCTURED-LOCATION;VALUE=URI;X-ADDRESS=Picnic Shelter 9595 Nelson Road Longmont CO 80501;X-APPLE-RADIUS=500;X-TITLE=9595 Nelson Road:geo:-105.12901,40.153462
END:VEVENT
END:VCALENDAR