BEGIN:VCALENDAR
VERSION:2.0
PRODID:-//Boulder County - ECPv6.15.17.1//NONSGML v1.0//EN
CALSCALE:GREGORIAN
METHOD:PUBLISH
X-WR-CALNAME:Boulder County
X-ORIGINAL-URL:https://bouldercounty.gov
X-WR-CALDESC:Events for Boulder County
REFRESH-INTERVAL;VALUE=DURATION:PT1H
X-Robots-Tag:noindex
X-PUBLISHED-TTL:PT1H
BEGIN:VTIMEZONE
TZID:America/Denver
BEGIN:DAYLIGHT
TZOFFSETFROM:-0700
TZOFFSETTO:-0600
TZNAME:MDT
DTSTART:20240310T090000
END:DAYLIGHT
BEGIN:STANDARD
TZOFFSETFROM:-0600
TZOFFSETTO:-0700
TZNAME:MST
DTSTART:20241103T080000
END:STANDARD
BEGIN:DAYLIGHT
TZOFFSETFROM:-0700
TZOFFSETTO:-0600
TZNAME:MDT
DTSTART:20250309T090000
END:DAYLIGHT
BEGIN:STANDARD
TZOFFSETFROM:-0600
TZOFFSETTO:-0700
TZNAME:MST
DTSTART:20251102T080000
END:STANDARD
BEGIN:DAYLIGHT
TZOFFSETFROM:-0700
TZOFFSETTO:-0600
TZNAME:MDT
DTSTART:20260308T090000
END:DAYLIGHT
BEGIN:STANDARD
TZOFFSETFROM:-0600
TZOFFSETTO:-0700
TZNAME:MST
DTSTART:20261101T080000
END:STANDARD
END:VTIMEZONE
BEGIN:VEVENT
DTSTART;TZID=America/Denver:20250308T090000
DTEND;TZID=America/Denver:20250308T170000
DTSTAMP:20260419T205006
CREATED:20250902T172125Z
LAST-MODIFIED:20250903T171011Z
UID:10001226-1741424400-1741453200@bouldercounty.gov
SUMMARY:Front Range Coin Club Coin Show
DESCRIPTION:
URL:https://bouldercounty.gov/event/front-range-coin-club-coin-show-3/
LOCATION:Barn A\, 9595 Nelson Road\, Longmont\, CO\, 80501
CATEGORIES:Fairgrounds
ORGANIZER;CN="Ken Davis":MAILTO:krdavis334@msn.com
GEO:40.155727;-105.127717
X-APPLE-STRUCTURED-LOCATION;VALUE=URI;X-ADDRESS=Barn A 9595 Nelson Road Longmont CO 80501;X-APPLE-RADIUS=500;X-TITLE=9595 Nelson Road:geo:-105.127717,40.155727
END:VEVENT
BEGIN:VEVENT
DTSTART;TZID=America/Denver:20250308T090000
DTEND;TZID=America/Denver:20250308T210000
DTSTAMP:20260419T205006
CREATED:20250902T172422Z
LAST-MODIFIED:20250903T171012Z
UID:10001323-1741424400-1741467600@bouldercounty.gov
SUMMARY:True West Barrels Jackpot
DESCRIPTION:
URL:https://bouldercounty.gov/event/true-west-barrels-jackpot-2/
LOCATION:Indoor Arena\, 9595 Nelson Road\, Longmont\, CO\, 80501
CATEGORIES:Fairgrounds
GEO:40.155026;-105.128081
X-APPLE-STRUCTURED-LOCATION;VALUE=URI;X-ADDRESS=Indoor Arena 9595 Nelson Road Longmont CO 80501;X-APPLE-RADIUS=500;X-TITLE=9595 Nelson Road:geo:-105.128081,40.155026
END:VEVENT
BEGIN:VEVENT
DTSTART;TZID=America/Denver:20250308T103000
DTEND;TZID=America/Denver:20250308T170000
DTSTAMP:20260419T205006
CREATED:20250902T170833Z
LAST-MODIFIED:20250903T171012Z
UID:10001173-1741429800-1741453200@bouldercounty.gov
SUMMARY:4-H Carnival
DESCRIPTION:Join the Fun at the 4-H Carnival!\nIf you’re looking for a fun\, family-friendly event\, join us for this year’s 4-H Carnival! This exciting event will feature games\, creative activities\, a silent auction\, and delicious treats for all ages. From interactive booths hosted by 4-H clubs to opportunities to win prizes\, there’s something for everyone to enjoy. Proceeds from the carnival help support Boulder County 4-H programs and youth development activities. \nDate: Saturday\, March 8\, 2025\nTime: 10:30 a.m. – 5 p.m.\nLocation: Boulder County Fairgrounds Exhibit Building \nAdmission is free\, but tickets for games and activities will be available for purchase at the event. Don’t miss this opportunity to support your local 4-H while having a great time with friends and family! \nFor more information or to get involved\, please visit Boulder County 4-H.
URL:https://bouldercounty.gov/event/4-h-carnival/
LOCATION:Exhibit Building\, 9595 Nelson Road\, Longmont\, CO\, 80501
CATEGORIES:Fairgrounds,Hikes & Events,Parks & Open Space
GEO:40.155579;-105.129117
X-APPLE-STRUCTURED-LOCATION;VALUE=URI;X-ADDRESS=Exhibit Building 9595 Nelson Road Longmont CO 80501;X-APPLE-RADIUS=500;X-TITLE=9595 Nelson Road:geo:-105.129117,40.155579
END:VEVENT
BEGIN:VEVENT
DTSTART;TZID=America/Denver:20250308T103000
DTEND;TZID=America/Denver:20250308T170000
DTSTAMP:20260419T205006
CREATED:20250902T172340Z
LAST-MODIFIED:20250903T171013Z
UID:10001295-1741429800-1741453200@bouldercounty.gov
SUMMARY:4-H Spring Carnival Candyland
DESCRIPTION:
URL:https://bouldercounty.gov/event/4-h-spring-carnival-candyland/
LOCATION:Exhibit Building\, 9595 Nelson Road\, Longmont\, CO\, 80501
CATEGORIES:Fairgrounds
GEO:40.155579;-105.129117
X-APPLE-STRUCTURED-LOCATION;VALUE=URI;X-ADDRESS=Exhibit Building 9595 Nelson Road Longmont CO 80501;X-APPLE-RADIUS=500;X-TITLE=9595 Nelson Road:geo:-105.129117,40.155579
END:VEVENT
END:VCALENDAR