BEGIN:VCALENDAR
VERSION:2.0
PRODID:-//Boulder County - ECPv6.15.17.1//NONSGML v1.0//EN
CALSCALE:GREGORIAN
METHOD:PUBLISH
X-WR-CALNAME:Boulder County
X-ORIGINAL-URL:https://bouldercounty.gov
X-WR-CALDESC:Events for Boulder County
REFRESH-INTERVAL;VALUE=DURATION:PT1H
X-Robots-Tag:noindex
X-PUBLISHED-TTL:PT1H
BEGIN:VTIMEZONE
TZID:America/Denver
BEGIN:DAYLIGHT
TZOFFSETFROM:-0700
TZOFFSETTO:-0600
TZNAME:MDT
DTSTART:20250309T090000
END:DAYLIGHT
BEGIN:STANDARD
TZOFFSETFROM:-0600
TZOFFSETTO:-0700
TZNAME:MST
DTSTART:20251102T080000
END:STANDARD
BEGIN:DAYLIGHT
TZOFFSETFROM:-0700
TZOFFSETTO:-0600
TZNAME:MDT
DTSTART:20260308T090000
END:DAYLIGHT
BEGIN:STANDARD
TZOFFSETFROM:-0600
TZOFFSETTO:-0700
TZNAME:MST
DTSTART:20261101T080000
END:STANDARD
BEGIN:DAYLIGHT
TZOFFSETFROM:-0700
TZOFFSETTO:-0600
TZNAME:MDT
DTSTART:20270314T090000
END:DAYLIGHT
BEGIN:STANDARD
TZOFFSETFROM:-0600
TZOFFSETTO:-0700
TZNAME:MST
DTSTART:20271107T080000
END:STANDARD
END:VTIMEZONE
BEGIN:VEVENT
DTSTART;TZID=America/Denver:20260801T080000
DTEND;TZID=America/Denver:20260801T130000
DTSTAMP:20260419T072354
CREATED:20260311T102321Z
LAST-MODIFIED:20260311T224526Z
UID:10003322-1785571200-1785589200@bouldercounty.gov
SUMMARY:Longmont Farmers Market
DESCRIPTION:Longmont Farmers Market \nSaturdays\, 8am-1pm \nApril 4 – November 21 \nBoulder County Fairgrounds \nLongmont\, CO 80501 \n  \nNo Pets Please! \nOn the fourth Saturday of every month\, we invite local artisans to join the market for the ultimate local shopping experience. Their one-of-a-kind items include everything from artisanal body care products\, to handmade clothing items and accessories\, jewelry makers\, and more. \nLongmont is the home of a lively music scene\, and the farmers market is no exception. From dance=worthy drum circles\, to string quartets and cover bands\, there’s always something delightful to listen to as you shop and eat at the Longmont Farmers Market. \nFor more information\, visit: https://bcfm.org/markets/longmont-farmers-market/ \n  \n 
URL:https://bouldercounty.gov/event/longmont-farmers-market-2/2026-08-01/
LOCATION:North Parking Lot\, 9595 Nelson Rd\, Longmont\, CO\, 80501
CATEGORIES:Fairgrounds
ORGANIZER;CN="Longmont Market Manager":MAILTO:longmont@bcfm.org
GEO:40.1581728;-105.1287096
X-APPLE-STRUCTURED-LOCATION;VALUE=URI;X-ADDRESS=North Parking Lot 9595 Nelson Rd Longmont CO 80501;X-APPLE-RADIUS=500;X-TITLE=9595 Nelson Rd:geo:-105.1287096,40.1581728
END:VEVENT
BEGIN:VEVENT
DTSTART;TZID=America/Denver:20260808T080000
DTEND;TZID=America/Denver:20260808T130000
DTSTAMP:20260419T072354
CREATED:20260311T102321Z
LAST-MODIFIED:20260311T224526Z
UID:10003323-1786176000-1786194000@bouldercounty.gov
SUMMARY:Longmont Farmers Market
DESCRIPTION:Longmont Farmers Market \nSaturdays\, 8am-1pm \nApril 4 – November 21 \nBoulder County Fairgrounds \nLongmont\, CO 80501 \n  \nNo Pets Please! \nOn the fourth Saturday of every month\, we invite local artisans to join the market for the ultimate local shopping experience. Their one-of-a-kind items include everything from artisanal body care products\, to handmade clothing items and accessories\, jewelry makers\, and more. \nLongmont is the home of a lively music scene\, and the farmers market is no exception. From dance=worthy drum circles\, to string quartets and cover bands\, there’s always something delightful to listen to as you shop and eat at the Longmont Farmers Market. \nFor more information\, visit: https://bcfm.org/markets/longmont-farmers-market/ \n  \n 
URL:https://bouldercounty.gov/event/longmont-farmers-market-2/2026-08-08/
LOCATION:North Parking Lot\, 9595 Nelson Rd\, Longmont\, CO\, 80501
CATEGORIES:Fairgrounds
ORGANIZER;CN="Longmont Market Manager":MAILTO:longmont@bcfm.org
GEO:40.1581728;-105.1287096
X-APPLE-STRUCTURED-LOCATION;VALUE=URI;X-ADDRESS=North Parking Lot 9595 Nelson Rd Longmont CO 80501;X-APPLE-RADIUS=500;X-TITLE=9595 Nelson Rd:geo:-105.1287096,40.1581728
END:VEVENT
BEGIN:VEVENT
DTSTART;TZID=America/Denver:20260814T080000
DTEND;TZID=America/Denver:20260814T170000
DTSTAMP:20260419T072354
CREATED:20251119T163502Z
LAST-MODIFIED:20251119T163502Z
UID:10002984-1786694400-1786726800@bouldercounty.gov
SUMMARY:Mile High Dog Agility Trial
DESCRIPTION:
URL:https://bouldercounty.gov/event/mile-high-dog-agility-trial-8/
LOCATION:Indoor Arena\, 9595 Nelson Road\, Longmont\, CO\, 80501
CATEGORIES:Fairgrounds
ORGANIZER;CN="Betty Jo Warriner":MAILTO:bjwarriner@earthlink.net
GEO:40.155026;-105.128081
X-APPLE-STRUCTURED-LOCATION;VALUE=URI;X-ADDRESS=Indoor Arena 9595 Nelson Road Longmont CO 80501;X-APPLE-RADIUS=500;X-TITLE=9595 Nelson Road:geo:-105.128081,40.155026
END:VEVENT
BEGIN:VEVENT
DTSTART;TZID=America/Denver:20260815T080000
DTEND;TZID=America/Denver:20260815T130000
DTSTAMP:20260419T072354
CREATED:20260311T102321Z
LAST-MODIFIED:20260311T224526Z
UID:10003324-1786780800-1786798800@bouldercounty.gov
SUMMARY:Longmont Farmers Market
DESCRIPTION:Longmont Farmers Market \nSaturdays\, 8am-1pm \nApril 4 – November 21 \nBoulder County Fairgrounds \nLongmont\, CO 80501 \n  \nNo Pets Please! \nOn the fourth Saturday of every month\, we invite local artisans to join the market for the ultimate local shopping experience. Their one-of-a-kind items include everything from artisanal body care products\, to handmade clothing items and accessories\, jewelry makers\, and more. \nLongmont is the home of a lively music scene\, and the farmers market is no exception. From dance=worthy drum circles\, to string quartets and cover bands\, there’s always something delightful to listen to as you shop and eat at the Longmont Farmers Market. \nFor more information\, visit: https://bcfm.org/markets/longmont-farmers-market/ \n  \n 
URL:https://bouldercounty.gov/event/longmont-farmers-market-2/2026-08-15/
LOCATION:North Parking Lot\, 9595 Nelson Rd\, Longmont\, CO\, 80501
CATEGORIES:Fairgrounds
ORGANIZER;CN="Longmont Market Manager":MAILTO:longmont@bcfm.org
GEO:40.1581728;-105.1287096
X-APPLE-STRUCTURED-LOCATION;VALUE=URI;X-ADDRESS=North Parking Lot 9595 Nelson Rd Longmont CO 80501;X-APPLE-RADIUS=500;X-TITLE=9595 Nelson Rd:geo:-105.1287096,40.1581728
END:VEVENT
BEGIN:VEVENT
DTSTART;TZID=America/Denver:20260815T080000
DTEND;TZID=America/Denver:20260815T170000
DTSTAMP:20260419T072354
CREATED:20251119T163541Z
LAST-MODIFIED:20251119T163541Z
UID:10002985-1786780800-1786813200@bouldercounty.gov
SUMMARY:Mile High Dog Agility Trial
DESCRIPTION:
URL:https://bouldercounty.gov/event/mile-high-dog-agility-trial-9/
LOCATION:Indoor Arena\, 9595 Nelson Road\, Longmont\, CO\, 80501
CATEGORIES:Fairgrounds
ORGANIZER;CN="Betty Jo Warriner":MAILTO:bjwarriner@earthlink.net
GEO:40.155026;-105.128081
X-APPLE-STRUCTURED-LOCATION;VALUE=URI;X-ADDRESS=Indoor Arena 9595 Nelson Road Longmont CO 80501;X-APPLE-RADIUS=500;X-TITLE=9595 Nelson Road:geo:-105.128081,40.155026
END:VEVENT
BEGIN:VEVENT
DTSTART;TZID=America/Denver:20260816T080000
DTEND;TZID=America/Denver:20260816T170000
DTSTAMP:20260419T072354
CREATED:20251119T163613Z
LAST-MODIFIED:20251119T163613Z
UID:10002986-1786867200-1786899600@bouldercounty.gov
SUMMARY:Mile High Dog Agility Trial
DESCRIPTION:
URL:https://bouldercounty.gov/event/mile-high-dog-agility-trial-10/
LOCATION:Indoor Arena\, 9595 Nelson Road\, Longmont\, CO\, 80501
CATEGORIES:Fairgrounds
ORGANIZER;CN="Betty Jo Warriner":MAILTO:bjwarriner@earthlink.net
GEO:40.155026;-105.128081
X-APPLE-STRUCTURED-LOCATION;VALUE=URI;X-ADDRESS=Indoor Arena 9595 Nelson Road Longmont CO 80501;X-APPLE-RADIUS=500;X-TITLE=9595 Nelson Road:geo:-105.128081,40.155026
END:VEVENT
BEGIN:VEVENT
DTSTART;TZID=America/Denver:20260820T090000
DTEND;TZID=America/Denver:20260820T190000
DTSTAMP:20260419T072354
CREATED:20260108T172342Z
LAST-MODIFIED:20260108T173248Z
UID:10003134-1787216400-1787252400@bouldercounty.gov
SUMMARY:Just Between Friends Huge Kids Sale
DESCRIPTION:
URL:https://bouldercounty.gov/event/just-between-friends-huge-kids-sale-30/
LOCATION:Exhibit Building\, 9595 Nelson Road\, Longmont\, CO\, 80501
CATEGORIES:Fairgrounds
GEO:40.155579;-105.129117
X-APPLE-STRUCTURED-LOCATION;VALUE=URI;X-ADDRESS=Exhibit Building 9595 Nelson Road Longmont CO 80501;X-APPLE-RADIUS=500;X-TITLE=9595 Nelson Road:geo:-105.129117,40.155579
END:VEVENT
BEGIN:VEVENT
DTSTART;TZID=America/Denver:20260821T090000
DTEND;TZID=America/Denver:20260821T190000
DTSTAMP:20260419T072354
CREATED:20260108T172408Z
LAST-MODIFIED:20260108T173354Z
UID:10003135-1787302800-1787338800@bouldercounty.gov
SUMMARY:Just Between Friends Huge Kids Sale
DESCRIPTION:
URL:https://bouldercounty.gov/event/just-between-friends-huge-kids-sale-31/
LOCATION:Exhibit Building\, 9595 Nelson Road\, Longmont\, CO\, 80501
CATEGORIES:Fairgrounds
GEO:40.155579;-105.129117
X-APPLE-STRUCTURED-LOCATION;VALUE=URI;X-ADDRESS=Exhibit Building 9595 Nelson Road Longmont CO 80501;X-APPLE-RADIUS=500;X-TITLE=9595 Nelson Road:geo:-105.129117,40.155579
END:VEVENT
BEGIN:VEVENT
DTSTART;TZID=America/Denver:20260822T080000
DTEND;TZID=America/Denver:20260822T130000
DTSTAMP:20260419T072354
CREATED:20260311T102321Z
LAST-MODIFIED:20260311T224526Z
UID:10003325-1787385600-1787403600@bouldercounty.gov
SUMMARY:Longmont Farmers Market
DESCRIPTION:Longmont Farmers Market \nSaturdays\, 8am-1pm \nApril 4 – November 21 \nBoulder County Fairgrounds \nLongmont\, CO 80501 \n  \nNo Pets Please! \nOn the fourth Saturday of every month\, we invite local artisans to join the market for the ultimate local shopping experience. Their one-of-a-kind items include everything from artisanal body care products\, to handmade clothing items and accessories\, jewelry makers\, and more. \nLongmont is the home of a lively music scene\, and the farmers market is no exception. From dance=worthy drum circles\, to string quartets and cover bands\, there’s always something delightful to listen to as you shop and eat at the Longmont Farmers Market. \nFor more information\, visit: https://bcfm.org/markets/longmont-farmers-market/ \n  \n 
URL:https://bouldercounty.gov/event/longmont-farmers-market-2/2026-08-22/
LOCATION:North Parking Lot\, 9595 Nelson Rd\, Longmont\, CO\, 80501
CATEGORIES:Fairgrounds
ORGANIZER;CN="Longmont Market Manager":MAILTO:longmont@bcfm.org
GEO:40.1581728;-105.1287096
X-APPLE-STRUCTURED-LOCATION;VALUE=URI;X-ADDRESS=North Parking Lot 9595 Nelson Rd Longmont CO 80501;X-APPLE-RADIUS=500;X-TITLE=9595 Nelson Rd:geo:-105.1287096,40.1581728
END:VEVENT
BEGIN:VEVENT
DTSTART;TZID=America/Denver:20260822T080000
DTEND;TZID=America/Denver:20260822T170000
DTSTAMP:20260419T072354
CREATED:20251119T171228Z
LAST-MODIFIED:20251119T171228Z
UID:10002991-1787385600-1787418000@bouldercounty.gov
SUMMARY:All Breed Open Horse Show
DESCRIPTION:
URL:https://bouldercounty.gov/event/all-breed-open-horse-show-14/
LOCATION:CO
CATEGORIES:Fairgrounds
END:VEVENT
BEGIN:VEVENT
DTSTART;TZID=America/Denver:20260822T090000
DTEND;TZID=America/Denver:20260822T190000
DTSTAMP:20260419T072354
CREATED:20260108T174914Z
LAST-MODIFIED:20260108T174914Z
UID:10003138-1787389200-1787425200@bouldercounty.gov
SUMMARY:Just Between Friends Huge Kids Sale
DESCRIPTION:
URL:https://bouldercounty.gov/event/just-between-friends-huge-kids-sale-32/
LOCATION:Exhibit Building\, 9595 Nelson Road\, Longmont\, CO\, 80501
CATEGORIES:Fairgrounds
GEO:40.155579;-105.129117
X-APPLE-STRUCTURED-LOCATION;VALUE=URI;X-ADDRESS=Exhibit Building 9595 Nelson Road Longmont CO 80501;X-APPLE-RADIUS=500;X-TITLE=9595 Nelson Road:geo:-105.129117,40.155579
END:VEVENT
BEGIN:VEVENT
DTSTART;TZID=America/Denver:20260823T080000
DTEND;TZID=America/Denver:20260823T170000
DTSTAMP:20260419T072354
CREATED:20251119T171359Z
LAST-MODIFIED:20251119T171359Z
UID:10002992-1787472000-1787504400@bouldercounty.gov
SUMMARY:All Breed Open Horse Show
DESCRIPTION:
URL:https://bouldercounty.gov/event/all-breed-open-horse-show-15/
LOCATION:CO
CATEGORIES:Fairgrounds
END:VEVENT
BEGIN:VEVENT
DTSTART;TZID=America/Denver:20260823T090000
DTEND;TZID=America/Denver:20260823T140000
DTSTAMP:20260419T072354
CREATED:20260108T174950Z
LAST-MODIFIED:20260108T174950Z
UID:10003139-1787475600-1787493600@bouldercounty.gov
SUMMARY:Just Between Friends Huge Kids Sale
DESCRIPTION:
URL:https://bouldercounty.gov/event/just-between-friends-huge-kids-sale-33/
LOCATION:Exhibit Building\, 9595 Nelson Road\, Longmont\, CO\, 80501
CATEGORIES:Fairgrounds
GEO:40.155579;-105.129117
X-APPLE-STRUCTURED-LOCATION;VALUE=URI;X-ADDRESS=Exhibit Building 9595 Nelson Road Longmont CO 80501;X-APPLE-RADIUS=500;X-TITLE=9595 Nelson Road:geo:-105.129117,40.155579
END:VEVENT
BEGIN:VEVENT
DTSTART;TZID=America/Denver:20260829T080000
DTEND;TZID=America/Denver:20260829T130000
DTSTAMP:20260419T072354
CREATED:20260311T102321Z
LAST-MODIFIED:20260311T224526Z
UID:10003326-1787990400-1788008400@bouldercounty.gov
SUMMARY:Longmont Farmers Market
DESCRIPTION:Longmont Farmers Market \nSaturdays\, 8am-1pm \nApril 4 – November 21 \nBoulder County Fairgrounds \nLongmont\, CO 80501 \n  \nNo Pets Please! \nOn the fourth Saturday of every month\, we invite local artisans to join the market for the ultimate local shopping experience. Their one-of-a-kind items include everything from artisanal body care products\, to handmade clothing items and accessories\, jewelry makers\, and more. \nLongmont is the home of a lively music scene\, and the farmers market is no exception. From dance=worthy drum circles\, to string quartets and cover bands\, there’s always something delightful to listen to as you shop and eat at the Longmont Farmers Market. \nFor more information\, visit: https://bcfm.org/markets/longmont-farmers-market/ \n  \n 
URL:https://bouldercounty.gov/event/longmont-farmers-market-2/2026-08-29/
LOCATION:North Parking Lot\, 9595 Nelson Rd\, Longmont\, CO\, 80501
CATEGORIES:Fairgrounds
ORGANIZER;CN="Longmont Market Manager":MAILTO:longmont@bcfm.org
GEO:40.1581728;-105.1287096
X-APPLE-STRUCTURED-LOCATION;VALUE=URI;X-ADDRESS=North Parking Lot 9595 Nelson Rd Longmont CO 80501;X-APPLE-RADIUS=500;X-TITLE=9595 Nelson Rd:geo:-105.1287096,40.1581728
END:VEVENT
END:VCALENDAR