BEGIN:VCALENDAR
VERSION:2.0
PRODID:-//Boulder County - ECPv6.15.17.1//NONSGML v1.0//EN
CALSCALE:GREGORIAN
METHOD:PUBLISH
X-ORIGINAL-URL:https://bouldercounty.gov
X-WR-CALDESC:Events for Boulder County
REFRESH-INTERVAL;VALUE=DURATION:PT1H
X-Robots-Tag:noindex
X-PUBLISHED-TTL:PT1H
BEGIN:VTIMEZONE
TZID:America/Denver
BEGIN:DAYLIGHT
TZOFFSETFROM:-0700
TZOFFSETTO:-0600
TZNAME:MDT
DTSTART:20240310T090000
END:DAYLIGHT
BEGIN:STANDARD
TZOFFSETFROM:-0600
TZOFFSETTO:-0700
TZNAME:MST
DTSTART:20241103T080000
END:STANDARD
BEGIN:DAYLIGHT
TZOFFSETFROM:-0700
TZOFFSETTO:-0600
TZNAME:MDT
DTSTART:20250309T090000
END:DAYLIGHT
BEGIN:STANDARD
TZOFFSETFROM:-0600
TZOFFSETTO:-0700
TZNAME:MST
DTSTART:20251102T080000
END:STANDARD
BEGIN:DAYLIGHT
TZOFFSETFROM:-0700
TZOFFSETTO:-0600
TZNAME:MDT
DTSTART:20260308T090000
END:DAYLIGHT
BEGIN:STANDARD
TZOFFSETFROM:-0600
TZOFFSETTO:-0700
TZNAME:MST
DTSTART:20261101T080000
END:STANDARD
END:VTIMEZONE
BEGIN:VEVENT
DTSTART;TZID=America/Denver:20251101T080000
DTEND;TZID=America/Denver:20251101T130000
DTSTAMP:20260419T072633
CREATED:20250903T151745Z
LAST-MODIFIED:20250903T190924Z
UID:10002066-1761984000-1762002000@bouldercounty.gov
SUMMARY:Longmont Farmers Market
DESCRIPTION:Longmont Farmers Market \nSaturdays 8AM to 1PM\nApril 5 – November 15\, 2025\nBoulder County Fairgrounds\nLongmont\, CO 80501 \nNo Pets Please! \nOn the fourth Saturday of every month\, we invite local artisans to join the market for the ultimate local shopping experience. Their one-of-a-kind items include everything from artisanal body care products\, to handmade clothing items and accessories\, jewelry makers\, and more. \nLongmont is the home of a lively music scene\, and the farmers market is no exception. From dance-worthy drum circles\, to string quartets and cover bands\, there’s always something delightful to listen to as you shop and eat at the Longmont Farmers Market.
URL:https://bouldercounty.gov/event/longmont-farmers-market/2025-11-01/
LOCATION:North Parking Lot\, 9595 Nelson Rd\, Longmont\, CO\, 80501
CATEGORIES:Fairgrounds
ORGANIZER;CN="Longmont Market Manager":MAILTO:longmont@bcfm.org
GEO:40.1581728;-105.1287096
X-APPLE-STRUCTURED-LOCATION;VALUE=URI;X-ADDRESS=North Parking Lot 9595 Nelson Rd Longmont CO 80501;X-APPLE-RADIUS=500;X-TITLE=9595 Nelson Rd:geo:-105.1287096,40.1581728
END:VEVENT
BEGIN:VEVENT
DTSTART;TZID=America/Denver:20251101T080000
DTEND;TZID=America/Denver:20251101T183000
DTSTAMP:20260419T072633
CREATED:20251009T125936Z
LAST-MODIFIED:20251009T125936Z
UID:10002572-1761984000-1762021800@bouldercounty.gov
SUMMARY:FKC Dog Agility Trials
DESCRIPTION:
URL:https://bouldercounty.gov/event/fkc-dog-agility-trials-2/
LOCATION:Indoor Arena\, 9595 Nelson Road\, Longmont\, CO\, 80501
CATEGORIES:Fairgrounds
ORGANIZER;CN="Liz Johnson":MAILTO:cinnabarcockers@yahoo.com
GEO:40.155026;-105.128081
X-APPLE-STRUCTURED-LOCATION;VALUE=URI;X-ADDRESS=Indoor Arena 9595 Nelson Road Longmont CO 80501;X-APPLE-RADIUS=500;X-TITLE=9595 Nelson Road:geo:-105.128081,40.155026
END:VEVENT
BEGIN:VEVENT
DTSTART;TZID=America/Denver:20251101T100000
DTEND;TZID=America/Denver:20251101T170000
DTSTAMP:20260419T072633
CREATED:20250917T111650Z
LAST-MODIFIED:20250917T231813Z
UID:10002397-1761991200-1762016400@bouldercounty.gov
SUMMARY:East Boulder County Artists Autumn Artist Market
DESCRIPTION:
URL:https://bouldercounty.gov/event/east-boulder-county-artists-autumn-artist-market/
LOCATION:Barn A\, 9595 Nelson Road\, Longmont\, CO\, 80501
CATEGORIES:Fairgrounds
GEO:40.155727;-105.127717
X-APPLE-STRUCTURED-LOCATION;VALUE=URI;X-ADDRESS=Barn A 9595 Nelson Road Longmont CO 80501;X-APPLE-RADIUS=500;X-TITLE=9595 Nelson Road:geo:-105.127717,40.155727
END:VEVENT
BEGIN:VEVENT
DTSTART;TZID=America/Denver:20251101T100000
DTEND;TZID=America/Denver:20251101T180000
DTSTAMP:20260419T072633
CREATED:20250902T174152Z
LAST-MODIFIED:20250903T173803Z
UID:10001702-1761991200-1762020000@bouldercounty.gov
SUMMARY:Handweavers Guild of Boulder Fiber Arts Show and Sale
DESCRIPTION:
URL:https://bouldercounty.gov/event/handweavers-guild-of-boulder-fiber-arts-show-and-sale-4/
LOCATION:Exhibit Building\, 9595 Nelson Road\, Longmont\, CO\, 80501
CATEGORIES:Fairgrounds
GEO:40.155579;-105.129117
X-APPLE-STRUCTURED-LOCATION;VALUE=URI;X-ADDRESS=Exhibit Building 9595 Nelson Road Longmont CO 80501;X-APPLE-RADIUS=500;X-TITLE=9595 Nelson Road:geo:-105.129117,40.155579
END:VEVENT
BEGIN:VEVENT
DTSTART;TZID=America/Denver:20251102T080000
DTEND;TZID=America/Denver:20251102T183000
DTSTAMP:20260419T072633
CREATED:20251009T130045Z
LAST-MODIFIED:20251009T130045Z
UID:10002573-1762070400-1762108200@bouldercounty.gov
SUMMARY:FKC Dog Agility Trials
DESCRIPTION:
URL:https://bouldercounty.gov/event/fkc-dog-agility-trials-3/
LOCATION:Indoor Arena\, 9595 Nelson Road\, Longmont\, CO\, 80501
CATEGORIES:Fairgrounds
ORGANIZER;CN="Liz Johnson":MAILTO:cinnabarcockers@yahoo.com
GEO:40.155026;-105.128081
X-APPLE-STRUCTURED-LOCATION;VALUE=URI;X-ADDRESS=Indoor Arena 9595 Nelson Road Longmont CO 80501;X-APPLE-RADIUS=500;X-TITLE=9595 Nelson Road:geo:-105.128081,40.155026
END:VEVENT
BEGIN:VEVENT
DTSTART;TZID=America/Denver:20251102T100000
DTEND;TZID=America/Denver:20251102T150000
DTSTAMP:20260419T072633
CREATED:20250902T174153Z
LAST-MODIFIED:20250903T173803Z
UID:10001703-1762077600-1762095600@bouldercounty.gov
SUMMARY:Handweavers Guild of Boulder Fiber Arts Show and Sale
DESCRIPTION:
URL:https://bouldercounty.gov/event/handweavers-guild-of-boulder-fiber-arts-show-and-sale-5/
LOCATION:Exhibit Building\, 9595 Nelson Road\, Longmont\, CO\, 80501
CATEGORIES:Fairgrounds
GEO:40.155579;-105.129117
X-APPLE-STRUCTURED-LOCATION;VALUE=URI;X-ADDRESS=Exhibit Building 9595 Nelson Road Longmont CO 80501;X-APPLE-RADIUS=500;X-TITLE=9595 Nelson Road:geo:-105.129117,40.155579
END:VEVENT
BEGIN:VEVENT
DTSTART;TZID=America/Denver:20251102T100000
DTEND;TZID=America/Denver:20251102T160000
DTSTAMP:20260419T072633
CREATED:20250917T111832Z
LAST-MODIFIED:20250917T231902Z
UID:10002398-1762077600-1762099200@bouldercounty.gov
SUMMARY:East Boulder County Artists Autumn Artist Market
DESCRIPTION:
URL:https://bouldercounty.gov/event/east-boulder-county-artists-autumn-artist-market-2/
LOCATION:Barn A\, 9595 Nelson Road\, Longmont\, CO\, 80501
CATEGORIES:Fairgrounds
GEO:40.155727;-105.127717
X-APPLE-STRUCTURED-LOCATION;VALUE=URI;X-ADDRESS=Barn A 9595 Nelson Road Longmont CO 80501;X-APPLE-RADIUS=500;X-TITLE=9595 Nelson Road:geo:-105.127717,40.155727
END:VEVENT
BEGIN:VEVENT
DTSTART;TZID=America/Denver:20251106T100000
DTEND;TZID=America/Denver:20251106T200000
DTSTAMP:20260419T072633
CREATED:20251001T081630Z
LAST-MODIFIED:20251001T201902Z
UID:10002499-1762423200-1762459200@bouldercounty.gov
SUMMARY:Boulder Potters Guild Fall Pottery Show and Sale
DESCRIPTION:
URL:https://bouldercounty.gov/event/boulder-potters-guild-fall-pottery-show-and-sale/
LOCATION:Exhibit Building\, 9595 Nelson Road\, Longmont\, CO\, 80501
CATEGORIES:Fairgrounds
GEO:40.155579;-105.129117
X-APPLE-STRUCTURED-LOCATION;VALUE=URI;X-ADDRESS=Exhibit Building 9595 Nelson Road Longmont CO 80501;X-APPLE-RADIUS=500;X-TITLE=9595 Nelson Road:geo:-105.129117,40.155579
END:VEVENT
BEGIN:VEVENT
DTSTART;TZID=America/Denver:20251107T093000
DTEND;TZID=America/Denver:20251107T170000
DTSTAMP:20260419T072633
CREATED:20250917T105556Z
LAST-MODIFIED:20250917T225819Z
UID:10002389-1762507800-1762534800@bouldercounty.gov
SUMMARY:NADAC Dog Agility Trial
DESCRIPTION:
URL:https://bouldercounty.gov/event/nadac-dog-agility-trial/
LOCATION:Indoor Arena\, 9595 Nelson Road\, Longmont\, CO\, 80501
CATEGORIES:Fairgrounds
GEO:40.155026;-105.128081
X-APPLE-STRUCTURED-LOCATION;VALUE=URI;X-ADDRESS=Indoor Arena 9595 Nelson Road Longmont CO 80501;X-APPLE-RADIUS=500;X-TITLE=9595 Nelson Road:geo:-105.128081,40.155026
END:VEVENT
BEGIN:VEVENT
DTSTART;TZID=America/Denver:20251107T100000
DTEND;TZID=America/Denver:20251107T200000
DTSTAMP:20260419T072633
CREATED:20251001T081949Z
LAST-MODIFIED:20251001T202143Z
UID:10002500-1762509600-1762545600@bouldercounty.gov
SUMMARY:Boulder Potters Guild Fall Pottery Show and Sale
DESCRIPTION:
URL:https://bouldercounty.gov/event/boulder-potters-guild-fall-pottery-show-and-sale-2/
LOCATION:Exhibit Building\, 9595 Nelson Road\, Longmont\, CO\, 80501
CATEGORIES:Fairgrounds
GEO:40.155579;-105.129117
X-APPLE-STRUCTURED-LOCATION;VALUE=URI;X-ADDRESS=Exhibit Building 9595 Nelson Road Longmont CO 80501;X-APPLE-RADIUS=500;X-TITLE=9595 Nelson Road:geo:-105.129117,40.155579
END:VEVENT
BEGIN:VEVENT
DTSTART;TZID=America/Denver:20251108T080000
DTEND;TZID=America/Denver:20251108T130000
DTSTAMP:20260419T072633
CREATED:20250903T151745Z
LAST-MODIFIED:20250903T190924Z
UID:10002067-1762588800-1762606800@bouldercounty.gov
SUMMARY:Longmont Farmers Market
DESCRIPTION:Longmont Farmers Market \nSaturdays 8AM to 1PM\nApril 5 – November 15\, 2025\nBoulder County Fairgrounds\nLongmont\, CO 80501 \nNo Pets Please! \nOn the fourth Saturday of every month\, we invite local artisans to join the market for the ultimate local shopping experience. Their one-of-a-kind items include everything from artisanal body care products\, to handmade clothing items and accessories\, jewelry makers\, and more. \nLongmont is the home of a lively music scene\, and the farmers market is no exception. From dance-worthy drum circles\, to string quartets and cover bands\, there’s always something delightful to listen to as you shop and eat at the Longmont Farmers Market.
URL:https://bouldercounty.gov/event/longmont-farmers-market/2025-11-08/
LOCATION:North Parking Lot\, 9595 Nelson Rd\, Longmont\, CO\, 80501
CATEGORIES:Fairgrounds
ORGANIZER;CN="Longmont Market Manager":MAILTO:longmont@bcfm.org
GEO:40.1581728;-105.1287096
X-APPLE-STRUCTURED-LOCATION;VALUE=URI;X-ADDRESS=North Parking Lot 9595 Nelson Rd Longmont CO 80501;X-APPLE-RADIUS=500;X-TITLE=9595 Nelson Rd:geo:-105.1287096,40.1581728
END:VEVENT
BEGIN:VEVENT
DTSTART;TZID=America/Denver:20251108T090000
DTEND;TZID=America/Denver:20251108T180000
DTSTAMP:20260419T072633
CREATED:20251001T082200Z
LAST-MODIFIED:20251001T202233Z
UID:10002501-1762592400-1762624800@bouldercounty.gov
SUMMARY:Boulder Potters Guild Fall Pottery Show and Sale
DESCRIPTION:
URL:https://bouldercounty.gov/event/boulder-potters-guild-fall-pottery-show-and-sale-3/
LOCATION:Exhibit Building\, 9595 Nelson Road\, Longmont\, CO\, 80501
CATEGORIES:Fairgrounds
GEO:40.155579;-105.129117
X-APPLE-STRUCTURED-LOCATION;VALUE=URI;X-ADDRESS=Exhibit Building 9595 Nelson Road Longmont CO 80501;X-APPLE-RADIUS=500;X-TITLE=9595 Nelson Road:geo:-105.129117,40.155579
END:VEVENT
BEGIN:VEVENT
DTSTART;TZID=America/Denver:20251108T093000
DTEND;TZID=America/Denver:20251108T170000
DTSTAMP:20260419T072633
CREATED:20250917T105853Z
LAST-MODIFIED:20250917T225928Z
UID:10002390-1762594200-1762621200@bouldercounty.gov
SUMMARY:NADAC Dog Agility Trial
DESCRIPTION:
URL:https://bouldercounty.gov/event/nadac-dog-agility-trial-2/
LOCATION:Indoor Arena\, 9595 Nelson Road\, Longmont\, CO\, 80501
CATEGORIES:Fairgrounds
GEO:40.155026;-105.128081
X-APPLE-STRUCTURED-LOCATION;VALUE=URI;X-ADDRESS=Indoor Arena 9595 Nelson Road Longmont CO 80501;X-APPLE-RADIUS=500;X-TITLE=9595 Nelson Road:geo:-105.128081,40.155026
END:VEVENT
BEGIN:VEVENT
DTSTART;TZID=America/Denver:20251109T093000
DTEND;TZID=America/Denver:20251109T170000
DTSTAMP:20260419T072633
CREATED:20250917T105945Z
LAST-MODIFIED:20250917T230003Z
UID:10002391-1762680600-1762707600@bouldercounty.gov
SUMMARY:NADAC Dog Agility Trial
DESCRIPTION:
URL:https://bouldercounty.gov/event/nadac-dog-agility-trial-3/
LOCATION:Indoor Arena\, 9595 Nelson Road\, Longmont\, CO\, 80501
CATEGORIES:Fairgrounds
GEO:40.155026;-105.128081
X-APPLE-STRUCTURED-LOCATION;VALUE=URI;X-ADDRESS=Indoor Arena 9595 Nelson Road Longmont CO 80501;X-APPLE-RADIUS=500;X-TITLE=9595 Nelson Road:geo:-105.128081,40.155026
END:VEVENT
BEGIN:VEVENT
DTSTART;TZID=America/Denver:20251109T100000
DTEND;TZID=America/Denver:20251109T160000
DTSTAMP:20260419T072633
CREATED:20251001T082249Z
LAST-MODIFIED:20251001T202325Z
UID:10002502-1762682400-1762704000@bouldercounty.gov
SUMMARY:Boulder Potters Guild Fall Pottery Show and Sale
DESCRIPTION:
URL:https://bouldercounty.gov/event/boulder-potters-guild-fall-pottery-show-and-sale-4/
LOCATION:Exhibit Building\, 9595 Nelson Road\, Longmont\, CO\, 80501
CATEGORIES:Fairgrounds
GEO:40.155579;-105.129117
X-APPLE-STRUCTURED-LOCATION;VALUE=URI;X-ADDRESS=Exhibit Building 9595 Nelson Road Longmont CO 80501;X-APPLE-RADIUS=500;X-TITLE=9595 Nelson Road:geo:-105.129117,40.155579
END:VEVENT
BEGIN:VEVENT
DTSTART;TZID=America/Denver:20251109T120000
DTEND;TZID=America/Denver:20251109T150000
DTSTAMP:20260419T072633
CREATED:20251009T125251Z
LAST-MODIFIED:20251009T125251Z
UID:10002570-1762689600-1762700400@bouldercounty.gov
SUMMARY:Holiday Bazaar
DESCRIPTION:
URL:https://bouldercounty.gov/event/holiday-bazaar/
LOCATION:Barn A\, 9595 Nelson Road\, Longmont\, CO\, 80501
CATEGORIES:Fairgrounds
GEO:40.155727;-105.127717
X-APPLE-STRUCTURED-LOCATION;VALUE=URI;X-ADDRESS=Barn A 9595 Nelson Road Longmont CO 80501;X-APPLE-RADIUS=500;X-TITLE=9595 Nelson Road:geo:-105.127717,40.155727
END:VEVENT
BEGIN:VEVENT
DTSTART;TZID=America/Denver:20251115T080000
DTEND;TZID=America/Denver:20251115T130000
DTSTAMP:20260419T072633
CREATED:20250903T151745Z
LAST-MODIFIED:20250903T190924Z
UID:10002068-1763193600-1763211600@bouldercounty.gov
SUMMARY:Longmont Farmers Market
DESCRIPTION:Longmont Farmers Market \nSaturdays 8AM to 1PM\nApril 5 – November 15\, 2025\nBoulder County Fairgrounds\nLongmont\, CO 80501 \nNo Pets Please! \nOn the fourth Saturday of every month\, we invite local artisans to join the market for the ultimate local shopping experience. Their one-of-a-kind items include everything from artisanal body care products\, to handmade clothing items and accessories\, jewelry makers\, and more. \nLongmont is the home of a lively music scene\, and the farmers market is no exception. From dance-worthy drum circles\, to string quartets and cover bands\, there’s always something delightful to listen to as you shop and eat at the Longmont Farmers Market.
URL:https://bouldercounty.gov/event/longmont-farmers-market/2025-11-15/
LOCATION:North Parking Lot\, 9595 Nelson Rd\, Longmont\, CO\, 80501
CATEGORIES:Fairgrounds
ORGANIZER;CN="Longmont Market Manager":MAILTO:longmont@bcfm.org
GEO:40.1581728;-105.1287096
X-APPLE-STRUCTURED-LOCATION;VALUE=URI;X-ADDRESS=North Parking Lot 9595 Nelson Rd Longmont CO 80501;X-APPLE-RADIUS=500;X-TITLE=9595 Nelson Rd:geo:-105.1287096,40.1581728
END:VEVENT
BEGIN:VEVENT
DTSTART;TZID=America/Denver:20251115T080000
DTEND;TZID=America/Denver:20251115T170000
DTSTAMP:20260419T072633
CREATED:20250917T110320Z
LAST-MODIFIED:20250917T230415Z
UID:10002395-1763193600-1763226000@bouldercounty.gov
SUMMARY:CPE Agility Trial
DESCRIPTION:
URL:https://bouldercounty.gov/event/cpe-agility-trial/
LOCATION:Indoor Arena\, 9595 Nelson Road\, Longmont\, CO\, 80501
CATEGORIES:Fairgrounds
GEO:40.155026;-105.128081
X-APPLE-STRUCTURED-LOCATION;VALUE=URI;X-ADDRESS=Indoor Arena 9595 Nelson Road Longmont CO 80501;X-APPLE-RADIUS=500;X-TITLE=9595 Nelson Road:geo:-105.128081,40.155026
END:VEVENT
BEGIN:VEVENT
DTSTART;TZID=America/Denver:20251115T090000
DTEND;TZID=America/Denver:20251115T160000
DTSTAMP:20260419T072633
CREATED:20250902T174303Z
LAST-MODIFIED:20250903T174328Z
UID:10001741-1763197200-1763222400@bouldercounty.gov
SUMMARY:Mollie McGee's 44th Annual Holiday Craft Market
DESCRIPTION:
URL:https://bouldercounty.gov/event/mollie-mcgees-44th-annual-holiday-craft-market/
LOCATION:Exhibit Building\, 9595 Nelson Road\, Longmont\, CO\, 80501
CATEGORIES:Fairgrounds
GEO:40.155579;-105.129117
X-APPLE-STRUCTURED-LOCATION;VALUE=URI;X-ADDRESS=Exhibit Building 9595 Nelson Road Longmont CO 80501;X-APPLE-RADIUS=500;X-TITLE=9595 Nelson Road:geo:-105.129117,40.155579
END:VEVENT
BEGIN:VEVENT
DTSTART;TZID=America/Denver:20251116T080000
DTEND;TZID=America/Denver:20251116T170000
DTSTAMP:20260419T072633
CREATED:20250917T110429Z
LAST-MODIFIED:20250917T230447Z
UID:10002396-1763280000-1763312400@bouldercounty.gov
SUMMARY:CPE Agility Trial
DESCRIPTION:
URL:https://bouldercounty.gov/event/cpe-agility-trial-2/
LOCATION:Indoor Arena\, 9595 Nelson Road\, Longmont\, CO\, 80501
CATEGORIES:Fairgrounds
GEO:40.155026;-105.128081
X-APPLE-STRUCTURED-LOCATION;VALUE=URI;X-ADDRESS=Indoor Arena 9595 Nelson Road Longmont CO 80501;X-APPLE-RADIUS=500;X-TITLE=9595 Nelson Road:geo:-105.128081,40.155026
END:VEVENT
BEGIN:VEVENT
DTSTART;TZID=America/Denver:20251116T090000
DTEND;TZID=America/Denver:20251116T180000
DTSTAMP:20260419T072633
CREATED:20250902T172320Z
LAST-MODIFIED:20250903T174434Z
UID:10001281-1763283600-1763316000@bouldercounty.gov
SUMMARY:Niwot Antique Auction
DESCRIPTION:Niwot Auction is your full service auction company; consignment\, antique\, estate\, farm\, real estate and on-site auctions. Contact us with all your auction needs.\nFOR MORE INFORMATION\, GO TO:  http://niwotauction.com \n 
URL:https://bouldercounty.gov/event/niwot-antique-auction-15/
LOCATION:Barn A\, 9595 Nelson Road\, Longmont\, CO\, 80501
CATEGORIES:Fairgrounds
GEO:40.155727;-105.127717
X-APPLE-STRUCTURED-LOCATION;VALUE=URI;X-ADDRESS=Barn A 9595 Nelson Road Longmont CO 80501;X-APPLE-RADIUS=500;X-TITLE=9595 Nelson Road:geo:-105.127717,40.155727
END:VEVENT
BEGIN:VEVENT
DTSTART;TZID=America/Denver:20251116T100000
DTEND;TZID=America/Denver:20251116T160000
DTSTAMP:20260419T072633
CREATED:20250902T174311Z
LAST-MODIFIED:20250903T173805Z
UID:10001742-1763287200-1763308800@bouldercounty.gov
SUMMARY:Mollie McGee's 44th Annual Holiday Craft Market
DESCRIPTION:
URL:https://bouldercounty.gov/event/mollie-mcgees-44th-annual-holiday-craft-market-2/
LOCATION:Exhibit Building\, 9595 Nelson Road\, Longmont\, CO\, 80501
CATEGORIES:Fairgrounds
GEO:40.155579;-105.129117
X-APPLE-STRUCTURED-LOCATION;VALUE=URI;X-ADDRESS=Exhibit Building 9595 Nelson Road Longmont CO 80501;X-APPLE-RADIUS=500;X-TITLE=9595 Nelson Road:geo:-105.129117,40.155579
END:VEVENT
END:VCALENDAR