BEGIN:VCALENDAR
VERSION:2.0
PRODID:-//Boulder County - ECPv6.15.17.1//NONSGML v1.0//EN
CALSCALE:GREGORIAN
METHOD:PUBLISH
X-WR-CALNAME:Boulder County
X-ORIGINAL-URL:https://bouldercounty.gov
X-WR-CALDESC:Events for Boulder County
REFRESH-INTERVAL;VALUE=DURATION:PT1H
X-Robots-Tag:noindex
X-PUBLISHED-TTL:PT1H
BEGIN:VTIMEZONE
TZID:America/Denver
BEGIN:DAYLIGHT
TZOFFSETFROM:-0700
TZOFFSETTO:-0600
TZNAME:MDT
DTSTART:20240310T090000
END:DAYLIGHT
BEGIN:STANDARD
TZOFFSETFROM:-0600
TZOFFSETTO:-0700
TZNAME:MST
DTSTART:20241103T080000
END:STANDARD
BEGIN:DAYLIGHT
TZOFFSETFROM:-0700
TZOFFSETTO:-0600
TZNAME:MDT
DTSTART:20250309T090000
END:DAYLIGHT
BEGIN:STANDARD
TZOFFSETFROM:-0600
TZOFFSETTO:-0700
TZNAME:MST
DTSTART:20251102T080000
END:STANDARD
BEGIN:DAYLIGHT
TZOFFSETFROM:-0700
TZOFFSETTO:-0600
TZNAME:MDT
DTSTART:20260308T090000
END:DAYLIGHT
BEGIN:STANDARD
TZOFFSETFROM:-0600
TZOFFSETTO:-0700
TZNAME:MST
DTSTART:20261101T080000
END:STANDARD
END:VTIMEZONE
BEGIN:VEVENT
DTSTART;TZID=America/Denver:20250905T100000
DTEND;TZID=America/Denver:20250905T210000
DTSTAMP:20260419T095910
CREATED:20250902T174051Z
LAST-MODIFIED:20250903T173811Z
UID:10001670-1757066400-1757106000@bouldercounty.gov
SUMMARY:Mountain and Plains Appaloosa Horse Club Colorado Colors Fall Finale Horse Show
DESCRIPTION:
URL:https://bouldercounty.gov/event/mountain-and-plains-appaloosa-horse-club-colorado-colors-fall-finale-horse-show/
LOCATION:Indoor Arena\, 9595 Nelson Road\, Longmont\, CO\, 80501
CATEGORIES:Fairgrounds
GEO:40.155026;-105.128081
X-APPLE-STRUCTURED-LOCATION;VALUE=URI;X-ADDRESS=Indoor Arena 9595 Nelson Road Longmont CO 80501;X-APPLE-RADIUS=500;X-TITLE=9595 Nelson Road:geo:-105.128081,40.155026
END:VEVENT
BEGIN:VEVENT
DTSTART;TZID=America/Denver:20250906T080000
DTEND;TZID=America/Denver:20250906T130000
DTSTAMP:20260419T095910
CREATED:20250903T151745Z
LAST-MODIFIED:20250903T190924Z
UID:10002058-1757145600-1757163600@bouldercounty.gov
SUMMARY:Longmont Farmers Market
DESCRIPTION:Longmont Farmers Market \nSaturdays 8AM to 1PM\nApril 5 – November 15\, 2025\nBoulder County Fairgrounds\nLongmont\, CO 80501 \nNo Pets Please! \nOn the fourth Saturday of every month\, we invite local artisans to join the market for the ultimate local shopping experience. Their one-of-a-kind items include everything from artisanal body care products\, to handmade clothing items and accessories\, jewelry makers\, and more. \nLongmont is the home of a lively music scene\, and the farmers market is no exception. From dance-worthy drum circles\, to string quartets and cover bands\, there’s always something delightful to listen to as you shop and eat at the Longmont Farmers Market.
URL:https://bouldercounty.gov/event/longmont-farmers-market/2025-09-06/
LOCATION:North Parking Lot\, 9595 Nelson Rd\, Longmont\, CO\, 80501
CATEGORIES:Fairgrounds
ORGANIZER;CN="Longmont Market Manager":MAILTO:longmont@bcfm.org
GEO:40.1581728;-105.1287096
X-APPLE-STRUCTURED-LOCATION;VALUE=URI;X-ADDRESS=North Parking Lot 9595 Nelson Rd Longmont CO 80501;X-APPLE-RADIUS=500;X-TITLE=9595 Nelson Rd:geo:-105.1287096,40.1581728
END:VEVENT
BEGIN:VEVENT
DTSTART;TZID=America/Denver:20250906T080000
DTEND;TZID=America/Denver:20250906T210000
DTSTAMP:20260419T095910
CREATED:20250902T174052Z
LAST-MODIFIED:20250903T173812Z
UID:10001671-1757145600-1757192400@bouldercounty.gov
SUMMARY:Mountain and Plains Appaloosa Horse Club Colorado Colors Fall Finale Horse Show
DESCRIPTION:
URL:https://bouldercounty.gov/event/mountain-and-plains-appaloosa-horse-club-colorado-colors-fall-finale-horse-show-2/
LOCATION:Indoor Arena\, 9595 Nelson Road\, Longmont\, CO\, 80501
CATEGORIES:Fairgrounds
GEO:40.155026;-105.128081
X-APPLE-STRUCTURED-LOCATION;VALUE=URI;X-ADDRESS=Indoor Arena 9595 Nelson Road Longmont CO 80501;X-APPLE-RADIUS=500;X-TITLE=9595 Nelson Road:geo:-105.128081,40.155026
END:VEVENT
BEGIN:VEVENT
DTSTART;TZID=America/Denver:20250907T080000
DTEND;TZID=America/Denver:20250907T190000
DTSTAMP:20260419T095910
CREATED:20250902T174055Z
LAST-MODIFIED:20250903T173801Z
UID:10001673-1757232000-1757271600@bouldercounty.gov
SUMMARY:Mountain and Plains Appaloosa Horse Club Colorado Colors Fall Finale Horse Show
DESCRIPTION:
URL:https://bouldercounty.gov/event/mountain-and-plains-appaloosa-horse-club-colorado-colors-fall-finale-horse-show-3/
LOCATION:Indoor Arena\, 9595 Nelson Road\, Longmont\, CO\, 80501
CATEGORIES:Fairgrounds
GEO:40.155026;-105.128081
X-APPLE-STRUCTURED-LOCATION;VALUE=URI;X-ADDRESS=Indoor Arena 9595 Nelson Road Longmont CO 80501;X-APPLE-RADIUS=500;X-TITLE=9595 Nelson Road:geo:-105.128081,40.155026
END:VEVENT
BEGIN:VEVENT
DTSTART;TZID=America/Denver:20250912T120000
DTEND;TZID=America/Denver:20250912T180000
DTSTAMP:20260419T095910
CREATED:20250902T170827Z
LAST-MODIFIED:20250903T173750Z
UID:10001170-1757678400-1757700000@bouldercounty.gov
SUMMARY:Longmont Fall Home Show
DESCRIPTION:
URL:https://bouldercounty.gov/event/longmont-fall-home-show/
LOCATION:Exhibit Building\, 9595 Nelson Road\, Longmont\, CO\, 80501
CATEGORIES:Fairgrounds
GEO:40.155579;-105.129117
X-APPLE-STRUCTURED-LOCATION;VALUE=URI;X-ADDRESS=Exhibit Building 9595 Nelson Road Longmont CO 80501;X-APPLE-RADIUS=500;X-TITLE=9595 Nelson Road:geo:-105.129117,40.155579
END:VEVENT
BEGIN:VEVENT
DTSTART;TZID=America/Denver:20250913T080000
DTEND;TZID=America/Denver:20250913T130000
DTSTAMP:20260419T095910
CREATED:20250903T151745Z
LAST-MODIFIED:20250903T190924Z
UID:10002059-1757750400-1757768400@bouldercounty.gov
SUMMARY:Longmont Farmers Market
DESCRIPTION:Longmont Farmers Market \nSaturdays 8AM to 1PM\nApril 5 – November 15\, 2025\nBoulder County Fairgrounds\nLongmont\, CO 80501 \nNo Pets Please! \nOn the fourth Saturday of every month\, we invite local artisans to join the market for the ultimate local shopping experience. Their one-of-a-kind items include everything from artisanal body care products\, to handmade clothing items and accessories\, jewelry makers\, and more. \nLongmont is the home of a lively music scene\, and the farmers market is no exception. From dance-worthy drum circles\, to string quartets and cover bands\, there’s always something delightful to listen to as you shop and eat at the Longmont Farmers Market.
URL:https://bouldercounty.gov/event/longmont-farmers-market/2025-09-13/
LOCATION:North Parking Lot\, 9595 Nelson Rd\, Longmont\, CO\, 80501
CATEGORIES:Fairgrounds
ORGANIZER;CN="Longmont Market Manager":MAILTO:longmont@bcfm.org
GEO:40.1581728;-105.1287096
X-APPLE-STRUCTURED-LOCATION;VALUE=URI;X-ADDRESS=North Parking Lot 9595 Nelson Rd Longmont CO 80501;X-APPLE-RADIUS=500;X-TITLE=9595 Nelson Rd:geo:-105.1287096,40.1581728
END:VEVENT
BEGIN:VEVENT
DTSTART;TZID=America/Denver:20250913T080000
DTEND;TZID=America/Denver:20250913T190000
DTSTAMP:20260419T095910
CREATED:20250902T173242Z
LAST-MODIFIED:20250903T174432Z
UID:10001541-1757750400-1757790000@bouldercounty.gov
SUMMARY:CDGA Dairy Goat Show
DESCRIPTION:
URL:https://bouldercounty.gov/event/cdga-dairy-goat-show/
LOCATION:Barn A\, 9595 Nelson Road\, Longmont\, CO\, 80501
CATEGORIES:Fairgrounds
GEO:40.155727;-105.127717
X-APPLE-STRUCTURED-LOCATION;VALUE=URI;X-ADDRESS=Barn A 9595 Nelson Road Longmont CO 80501;X-APPLE-RADIUS=500;X-TITLE=9595 Nelson Road:geo:-105.127717,40.155727
END:VEVENT
BEGIN:VEVENT
DTSTART;TZID=America/Denver:20250913T090000
DTEND;TZID=America/Denver:20250913T170000
DTSTAMP:20260419T095910
CREATED:20250902T170814Z
LAST-MODIFIED:20250903T174420Z
UID:10001160-1757754000-1757782800@bouldercounty.gov
SUMMARY:High Country Working Equitation Horse Show
DESCRIPTION:
URL:https://bouldercounty.gov/event/high-country-working-equitation-horse-show-3/
LOCATION:Indoor Arena\, 9595 Nelson Road\, Longmont\, CO\, 80501
CATEGORIES:Fairgrounds
GEO:40.155026;-105.128081
X-APPLE-STRUCTURED-LOCATION;VALUE=URI;X-ADDRESS=Indoor Arena 9595 Nelson Road Longmont CO 80501;X-APPLE-RADIUS=500;X-TITLE=9595 Nelson Road:geo:-105.128081,40.155026
END:VEVENT
BEGIN:VEVENT
DTSTART;TZID=America/Denver:20250913T100000
DTEND;TZID=America/Denver:20250913T170000
DTSTAMP:20260419T095910
CREATED:20250902T170828Z
LAST-MODIFIED:20250903T173751Z
UID:10001171-1757757600-1757782800@bouldercounty.gov
SUMMARY:Longmont Fall Home Show
DESCRIPTION:
URL:https://bouldercounty.gov/event/longmont-fall-home-show-2/
LOCATION:Exhibit Building\, 9595 Nelson Road\, Longmont\, CO\, 80501
CATEGORIES:Fairgrounds
GEO:40.155579;-105.129117
X-APPLE-STRUCTURED-LOCATION;VALUE=URI;X-ADDRESS=Exhibit Building 9595 Nelson Road Longmont CO 80501;X-APPLE-RADIUS=500;X-TITLE=9595 Nelson Road:geo:-105.129117,40.155579
END:VEVENT
BEGIN:VEVENT
DTSTART;TZID=America/Denver:20250914T080000
DTEND;TZID=America/Denver:20250914T190000
DTSTAMP:20260419T095910
CREATED:20250902T173249Z
LAST-MODIFIED:20250903T174430Z
UID:10001542-1757836800-1757876400@bouldercounty.gov
SUMMARY:CDGA Dairy Goat Show
DESCRIPTION:
URL:https://bouldercounty.gov/event/cdga-dairy-goat-show-2/
LOCATION:Barn A\, 9595 Nelson Road\, Longmont\, CO\, 80501
CATEGORIES:Fairgrounds
GEO:40.155727;-105.127717
X-APPLE-STRUCTURED-LOCATION;VALUE=URI;X-ADDRESS=Barn A 9595 Nelson Road Longmont CO 80501;X-APPLE-RADIUS=500;X-TITLE=9595 Nelson Road:geo:-105.127717,40.155727
END:VEVENT
BEGIN:VEVENT
DTSTART;TZID=America/Denver:20250914T090000
DTEND;TZID=America/Denver:20250914T170000
DTSTAMP:20260419T095910
CREATED:20250902T170815Z
LAST-MODIFIED:20250903T174420Z
UID:10001161-1757840400-1757869200@bouldercounty.gov
SUMMARY:High Country Working Equitation Horse Show
DESCRIPTION:
URL:https://bouldercounty.gov/event/high-country-working-equitation-horse-show-4/
LOCATION:Indoor Arena\, 9595 Nelson Road\, Longmont\, CO\, 80501
CATEGORIES:Fairgrounds
GEO:40.155026;-105.128081
X-APPLE-STRUCTURED-LOCATION;VALUE=URI;X-ADDRESS=Indoor Arena 9595 Nelson Road Longmont CO 80501;X-APPLE-RADIUS=500;X-TITLE=9595 Nelson Road:geo:-105.128081,40.155026
END:VEVENT
BEGIN:VEVENT
DTSTART;TZID=America/Denver:20250914T110000
DTEND;TZID=America/Denver:20250914T160000
DTSTAMP:20260419T095910
CREATED:20250902T170832Z
LAST-MODIFIED:20250903T174419Z
UID:10001172-1757847600-1757865600@bouldercounty.gov
SUMMARY:Longmont Fall Home Show
DESCRIPTION:
URL:https://bouldercounty.gov/event/longmont-fall-home-show-3/
LOCATION:Exhibit Building\, 9595 Nelson Road\, Longmont\, CO\, 80501
CATEGORIES:Fairgrounds
GEO:40.155579;-105.129117
X-APPLE-STRUCTURED-LOCATION;VALUE=URI;X-ADDRESS=Exhibit Building 9595 Nelson Road Longmont CO 80501;X-APPLE-RADIUS=500;X-TITLE=9595 Nelson Road:geo:-105.129117,40.155579
END:VEVENT
BEGIN:VEVENT
DTSTART;TZID=America/Denver:20250919T090000
DTEND;TZID=America/Denver:20250919T220000
DTSTAMP:20260419T095910
CREATED:20250902T174127Z
LAST-MODIFIED:20250903T173820Z
UID:10001691-1758272400-1758319200@bouldercounty.gov
SUMMARY:True West Productions Barrels Jackpot
DESCRIPTION:
URL:https://bouldercounty.gov/event/true-west-productions-barrels-jackpot-58/
LOCATION:Indoor Arena\, 9595 Nelson Road\, Longmont\, CO\, 80501
CATEGORIES:Fairgrounds
GEO:40.155026;-105.128081
X-APPLE-STRUCTURED-LOCATION;VALUE=URI;X-ADDRESS=Indoor Arena 9595 Nelson Road Longmont CO 80501;X-APPLE-RADIUS=500;X-TITLE=9595 Nelson Road:geo:-105.128081,40.155026
END:VEVENT
BEGIN:VEVENT
DTSTART;TZID=America/Denver:20250920T080000
DTEND;TZID=America/Denver:20250920T130000
DTSTAMP:20260419T095910
CREATED:20250903T151745Z
LAST-MODIFIED:20250903T190924Z
UID:10002060-1758355200-1758373200@bouldercounty.gov
SUMMARY:Longmont Farmers Market
DESCRIPTION:Longmont Farmers Market \nSaturdays 8AM to 1PM\nApril 5 – November 15\, 2025\nBoulder County Fairgrounds\nLongmont\, CO 80501 \nNo Pets Please! \nOn the fourth Saturday of every month\, we invite local artisans to join the market for the ultimate local shopping experience. Their one-of-a-kind items include everything from artisanal body care products\, to handmade clothing items and accessories\, jewelry makers\, and more. \nLongmont is the home of a lively music scene\, and the farmers market is no exception. From dance-worthy drum circles\, to string quartets and cover bands\, there’s always something delightful to listen to as you shop and eat at the Longmont Farmers Market.
URL:https://bouldercounty.gov/event/longmont-farmers-market/2025-09-20/
LOCATION:North Parking Lot\, 9595 Nelson Rd\, Longmont\, CO\, 80501
CATEGORIES:Fairgrounds
ORGANIZER;CN="Longmont Market Manager":MAILTO:longmont@bcfm.org
GEO:40.1581728;-105.1287096
X-APPLE-STRUCTURED-LOCATION;VALUE=URI;X-ADDRESS=North Parking Lot 9595 Nelson Rd Longmont CO 80501;X-APPLE-RADIUS=500;X-TITLE=9595 Nelson Rd:geo:-105.1287096,40.1581728
END:VEVENT
BEGIN:VEVENT
DTSTART;TZID=America/Denver:20250920T090000
DTEND;TZID=America/Denver:20250920T140000
DTSTAMP:20260419T095910
CREATED:20250902T174228Z
LAST-MODIFIED:20250903T173804Z
UID:10001722-1758358800-1758376800@bouldercounty.gov
SUMMARY:Knights of Columbus Charity Car Show
DESCRIPTION:
URL:https://bouldercounty.gov/event/knights-of-columbus-charity-car-show/
LOCATION:Picnic Shelter\, 9595 Nelson Road\, Longmont\, CO\, 80501
CATEGORIES:Fairgrounds
GEO:40.153462;-105.12901
X-APPLE-STRUCTURED-LOCATION;VALUE=URI;X-ADDRESS=Picnic Shelter 9595 Nelson Road Longmont CO 80501;X-APPLE-RADIUS=500;X-TITLE=9595 Nelson Road:geo:-105.12901,40.153462
END:VEVENT
BEGIN:VEVENT
DTSTART;TZID=America/Denver:20250920T090000
DTEND;TZID=America/Denver:20250920T170000
DTSTAMP:20260419T095910
CREATED:20250903T165553Z
LAST-MODIFIED:20250903T165553Z
UID:10002054-1758358800-1758387600@bouldercounty.gov
SUMMARY:Front Range Coin Club Show
DESCRIPTION:
URL:https://bouldercounty.gov/event/front-range-coin-club-show-2/
LOCATION:Barn A\, 9595 Nelson Road\, Longmont\, CO\, 80501
CATEGORIES:Fairgrounds
ORGANIZER;CN="Ken Davis":MAILTO:krdavis334@msn.com
GEO:40.155727;-105.127717
X-APPLE-STRUCTURED-LOCATION;VALUE=URI;X-ADDRESS=Barn A 9595 Nelson Road Longmont CO 80501;X-APPLE-RADIUS=500;X-TITLE=9595 Nelson Road:geo:-105.127717,40.155727
END:VEVENT
BEGIN:VEVENT
DTSTART;TZID=America/Denver:20250920T090000
DTEND;TZID=America/Denver:20250920T191500
DTSTAMP:20260419T095910
CREATED:20250902T174312Z
LAST-MODIFIED:20250903T173806Z
UID:10001743-1758358800-1758395700@bouldercounty.gov
SUMMARY:Boulder County Roller Derby Beast Brawl Tournament
DESCRIPTION:
URL:https://bouldercounty.gov/event/boulder-county-roller-derby-beast-brawl-tournament-2/
LOCATION:Exhibit Building\, 9595 Nelson Road\, Longmont\, CO\, 80501
CATEGORIES:Fairgrounds
ORGANIZER;CN="Boulder County Roller Derby":MAILTO:boutproduction@bouldercountyrollerderby.com
GEO:40.155579;-105.129117
X-APPLE-STRUCTURED-LOCATION;VALUE=URI;X-ADDRESS=Exhibit Building 9595 Nelson Road Longmont CO 80501;X-APPLE-RADIUS=500;X-TITLE=9595 Nelson Road:geo:-105.129117,40.155579
END:VEVENT
BEGIN:VEVENT
DTSTART;TZID=America/Denver:20250920T090000
DTEND;TZID=America/Denver:20250920T220000
DTSTAMP:20260419T095910
CREATED:20250902T174133Z
LAST-MODIFIED:20250903T174321Z
UID:10001692-1758358800-1758405600@bouldercounty.gov
SUMMARY:True West Productions Barrels Jackpot
DESCRIPTION:
URL:https://bouldercounty.gov/event/true-west-productions-barrels-jackpot-59/
LOCATION:Indoor Arena\, 9595 Nelson Road\, Longmont\, CO\, 80501
CATEGORIES:Fairgrounds
GEO:40.155026;-105.128081
X-APPLE-STRUCTURED-LOCATION;VALUE=URI;X-ADDRESS=Indoor Arena 9595 Nelson Road Longmont CO 80501;X-APPLE-RADIUS=500;X-TITLE=9595 Nelson Road:geo:-105.128081,40.155026
END:VEVENT
BEGIN:VEVENT
DTSTART;TZID=America/Denver:20250921T090000
DTEND;TZID=America/Denver:20250921T150000
DTSTAMP:20260419T095910
CREATED:20250903T165727Z
LAST-MODIFIED:20250903T165727Z
UID:10002055-1758445200-1758466800@bouldercounty.gov
SUMMARY:Front Range Coin Club Show
DESCRIPTION:
URL:https://bouldercounty.gov/event/front-range-coin-club-show-3/
LOCATION:Barn A\, 9595 Nelson Road\, Longmont\, CO\, 80501
CATEGORIES:Fairgrounds
ORGANIZER;CN="Ken Davis":MAILTO:krdavis334@msn.com
GEO:40.155727;-105.127717
X-APPLE-STRUCTURED-LOCATION;VALUE=URI;X-ADDRESS=Barn A 9595 Nelson Road Longmont CO 80501;X-APPLE-RADIUS=500;X-TITLE=9595 Nelson Road:geo:-105.127717,40.155727
END:VEVENT
BEGIN:VEVENT
DTSTART;TZID=America/Denver:20250921T090000
DTEND;TZID=America/Denver:20250921T170000
DTSTAMP:20260419T095910
CREATED:20250902T172559Z
LAST-MODIFIED:20250903T173755Z
UID:10001376-1758445200-1758474000@bouldercounty.gov
SUMMARY:St Vrain Roundup Club Open Horse Show
DESCRIPTION:
URL:https://bouldercounty.gov/event/st-vrain-roundup-club-open-horse-show-12/
LOCATION:Indoor Arena\, 9595 Nelson Road\, Longmont\, CO\, 80501
CATEGORIES:Fairgrounds
GEO:40.155026;-105.128081
X-APPLE-STRUCTURED-LOCATION;VALUE=URI;X-ADDRESS=Indoor Arena 9595 Nelson Road Longmont CO 80501;X-APPLE-RADIUS=500;X-TITLE=9595 Nelson Road:geo:-105.128081,40.155026
END:VEVENT
BEGIN:VEVENT
DTSTART;TZID=America/Denver:20250921T090000
DTEND;TZID=America/Denver:20250921T191500
DTSTAMP:20260419T095910
CREATED:20250902T174313Z
LAST-MODIFIED:20250903T173807Z
UID:10001744-1758445200-1758482100@bouldercounty.gov
SUMMARY:Boulder County Roller Derby Beast Brawl Tournament
DESCRIPTION:
URL:https://bouldercounty.gov/event/boulder-county-roller-derby-beast-brawl-tournament-3/
LOCATION:Exhibit Building\, 9595 Nelson Road\, Longmont\, CO\, 80501
CATEGORIES:Fairgrounds
ORGANIZER;CN="Boulder County Roller Derby":MAILTO:boutproduction@bouldercountyrollerderby.com
GEO:40.155579;-105.129117
X-APPLE-STRUCTURED-LOCATION;VALUE=URI;X-ADDRESS=Exhibit Building 9595 Nelson Road Longmont CO 80501;X-APPLE-RADIUS=500;X-TITLE=9595 Nelson Road:geo:-105.129117,40.155579
END:VEVENT
BEGIN:VEVENT
DTSTART;TZID=America/Denver:20250925T090000
DTEND;TZID=America/Denver:20250925T160000
DTSTAMP:20260419T095910
CREATED:20250902T174215Z
LAST-MODIFIED:20250903T174324Z
UID:10001716-1758790800-1758816000@bouldercounty.gov
SUMMARY:Quilt-A-Fair
DESCRIPTION:
URL:https://bouldercounty.gov/event/quilt-a-fair-4/
LOCATION:Exhibit Building\, 9595 Nelson Road\, Longmont\, CO\, 80501
CATEGORIES:Fairgrounds
ORGANIZER;CN="Dawn Mills":MAILTO:cqcpresident@gmail.com
GEO:40.155579;-105.129117
X-APPLE-STRUCTURED-LOCATION;VALUE=URI;X-ADDRESS=Exhibit Building 9595 Nelson Road Longmont CO 80501;X-APPLE-RADIUS=500;X-TITLE=9595 Nelson Road:geo:-105.129117,40.155579
END:VEVENT
BEGIN:VEVENT
DTSTART;TZID=America/Denver:20250926T090000
DTEND;TZID=America/Denver:20250926T160000
DTSTAMP:20260419T095910
CREATED:20250902T174219Z
LAST-MODIFIED:20250903T173800Z
UID:10001717-1758877200-1758902400@bouldercounty.gov
SUMMARY:Quilt-A-Fair
DESCRIPTION:
URL:https://bouldercounty.gov/event/quilt-a-fair-5/
LOCATION:Exhibit Building\, 9595 Nelson Road\, Longmont\, CO\, 80501
CATEGORIES:Fairgrounds
ORGANIZER;CN="Dawn Mills":MAILTO:cqcpresident@gmail.com
GEO:40.155579;-105.129117
X-APPLE-STRUCTURED-LOCATION;VALUE=URI;X-ADDRESS=Exhibit Building 9595 Nelson Road Longmont CO 80501;X-APPLE-RADIUS=500;X-TITLE=9595 Nelson Road:geo:-105.129117,40.155579
END:VEVENT
BEGIN:VEVENT
DTSTART;TZID=America/Denver:20250927T080000
DTEND;TZID=America/Denver:20250927T130000
DTSTAMP:20260419T095910
CREATED:20250903T151745Z
LAST-MODIFIED:20250903T190924Z
UID:10002061-1758960000-1758978000@bouldercounty.gov
SUMMARY:Longmont Farmers Market
DESCRIPTION:Longmont Farmers Market \nSaturdays 8AM to 1PM\nApril 5 – November 15\, 2025\nBoulder County Fairgrounds\nLongmont\, CO 80501 \nNo Pets Please! \nOn the fourth Saturday of every month\, we invite local artisans to join the market for the ultimate local shopping experience. Their one-of-a-kind items include everything from artisanal body care products\, to handmade clothing items and accessories\, jewelry makers\, and more. \nLongmont is the home of a lively music scene\, and the farmers market is no exception. From dance-worthy drum circles\, to string quartets and cover bands\, there’s always something delightful to listen to as you shop and eat at the Longmont Farmers Market.
URL:https://bouldercounty.gov/event/longmont-farmers-market/2025-09-27/
LOCATION:North Parking Lot\, 9595 Nelson Rd\, Longmont\, CO\, 80501
CATEGORIES:Fairgrounds
ORGANIZER;CN="Longmont Market Manager":MAILTO:longmont@bcfm.org
GEO:40.1581728;-105.1287096
X-APPLE-STRUCTURED-LOCATION;VALUE=URI;X-ADDRESS=North Parking Lot 9595 Nelson Rd Longmont CO 80501;X-APPLE-RADIUS=500;X-TITLE=9595 Nelson Rd:geo:-105.1287096,40.1581728
END:VEVENT
BEGIN:VEVENT
DTSTART;TZID=America/Denver:20250927T090000
DTEND;TZID=America/Denver:20250927T150000
DTSTAMP:20260419T095910
CREATED:20250902T174220Z
LAST-MODIFIED:20250903T173800Z
UID:10001718-1758963600-1758985200@bouldercounty.gov
SUMMARY:Quilt-A-Fair
DESCRIPTION:
URL:https://bouldercounty.gov/event/quilt-a-fair-6/
LOCATION:Exhibit Building\, 9595 Nelson Road\, Longmont\, CO\, 80501
CATEGORIES:Fairgrounds
ORGANIZER;CN="Dawn Mills":MAILTO:cqcpresident@gmail.com
GEO:40.155579;-105.129117
X-APPLE-STRUCTURED-LOCATION;VALUE=URI;X-ADDRESS=Exhibit Building 9595 Nelson Road Longmont CO 80501;X-APPLE-RADIUS=500;X-TITLE=9595 Nelson Road:geo:-105.129117,40.155579
END:VEVENT
BEGIN:VEVENT
DTSTART;TZID=America/Denver:20250927T094500
DTEND;TZID=America/Denver:20250927T180000
DTSTAMP:20260419T095910
CREATED:20250918T150508Z
LAST-MODIFIED:20250918T153005Z
UID:10002402-1758966300-1758996000@bouldercounty.gov
SUMMARY:Colorado Regulators
DESCRIPTION:
URL:https://bouldercounty.gov/event/colorado-regulators/
LOCATION:Outdoor Arena\, 9595 Nelson Road\, Longmont\, CO\, 80501
CATEGORIES:Fairgrounds
GEO:40.15675;-105.127464
X-APPLE-STRUCTURED-LOCATION;VALUE=URI;X-ADDRESS=Outdoor Arena 9595 Nelson Road Longmont CO 80501;X-APPLE-RADIUS=500;X-TITLE=9595 Nelson Road:geo:-105.127464,40.15675
END:VEVENT
BEGIN:VEVENT
DTSTART;TZID=America/Denver:20250928T090000
DTEND;TZID=America/Denver:20250928T180000
DTSTAMP:20260419T095910
CREATED:20250902T172318Z
LAST-MODIFIED:20250903T174436Z
UID:10001279-1759050000-1759082400@bouldercounty.gov
SUMMARY:Niwot Antique Auction
DESCRIPTION:Niwot Auction is your full service auction company; consignment\, antique\, estate\, farm\, real estate and on-site auctions. Contact us with all your auction needs.\nFOR MORE INFORMATION\, GO TO:  http://niwotauction.com \n 
URL:https://bouldercounty.gov/event/niwot-antique-auction-13/
LOCATION:Barn A\, 9595 Nelson Road\, Longmont\, CO\, 80501
CATEGORIES:Fairgrounds
GEO:40.155727;-105.127717
X-APPLE-STRUCTURED-LOCATION;VALUE=URI;X-ADDRESS=Barn A 9595 Nelson Road Longmont CO 80501;X-APPLE-RADIUS=500;X-TITLE=9595 Nelson Road:geo:-105.127717,40.155727
END:VEVENT
BEGIN:VEVENT
DTSTART;TZID=America/Denver:20250928T094500
DTEND;TZID=America/Denver:20250928T170000
DTSTAMP:20260419T095910
CREATED:20250918T150635Z
LAST-MODIFIED:20250918T152911Z
UID:10002403-1759052700-1759078800@bouldercounty.gov
SUMMARY:Colorado Regulators
DESCRIPTION:
URL:https://bouldercounty.gov/event/colorado-regulators-2/
LOCATION:Outdoor Arena\, 9595 Nelson Road\, Longmont\, CO\, 80501
CATEGORIES:Fairgrounds
GEO:40.15675;-105.127464
X-APPLE-STRUCTURED-LOCATION;VALUE=URI;X-ADDRESS=Outdoor Arena 9595 Nelson Road Longmont CO 80501;X-APPLE-RADIUS=500;X-TITLE=9595 Nelson Road:geo:-105.127464,40.15675
END:VEVENT
END:VCALENDAR