BEGIN:VCALENDAR
VERSION:2.0
PRODID:-//Boulder County - ECPv6.15.17.1//NONSGML v1.0//EN
CALSCALE:GREGORIAN
METHOD:PUBLISH
X-WR-CALNAME:Boulder County
X-ORIGINAL-URL:https://bouldercounty.gov
X-WR-CALDESC:Events for Boulder County
REFRESH-INTERVAL;VALUE=DURATION:PT1H
X-Robots-Tag:noindex
X-PUBLISHED-TTL:PT1H
BEGIN:VTIMEZONE
TZID:America/Denver
BEGIN:DAYLIGHT
TZOFFSETFROM:-0700
TZOFFSETTO:-0600
TZNAME:MDT
DTSTART:20240310T090000
END:DAYLIGHT
BEGIN:STANDARD
TZOFFSETFROM:-0600
TZOFFSETTO:-0700
TZNAME:MST
DTSTART:20241103T080000
END:STANDARD
BEGIN:DAYLIGHT
TZOFFSETFROM:-0700
TZOFFSETTO:-0600
TZNAME:MDT
DTSTART:20250309T090000
END:DAYLIGHT
BEGIN:STANDARD
TZOFFSETFROM:-0600
TZOFFSETTO:-0700
TZNAME:MST
DTSTART:20251102T080000
END:STANDARD
BEGIN:DAYLIGHT
TZOFFSETFROM:-0700
TZOFFSETTO:-0600
TZNAME:MDT
DTSTART:20260308T090000
END:DAYLIGHT
BEGIN:STANDARD
TZOFFSETFROM:-0600
TZOFFSETTO:-0700
TZNAME:MST
DTSTART:20261101T080000
END:STANDARD
END:VTIMEZONE
BEGIN:VEVENT
DTSTART;TZID=America/Denver:20250501T100000
DTEND;TZID=America/Denver:20250501T200000
DTSTAMP:20260419T160643
CREATED:20250902T172636Z
LAST-MODIFIED:20250903T173530Z
UID:10001404-1746093600-1746129600@bouldercounty.gov
SUMMARY:Boulder Potters Guild Spring Pottery Sale
DESCRIPTION:
URL:https://bouldercounty.gov/event/boulder-potters-guild-spring-pottery-sale-5/
LOCATION:Exhibit Building\, 9595 Nelson Road\, Longmont\, CO\, 80501
CATEGORIES:Fairgrounds
GEO:40.155579;-105.129117
X-APPLE-STRUCTURED-LOCATION;VALUE=URI;X-ADDRESS=Exhibit Building 9595 Nelson Road Longmont CO 80501;X-APPLE-RADIUS=500;X-TITLE=9595 Nelson Road:geo:-105.129117,40.155579
END:VEVENT
BEGIN:VEVENT
DTSTART;TZID=America/Denver:20250502T100000
DTEND;TZID=America/Denver:20250502T200000
DTSTAMP:20260419T160643
CREATED:20250902T172637Z
LAST-MODIFIED:20250903T173530Z
UID:10001405-1746180000-1746216000@bouldercounty.gov
SUMMARY:Boulder Potters Guild Spring Pottery Sale
DESCRIPTION:
URL:https://bouldercounty.gov/event/boulder-potters-guild-spring-pottery-sale-6/
LOCATION:Exhibit Building\, 9595 Nelson Road\, Longmont\, CO\, 80501
CATEGORIES:Fairgrounds
GEO:40.155579;-105.129117
X-APPLE-STRUCTURED-LOCATION;VALUE=URI;X-ADDRESS=Exhibit Building 9595 Nelson Road Longmont CO 80501;X-APPLE-RADIUS=500;X-TITLE=9595 Nelson Road:geo:-105.129117,40.155579
END:VEVENT
BEGIN:VEVENT
DTSTART;TZID=America/Denver:20250502T160000
DTEND;TZID=America/Denver:20250502T220000
DTSTAMP:20260419T160643
CREATED:20250902T172515Z
LAST-MODIFIED:20250903T173531Z
UID:10001355-1746201600-1746223200@bouldercounty.gov
SUMMARY:True West Productions Barrels Jackpot
DESCRIPTION:
URL:https://bouldercounty.gov/event/true-west-productions-barrels-jackpot-32/
LOCATION:Indoor Arena\, 9595 Nelson Road\, Longmont\, CO\, 80501
CATEGORIES:Fairgrounds
GEO:40.155026;-105.128081
X-APPLE-STRUCTURED-LOCATION;VALUE=URI;X-ADDRESS=Indoor Arena 9595 Nelson Road Longmont CO 80501;X-APPLE-RADIUS=500;X-TITLE=9595 Nelson Road:geo:-105.128081,40.155026
END:VEVENT
BEGIN:VEVENT
DTSTART;TZID=America/Denver:20250503T090000
DTEND;TZID=America/Denver:20250503T180000
DTSTAMP:20260419T160643
CREATED:20250902T172638Z
LAST-MODIFIED:20250903T173532Z
UID:10001406-1746262800-1746295200@bouldercounty.gov
SUMMARY:Boulder Potters Guild Spring Pottery Sale
DESCRIPTION:
URL:https://bouldercounty.gov/event/boulder-potters-guild-spring-pottery-sale-7/
LOCATION:Exhibit Building\, 9595 Nelson Road\, Longmont\, CO\, 80501
CATEGORIES:Fairgrounds
GEO:40.155579;-105.129117
X-APPLE-STRUCTURED-LOCATION;VALUE=URI;X-ADDRESS=Exhibit Building 9595 Nelson Road Longmont CO 80501;X-APPLE-RADIUS=500;X-TITLE=9595 Nelson Road:geo:-105.129117,40.155579
END:VEVENT
BEGIN:VEVENT
DTSTART;TZID=America/Denver:20250503T090000
DTEND;TZID=America/Denver:20250503T220000
DTSTAMP:20260419T160643
CREATED:20250902T172525Z
LAST-MODIFIED:20250903T173532Z
UID:10001356-1746262800-1746309600@bouldercounty.gov
SUMMARY:True West Productions Barrels Jackpot
DESCRIPTION:
URL:https://bouldercounty.gov/event/true-west-productions-barrels-jackpot-33/
LOCATION:Indoor Arena\, 9595 Nelson Road\, Longmont\, CO\, 80501
CATEGORIES:Fairgrounds
GEO:40.155026;-105.128081
X-APPLE-STRUCTURED-LOCATION;VALUE=URI;X-ADDRESS=Indoor Arena 9595 Nelson Road Longmont CO 80501;X-APPLE-RADIUS=500;X-TITLE=9595 Nelson Road:geo:-105.128081,40.155026
END:VEVENT
BEGIN:VEVENT
DTSTART;TZID=America/Denver:20250503T120000
DTEND;TZID=America/Denver:20250503T160000
DTSTAMP:20260419T160643
CREATED:20250902T172428Z
LAST-MODIFIED:20250903T173533Z
UID:10001329-1746273600-1746288000@bouldercounty.gov
SUMMARY:Scouts BSA Pinewood Derby
DESCRIPTION:
URL:https://bouldercounty.gov/event/scouts-bsa-pinewood-derby-2/
LOCATION:Barn A\, 9595 Nelson Road\, Longmont\, CO\, 80501
CATEGORIES:Fairgrounds
GEO:40.155727;-105.127717
X-APPLE-STRUCTURED-LOCATION;VALUE=URI;X-ADDRESS=Barn A 9595 Nelson Road Longmont CO 80501;X-APPLE-RADIUS=500;X-TITLE=9595 Nelson Road:geo:-105.127717,40.155727
END:VEVENT
BEGIN:VEVENT
DTSTART;TZID=America/Denver:20250504T090000
DTEND;TZID=America/Denver:20250504T170000
DTSTAMP:20260419T160643
CREATED:20250902T172550Z
LAST-MODIFIED:20250903T173534Z
UID:10001373-1746349200-1746378000@bouldercounty.gov
SUMMARY:St Vrain Roundup Club Open Horse Show
DESCRIPTION:
URL:https://bouldercounty.gov/event/st-vrain-roundup-club-open-horse-show-9/
LOCATION:Indoor Arena\, 9595 Nelson Road\, Longmont\, CO\, 80501
CATEGORIES:Fairgrounds
GEO:40.155026;-105.128081
X-APPLE-STRUCTURED-LOCATION;VALUE=URI;X-ADDRESS=Indoor Arena 9595 Nelson Road Longmont CO 80501;X-APPLE-RADIUS=500;X-TITLE=9595 Nelson Road:geo:-105.128081,40.155026
END:VEVENT
BEGIN:VEVENT
DTSTART;TZID=America/Denver:20250504T100000
DTEND;TZID=America/Denver:20250504T160000
DTSTAMP:20260419T160643
CREATED:20250902T172749Z
LAST-MODIFIED:20250903T173534Z
UID:10001407-1746352800-1746374400@bouldercounty.gov
SUMMARY:Boulder Potters Guild Spring Pottery Sale
DESCRIPTION:
URL:https://bouldercounty.gov/event/boulder-potters-guild-spring-pottery-sale-8/
LOCATION:Exhibit Building\, 9595 Nelson Road\, Longmont\, CO\, 80501
CATEGORIES:Fairgrounds
GEO:40.155579;-105.129117
X-APPLE-STRUCTURED-LOCATION;VALUE=URI;X-ADDRESS=Exhibit Building 9595 Nelson Road Longmont CO 80501;X-APPLE-RADIUS=500;X-TITLE=9595 Nelson Road:geo:-105.129117,40.155579
END:VEVENT
BEGIN:VEVENT
DTSTART;TZID=America/Denver:20250508T090000
DTEND;TZID=America/Denver:20250508T190000
DTSTAMP:20260419T160643
CREATED:20250902T170910Z
LAST-MODIFIED:20250903T173535Z
UID:10001204-1746694800-1746730800@bouldercounty.gov
SUMMARY:Just Between Friends Huge Kids Sale
DESCRIPTION:For more information\, please go to:  https://longmont.jbfsale.com/
URL:https://bouldercounty.gov/event/just-between-friends-huge-kids-sale-14/
LOCATION:Exhibit Building\, 9595 Nelson Road\, Longmont\, CO\, 80501
CATEGORIES:Fairgrounds
GEO:40.155579;-105.129117
X-APPLE-STRUCTURED-LOCATION;VALUE=URI;X-ADDRESS=Exhibit Building 9595 Nelson Road Longmont CO 80501;X-APPLE-RADIUS=500;X-TITLE=9595 Nelson Road:geo:-105.129117,40.155579
END:VEVENT
BEGIN:VEVENT
DTSTART;TZID=America/Denver:20250509T090000
DTEND;TZID=America/Denver:20250509T190000
DTSTAMP:20260419T160643
CREATED:20250902T170911Z
LAST-MODIFIED:20250903T173535Z
UID:10001205-1746781200-1746817200@bouldercounty.gov
SUMMARY:Just Between Friends Huge Kids Sale
DESCRIPTION:For more information\, please go to:  https://longmont.jbfsale.com/
URL:https://bouldercounty.gov/event/just-between-friends-huge-kids-sale-15/
LOCATION:Exhibit Building\, 9595 Nelson Road\, Longmont\, CO\, 80501
CATEGORIES:Fairgrounds
GEO:40.155579;-105.129117
X-APPLE-STRUCTURED-LOCATION;VALUE=URI;X-ADDRESS=Exhibit Building 9595 Nelson Road Longmont CO 80501;X-APPLE-RADIUS=500;X-TITLE=9595 Nelson Road:geo:-105.129117,40.155579
END:VEVENT
BEGIN:VEVENT
DTSTART;TZID=America/Denver:20250509T100000
DTEND;TZID=America/Denver:20250509T210000
DTSTAMP:20260419T160643
CREATED:20250902T172759Z
LAST-MODIFIED:20250903T173537Z
UID:10001414-1746784800-1746824400@bouldercounty.gov
SUMMARY:Mountain & Plains Appaloosa Horse Club Colorado Spring Colors Horse Show
DESCRIPTION:
URL:https://bouldercounty.gov/event/mountain-plains-appaloosa-horse-club-colorado-spring-colors-horse-show/
LOCATION:Indoor Arena\, 9595 Nelson Road\, Longmont\, CO\, 80501
CATEGORIES:Fairgrounds
GEO:40.155026;-105.128081
X-APPLE-STRUCTURED-LOCATION;VALUE=URI;X-ADDRESS=Indoor Arena 9595 Nelson Road Longmont CO 80501;X-APPLE-RADIUS=500;X-TITLE=9595 Nelson Road:geo:-105.128081,40.155026
END:VEVENT
BEGIN:VEVENT
DTSTART;TZID=America/Denver:20250509T160000
DTEND;TZID=America/Denver:20250509T220000
DTSTAMP:20260419T160643
CREATED:20250902T172525Z
LAST-MODIFIED:20250903T173538Z
UID:10001357-1746806400-1746828000@bouldercounty.gov
SUMMARY:True West Productions Barrels Jackpot
DESCRIPTION:
URL:https://bouldercounty.gov/event/true-west-productions-barrels-jackpot-34/
LOCATION:Outdoor Arena\, 9595 Nelson Road\, Longmont\, CO\, 80501
CATEGORIES:Fairgrounds
GEO:40.15675;-105.127464
X-APPLE-STRUCTURED-LOCATION;VALUE=URI;X-ADDRESS=Outdoor Arena 9595 Nelson Road Longmont CO 80501;X-APPLE-RADIUS=500;X-TITLE=9595 Nelson Road:geo:-105.127464,40.15675
END:VEVENT
BEGIN:VEVENT
DTSTART;TZID=America/Denver:20250510T080000
DTEND;TZID=America/Denver:20250510T210000
DTSTAMP:20260419T160643
CREATED:20250902T172759Z
LAST-MODIFIED:20250903T173539Z
UID:10001415-1746864000-1746910800@bouldercounty.gov
SUMMARY:Mountain & Plains Appaloosa Horse Club Colorado Spring Colors Horse Show
DESCRIPTION:
URL:https://bouldercounty.gov/event/mountain-plains-appaloosa-horse-club-colorado-spring-colors-horse-show-2/
LOCATION:Indoor Arena\, 9595 Nelson Road\, Longmont\, CO\, 80501
CATEGORIES:Fairgrounds
GEO:40.155026;-105.128081
X-APPLE-STRUCTURED-LOCATION;VALUE=URI;X-ADDRESS=Indoor Arena 9595 Nelson Road Longmont CO 80501;X-APPLE-RADIUS=500;X-TITLE=9595 Nelson Road:geo:-105.128081,40.155026
END:VEVENT
BEGIN:VEVENT
DTSTART;TZID=America/Denver:20250510T090000
DTEND;TZID=America/Denver:20250510T190000
DTSTAMP:20260419T160643
CREATED:20250902T170911Z
LAST-MODIFIED:20250903T173540Z
UID:10001206-1746867600-1746903600@bouldercounty.gov
SUMMARY:Just Between Friends Huge Kids Sale
DESCRIPTION:For more information\, please go to:  https://longmont.jbfsale.com/
URL:https://bouldercounty.gov/event/just-between-friends-huge-kids-sale-16/
LOCATION:Exhibit Building\, 9595 Nelson Road\, Longmont\, CO\, 80501
CATEGORIES:Fairgrounds
GEO:40.155579;-105.129117
X-APPLE-STRUCTURED-LOCATION;VALUE=URI;X-ADDRESS=Exhibit Building 9595 Nelson Road Longmont CO 80501;X-APPLE-RADIUS=500;X-TITLE=9595 Nelson Road:geo:-105.129117,40.155579
END:VEVENT
BEGIN:VEVENT
DTSTART;TZID=America/Denver:20250510T090000
DTEND;TZID=America/Denver:20250510T220000
DTSTAMP:20260419T160643
CREATED:20250902T172526Z
LAST-MODIFIED:20250903T173541Z
UID:10001358-1746867600-1746914400@bouldercounty.gov
SUMMARY:True West Productions Barrels Jackpot
DESCRIPTION:
URL:https://bouldercounty.gov/event/true-west-productions-barrels-jackpot-35/
LOCATION:Outdoor Arena\, 9595 Nelson Road\, Longmont\, CO\, 80501
CATEGORIES:Fairgrounds
GEO:40.15675;-105.127464
X-APPLE-STRUCTURED-LOCATION;VALUE=URI;X-ADDRESS=Outdoor Arena 9595 Nelson Road Longmont CO 80501;X-APPLE-RADIUS=500;X-TITLE=9595 Nelson Road:geo:-105.127464,40.15675
END:VEVENT
BEGIN:VEVENT
DTSTART;TZID=America/Denver:20250511T080000
DTEND;TZID=America/Denver:20250511T190000
DTSTAMP:20260419T160643
CREATED:20250902T172800Z
LAST-MODIFIED:20250903T173541Z
UID:10001416-1746950400-1746990000@bouldercounty.gov
SUMMARY:Mountain & Plains Appaloosa Horse Club Colorado Spring Colors Horse Show
DESCRIPTION:
URL:https://bouldercounty.gov/event/mountain-plains-appaloosa-horse-club-colorado-spring-colors-horse-show-3/
LOCATION:Indoor Arena\, 9595 Nelson Road\, Longmont\, CO\, 80501
CATEGORIES:Fairgrounds
GEO:40.155026;-105.128081
X-APPLE-STRUCTURED-LOCATION;VALUE=URI;X-ADDRESS=Indoor Arena 9595 Nelson Road Longmont CO 80501;X-APPLE-RADIUS=500;X-TITLE=9595 Nelson Road:geo:-105.128081,40.155026
END:VEVENT
BEGIN:VEVENT
DTSTART;TZID=America/Denver:20250511T090000
DTEND;TZID=America/Denver:20250511T140000
DTSTAMP:20260419T160643
CREATED:20250902T172100Z
LAST-MODIFIED:20250903T173542Z
UID:10001207-1746954000-1746972000@bouldercounty.gov
SUMMARY:Just Between Friends Huge Kids Sale
DESCRIPTION:For more information\, please go to:  https://longmont.jbfsale.com/
URL:https://bouldercounty.gov/event/just-between-friends-huge-kids-sale-17/
LOCATION:Exhibit Building\, 9595 Nelson Road\, Longmont\, CO\, 80501
CATEGORIES:Fairgrounds
GEO:40.155579;-105.129117
X-APPLE-STRUCTURED-LOCATION;VALUE=URI;X-ADDRESS=Exhibit Building 9595 Nelson Road Longmont CO 80501;X-APPLE-RADIUS=500;X-TITLE=9595 Nelson Road:geo:-105.129117,40.155579
END:VEVENT
BEGIN:VEVENT
DTSTART;TZID=America/Denver:20250511T090000
DTEND;TZID=America/Denver:20250511T220000
DTSTAMP:20260419T160643
CREATED:20250902T172527Z
LAST-MODIFIED:20250903T173543Z
UID:10001359-1746954000-1747000800@bouldercounty.gov
SUMMARY:True West Productions Barrels Jackpot
DESCRIPTION:
URL:https://bouldercounty.gov/event/true-west-productions-barrels-jackpot-36/
LOCATION:Outdoor Arena\, 9595 Nelson Road\, Longmont\, CO\, 80501
CATEGORIES:Fairgrounds
GEO:40.15675;-105.127464
X-APPLE-STRUCTURED-LOCATION;VALUE=URI;X-ADDRESS=Outdoor Arena 9595 Nelson Road Longmont CO 80501;X-APPLE-RADIUS=500;X-TITLE=9595 Nelson Road:geo:-105.127464,40.15675
END:VEVENT
BEGIN:VEVENT
DTSTART;TZID=America/Denver:20250516T090000
DTEND;TZID=America/Denver:20250516T160000
DTSTAMP:20260419T160643
CREATED:20250902T173039Z
LAST-MODIFIED:20250903T173543Z
UID:10001471-1747386000-1747411200@bouldercounty.gov
SUMMARY:Basset Obedience Rally
DESCRIPTION:
URL:https://bouldercounty.gov/event/basset-obedience-rally-4/
LOCATION:Barn A\, 9595 Nelson Road\, Longmont\, CO\, 80501
CATEGORIES:Fairgrounds
GEO:40.155727;-105.127717
X-APPLE-STRUCTURED-LOCATION;VALUE=URI;X-ADDRESS=Barn A 9595 Nelson Road Longmont CO 80501;X-APPLE-RADIUS=500;X-TITLE=9595 Nelson Road:geo:-105.127717,40.155727
END:VEVENT
BEGIN:VEVENT
DTSTART;TZID=America/Denver:20250517T080000
DTEND;TZID=America/Denver:20250517T170000
DTSTAMP:20260419T160643
CREATED:20250902T173044Z
LAST-MODIFIED:20250903T173544Z
UID:10001472-1747468800-1747501200@bouldercounty.gov
SUMMARY:Basset Obedience Rally
DESCRIPTION:
URL:https://bouldercounty.gov/event/basset-obedience-rally-5/
LOCATION:Barn A\, 9595 Nelson Road\, Longmont\, CO\, 80501
CATEGORIES:Fairgrounds
GEO:40.155727;-105.127717
X-APPLE-STRUCTURED-LOCATION;VALUE=URI;X-ADDRESS=Barn A 9595 Nelson Road Longmont CO 80501;X-APPLE-RADIUS=500;X-TITLE=9595 Nelson Road:geo:-105.127717,40.155727
END:VEVENT
BEGIN:VEVENT
DTSTART;TZID=America/Denver:20250517T100000
DTEND;TZID=America/Denver:20250517T170000
DTSTAMP:20260419T160643
CREATED:20250902T172810Z
LAST-MODIFIED:20250903T173544Z
UID:10001420-1747476000-1747501200@bouldercounty.gov
SUMMARY:Strawberry Festival Antique and Vintage Market
DESCRIPTION:
URL:https://bouldercounty.gov/event/strawberry-festival-antique-and-vintage-market/
LOCATION:Exhibit Building\, 9595 Nelson Road\, Longmont\, CO\, 80501
CATEGORIES:Fairgrounds
GEO:40.155579;-105.129117
X-APPLE-STRUCTURED-LOCATION;VALUE=URI;X-ADDRESS=Exhibit Building 9595 Nelson Road Longmont CO 80501;X-APPLE-RADIUS=500;X-TITLE=9595 Nelson Road:geo:-105.129117,40.155579
END:VEVENT
BEGIN:VEVENT
DTSTART;TZID=America/Denver:20250518T080000
DTEND;TZID=America/Denver:20250518T150000
DTSTAMP:20260419T160643
CREATED:20250902T173045Z
LAST-MODIFIED:20250903T173618Z
UID:10001473-1747555200-1747580400@bouldercounty.gov
SUMMARY:Basset Obedience Rally
DESCRIPTION:
URL:https://bouldercounty.gov/event/basset-obedience-rally-6/
LOCATION:Barn A\, 9595 Nelson Road\, Longmont\, CO\, 80501
CATEGORIES:Fairgrounds
GEO:40.155727;-105.127717
X-APPLE-STRUCTURED-LOCATION;VALUE=URI;X-ADDRESS=Barn A 9595 Nelson Road Longmont CO 80501;X-APPLE-RADIUS=500;X-TITLE=9595 Nelson Road:geo:-105.127717,40.155727
END:VEVENT
BEGIN:VEVENT
DTSTART;TZID=America/Denver:20250518T090000
DTEND;TZID=America/Denver:20250518T140000
DTSTAMP:20260419T160643
CREATED:20250902T172122Z
LAST-MODIFIED:20250903T173619Z
UID:10001222-1747558800-1747576800@bouldercounty.gov
SUMMARY:Show Us Your Chevy
DESCRIPTION:
URL:https://bouldercounty.gov/event/show-us-your-chevy-2/
LOCATION:Picnic Shelter\, 9595 Nelson Road\, Longmont\, CO\, 80501
CATEGORIES:Fairgrounds
GEO:40.153462;-105.12901
X-APPLE-STRUCTURED-LOCATION;VALUE=URI;X-ADDRESS=Picnic Shelter 9595 Nelson Road Longmont CO 80501;X-APPLE-RADIUS=500;X-TITLE=9595 Nelson Road:geo:-105.12901,40.153462
END:VEVENT
BEGIN:VEVENT
DTSTART;TZID=America/Denver:20250518T110000
DTEND;TZID=America/Denver:20250518T160000
DTSTAMP:20260419T160643
CREATED:20250902T172811Z
LAST-MODIFIED:20250903T173619Z
UID:10001421-1747566000-1747584000@bouldercounty.gov
SUMMARY:Strawberry Festival Antique and Vintage Market
DESCRIPTION:
URL:https://bouldercounty.gov/event/strawberry-festival-antique-and-vintage-market-2/
LOCATION:Exhibit Building\, 9595 Nelson Road\, Longmont\, CO\, 80501
CATEGORIES:Fairgrounds
GEO:40.155579;-105.129117
X-APPLE-STRUCTURED-LOCATION;VALUE=URI;X-ADDRESS=Exhibit Building 9595 Nelson Road Longmont CO 80501;X-APPLE-RADIUS=500;X-TITLE=9595 Nelson Road:geo:-105.129117,40.155579
END:VEVENT
BEGIN:VEVENT
DTSTART;TZID=America/Denver:20250523T080000
DTEND;TZID=America/Denver:20250523T160000
DTSTAMP:20260419T160643
CREATED:20250902T172358Z
LAST-MODIFIED:20250903T173620Z
UID:10001306-1747987200-1748016000@bouldercounty.gov
SUMMARY:AMHA Miniature Horse Show
DESCRIPTION:
URL:https://bouldercounty.gov/event/amha-miniature-horse-show-4/
LOCATION:Indoor Arena\, 9595 Nelson Road\, Longmont\, CO\, 80501
CATEGORIES:Fairgrounds
ORGANIZER;CN="Mary Lou Elder":MAILTO:mlelder.922@gmail.com
GEO:40.155026;-105.128081
X-APPLE-STRUCTURED-LOCATION;VALUE=URI;X-ADDRESS=Indoor Arena 9595 Nelson Road Longmont CO 80501;X-APPLE-RADIUS=500;X-TITLE=9595 Nelson Road:geo:-105.128081,40.155026
END:VEVENT
BEGIN:VEVENT
DTSTART;TZID=America/Denver:20250523T120000
DTEND;TZID=America/Denver:20250523T180000
DTSTAMP:20260419T160643
CREATED:20250902T170825Z
LAST-MODIFIED:20250903T173620Z
UID:10001167-1748001600-1748023200@bouldercounty.gov
SUMMARY:Longmont Home and Patio Show
DESCRIPTION:
URL:https://bouldercounty.gov/event/longmont-home-and-patio-show/
LOCATION:Exhibit Building\, 9595 Nelson Road\, Longmont\, CO\, 80501
CATEGORIES:Fairgrounds
GEO:40.155579;-105.129117
X-APPLE-STRUCTURED-LOCATION;VALUE=URI;X-ADDRESS=Exhibit Building 9595 Nelson Road Longmont CO 80501;X-APPLE-RADIUS=500;X-TITLE=9595 Nelson Road:geo:-105.129117,40.155579
END:VEVENT
BEGIN:VEVENT
DTSTART;TZID=America/Denver:20250523T120000
DTEND;TZID=America/Denver:20250523T220000
DTSTAMP:20260419T160643
CREATED:20250902T173052Z
LAST-MODIFIED:20250903T173621Z
UID:10001477-1748001600-1748037600@bouldercounty.gov
SUMMARY:True West Productions Barrels Jackpot
DESCRIPTION:
URL:https://bouldercounty.gov/event/true-west-productions-barrels-jackpot-37/
LOCATION:Outdoor Arena\, 9595 Nelson Road\, Longmont\, CO\, 80501
CATEGORIES:Fairgrounds
GEO:40.15675;-105.127464
X-APPLE-STRUCTURED-LOCATION;VALUE=URI;X-ADDRESS=Outdoor Arena 9595 Nelson Road Longmont CO 80501;X-APPLE-RADIUS=500;X-TITLE=9595 Nelson Road:geo:-105.127464,40.15675
END:VEVENT
BEGIN:VEVENT
DTSTART;TZID=America/Denver:20250524T080000
DTEND;TZID=America/Denver:20250524T160000
DTSTAMP:20260419T160643
CREATED:20250902T172359Z
LAST-MODIFIED:20250903T173622Z
UID:10001307-1748073600-1748102400@bouldercounty.gov
SUMMARY:AMHA Miniature Horse Show
DESCRIPTION:
URL:https://bouldercounty.gov/event/amha-miniature-horse-show-5/
LOCATION:Indoor Arena\, 9595 Nelson Road\, Longmont\, CO\, 80501
CATEGORIES:Fairgrounds
ORGANIZER;CN="Mary Lou Elder":MAILTO:mlelder.922@gmail.com
GEO:40.155026;-105.128081
X-APPLE-STRUCTURED-LOCATION;VALUE=URI;X-ADDRESS=Indoor Arena 9595 Nelson Road Longmont CO 80501;X-APPLE-RADIUS=500;X-TITLE=9595 Nelson Road:geo:-105.128081,40.155026
END:VEVENT
BEGIN:VEVENT
DTSTART;TZID=America/Denver:20250524T090000
DTEND;TZID=America/Denver:20250524T220000
DTSTAMP:20260419T160643
CREATED:20250902T173053Z
LAST-MODIFIED:20250903T173622Z
UID:10001478-1748077200-1748124000@bouldercounty.gov
SUMMARY:True West Productions Barrels Jackpot
DESCRIPTION:
URL:https://bouldercounty.gov/event/true-west-productions-barrels-jackpot-38/
LOCATION:Outdoor Arena\, 9595 Nelson Road\, Longmont\, CO\, 80501
CATEGORIES:Fairgrounds
GEO:40.15675;-105.127464
X-APPLE-STRUCTURED-LOCATION;VALUE=URI;X-ADDRESS=Outdoor Arena 9595 Nelson Road Longmont CO 80501;X-APPLE-RADIUS=500;X-TITLE=9595 Nelson Road:geo:-105.127464,40.15675
END:VEVENT
BEGIN:VEVENT
DTSTART;TZID=America/Denver:20250524T100000
DTEND;TZID=America/Denver:20250524T170000
DTSTAMP:20260419T160643
CREATED:20250902T170826Z
LAST-MODIFIED:20250903T173623Z
UID:10001168-1748080800-1748106000@bouldercounty.gov
SUMMARY:Longmont Home and Patio Show
DESCRIPTION:
URL:https://bouldercounty.gov/event/longmont-home-and-patio-show-2/
LOCATION:Exhibit Building\, 9595 Nelson Road\, Longmont\, CO\, 80501
CATEGORIES:Fairgrounds
GEO:40.155579;-105.129117
X-APPLE-STRUCTURED-LOCATION;VALUE=URI;X-ADDRESS=Exhibit Building 9595 Nelson Road Longmont CO 80501;X-APPLE-RADIUS=500;X-TITLE=9595 Nelson Road:geo:-105.129117,40.155579
END:VEVENT
END:VCALENDAR