BEGIN:VCALENDAR
VERSION:2.0
PRODID:-//Boulder County - ECPv6.15.17.1//NONSGML v1.0//EN
CALSCALE:GREGORIAN
METHOD:PUBLISH
X-ORIGINAL-URL:https://bouldercounty.gov
X-WR-CALDESC:Events for Boulder County
REFRESH-INTERVAL;VALUE=DURATION:PT1H
X-Robots-Tag:noindex
X-PUBLISHED-TTL:PT1H
BEGIN:VTIMEZONE
TZID:America/Denver
BEGIN:DAYLIGHT
TZOFFSETFROM:-0700
TZOFFSETTO:-0600
TZNAME:MDT
DTSTART:20240310T090000
END:DAYLIGHT
BEGIN:STANDARD
TZOFFSETFROM:-0600
TZOFFSETTO:-0700
TZNAME:MST
DTSTART:20241103T080000
END:STANDARD
BEGIN:DAYLIGHT
TZOFFSETFROM:-0700
TZOFFSETTO:-0600
TZNAME:MDT
DTSTART:20250309T090000
END:DAYLIGHT
BEGIN:STANDARD
TZOFFSETFROM:-0600
TZOFFSETTO:-0700
TZNAME:MST
DTSTART:20251102T080000
END:STANDARD
BEGIN:DAYLIGHT
TZOFFSETFROM:-0700
TZOFFSETTO:-0600
TZNAME:MDT
DTSTART:20260308T090000
END:DAYLIGHT
BEGIN:STANDARD
TZOFFSETFROM:-0600
TZOFFSETTO:-0700
TZNAME:MST
DTSTART:20261101T080000
END:STANDARD
END:VTIMEZONE
BEGIN:VEVENT
DTSTART;TZID=America/Denver:20250404T160000
DTEND;TZID=America/Denver:20250404T220000
DTSTAMP:20260419T173828
CREATED:20250902T172513Z
LAST-MODIFIED:20250903T173516Z
UID:10001352-1743782400-1743804000@bouldercounty.gov
SUMMARY:True West Productions Barrels Jackpot
DESCRIPTION:
URL:https://bouldercounty.gov/event/true-west-productions-barrels-jackpot-29/
LOCATION:Indoor Arena\, 9595 Nelson Road\, Longmont\, CO\, 80501
CATEGORIES:Fairgrounds
GEO:40.155026;-105.128081
X-APPLE-STRUCTURED-LOCATION;VALUE=URI;X-ADDRESS=Indoor Arena 9595 Nelson Road Longmont CO 80501;X-APPLE-RADIUS=500;X-TITLE=9595 Nelson Road:geo:-105.128081,40.155026
END:VEVENT
BEGIN:VEVENT
DTSTART;TZID=America/Denver:20250405T090000
DTEND;TZID=America/Denver:20250405T130000
DTSTAMP:20260419T173828
CREATED:20250902T172405Z
LAST-MODIFIED:20250903T173517Z
UID:10001313-1743843600-1743858000@bouldercounty.gov
SUMMARY:LARC Fest 2025
DESCRIPTION:
URL:https://bouldercounty.gov/event/larc-fest-2025/
LOCATION:Exhibit Building\, 9595 Nelson Road\, Longmont\, CO\, 80501
CATEGORIES:Fairgrounds
GEO:40.155579;-105.129117
X-APPLE-STRUCTURED-LOCATION;VALUE=URI;X-ADDRESS=Exhibit Building 9595 Nelson Road Longmont CO 80501;X-APPLE-RADIUS=500;X-TITLE=9595 Nelson Road:geo:-105.129117,40.155579
END:VEVENT
BEGIN:VEVENT
DTSTART;TZID=America/Denver:20250405T100000
DTEND;TZID=America/Denver:20250405T220000
DTSTAMP:20260419T173828
CREATED:20250902T172514Z
LAST-MODIFIED:20250903T173519Z
UID:10001353-1743847200-1743890400@bouldercounty.gov
SUMMARY:True West Productions Barrels Jackpot
DESCRIPTION:
URL:https://bouldercounty.gov/event/true-west-productions-barrels-jackpot-30/
LOCATION:Indoor Arena\, 9595 Nelson Road\, Longmont\, CO\, 80501
CATEGORIES:Fairgrounds
GEO:40.155026;-105.128081
X-APPLE-STRUCTURED-LOCATION;VALUE=URI;X-ADDRESS=Indoor Arena 9595 Nelson Road Longmont CO 80501;X-APPLE-RADIUS=500;X-TITLE=9595 Nelson Road:geo:-105.128081,40.155026
END:VEVENT
BEGIN:VEVENT
DTSTART;TZID=America/Denver:20250406T100000
DTEND;TZID=America/Denver:20250406T220000
DTSTAMP:20260419T173828
CREATED:20250902T172515Z
LAST-MODIFIED:20250903T173519Z
UID:10001354-1743933600-1743976800@bouldercounty.gov
SUMMARY:True West Productions Barrels Jackpot
DESCRIPTION:
URL:https://bouldercounty.gov/event/true-west-productions-barrels-jackpot-31/
LOCATION:Indoor Arena\, 9595 Nelson Road\, Longmont\, CO\, 80501
CATEGORIES:Fairgrounds
GEO:40.155026;-105.128081
X-APPLE-STRUCTURED-LOCATION;VALUE=URI;X-ADDRESS=Indoor Arena 9595 Nelson Road Longmont CO 80501;X-APPLE-RADIUS=500;X-TITLE=9595 Nelson Road:geo:-105.128081,40.155026
END:VEVENT
BEGIN:VEVENT
DTSTART;TZID=America/Denver:20250412T080000
DTEND;TZID=America/Denver:20250412T193000
DTSTAMP:20260419T173828
CREATED:20250902T172830Z
LAST-MODIFIED:20250903T173520Z
UID:10001424-1744444800-1744486200@bouldercounty.gov
SUMMARY:Boulder County Roller Derby Cryptid Catastrophe Tournament
DESCRIPTION:Visit their website for more info:  https://bouldercountyrollerderby.com/upcoming-roller-derby-bouts/
URL:https://bouldercounty.gov/event/boulder-county-roller-derby-cryptid-catastrophe-tournament/
LOCATION:Exhibit Building\, 9595 Nelson Road\, Longmont\, CO\, 80501
CATEGORIES:Fairgrounds
ORGANIZER;CN="Boulder County Roller Derby":MAILTO:boutproduction@bouldercountyrollerderby.com
GEO:40.155579;-105.129117
X-APPLE-STRUCTURED-LOCATION;VALUE=URI;X-ADDRESS=Exhibit Building 9595 Nelson Road Longmont CO 80501;X-APPLE-RADIUS=500;X-TITLE=9595 Nelson Road:geo:-105.129117,40.155579
END:VEVENT
BEGIN:VEVENT
DTSTART;TZID=America/Denver:20250412T090000
DTEND;TZID=America/Denver:20250412T170000
DTSTAMP:20260419T173828
CREATED:20250902T172325Z
LAST-MODIFIED:20250903T173521Z
UID:10001284-1744448400-1744477200@bouldercounty.gov
SUMMARY:Colorado Tartan Day Festival
DESCRIPTION:
URL:https://bouldercounty.gov/event/colorado-tartan-day-festival-3/
LOCATION:Picnic Shelter\, 9595 Nelson Road\, Longmont\, CO\, 80501
CATEGORIES:Fairgrounds
GEO:40.153462;-105.12901
X-APPLE-STRUCTURED-LOCATION;VALUE=URI;X-ADDRESS=Picnic Shelter 9595 Nelson Road Longmont CO 80501;X-APPLE-RADIUS=500;X-TITLE=9595 Nelson Road:geo:-105.12901,40.153462
END:VEVENT
BEGIN:VEVENT
DTSTART;TZID=America/Denver:20250413T083000
DTEND;TZID=America/Denver:20250413T180000
DTSTAMP:20260419T173828
CREATED:20250902T172909Z
LAST-MODIFIED:20250903T173521Z
UID:10001432-1744533000-1744567200@bouldercounty.gov
SUMMARY:4-H and Open Horse Show
DESCRIPTION:
URL:https://bouldercounty.gov/event/4-h-and-open-horse-show-6/
LOCATION:Indoor Arena\, 9595 Nelson Road\, Longmont\, CO\, 80501
CATEGORIES:Fairgrounds
ORGANIZER;CN="Kelly Thomas":MAILTO:kelly0515@aol.com
GEO:40.155026;-105.128081
X-APPLE-STRUCTURED-LOCATION;VALUE=URI;X-ADDRESS=Indoor Arena 9595 Nelson Road Longmont CO 80501;X-APPLE-RADIUS=500;X-TITLE=9595 Nelson Road:geo:-105.128081,40.155026
END:VEVENT
BEGIN:VEVENT
DTSTART;TZID=America/Denver:20250413T090000
DTEND;TZID=America/Denver:20250413T160000
DTSTAMP:20260419T173828
CREATED:20250902T172326Z
LAST-MODIFIED:20250903T173522Z
UID:10001285-1744534800-1744560000@bouldercounty.gov
SUMMARY:Colorado Tartan Day Festival
DESCRIPTION:
URL:https://bouldercounty.gov/event/colorado-tartan-day-festival-4/
LOCATION:Picnic Shelter\, 9595 Nelson Road\, Longmont\, CO\, 80501
CATEGORIES:Fairgrounds
GEO:40.153462;-105.12901
X-APPLE-STRUCTURED-LOCATION;VALUE=URI;X-ADDRESS=Picnic Shelter 9595 Nelson Road Longmont CO 80501;X-APPLE-RADIUS=500;X-TITLE=9595 Nelson Road:geo:-105.12901,40.153462
END:VEVENT
BEGIN:VEVENT
DTSTART;TZID=America/Denver:20250415T080000
DTEND;TZID=America/Denver:20250415T200000
DTSTAMP:20260419T173828
CREATED:20250902T172137Z
LAST-MODIFIED:20250903T173523Z
UID:10001231-1744704000-1744747200@bouldercounty.gov
SUMMARY:St Vrain Valley School District Art Show
DESCRIPTION:
URL:https://bouldercounty.gov/event/st-vrain-valley-school-district-art-show-6/
LOCATION:Exhibit Building\, 9595 Nelson Road\, Longmont\, CO\, 80501
CATEGORIES:Fairgrounds
GEO:40.155579;-105.129117
X-APPLE-STRUCTURED-LOCATION;VALUE=URI;X-ADDRESS=Exhibit Building 9595 Nelson Road Longmont CO 80501;X-APPLE-RADIUS=500;X-TITLE=9595 Nelson Road:geo:-105.129117,40.155579
END:VEVENT
BEGIN:VEVENT
DTSTART;TZID=America/Denver:20250416T080000
DTEND;TZID=America/Denver:20250416T200000
DTSTAMP:20260419T173828
CREATED:20250902T172152Z
LAST-MODIFIED:20250903T173523Z
UID:10001232-1744790400-1744833600@bouldercounty.gov
SUMMARY:St Vrain Valley School District Art Show
DESCRIPTION:
URL:https://bouldercounty.gov/event/st-vrain-valley-school-district-art-show-7/
LOCATION:Exhibit Building\, 9595 Nelson Road\, Longmont\, CO\, 80501
CATEGORIES:Fairgrounds
GEO:40.155579;-105.129117
X-APPLE-STRUCTURED-LOCATION;VALUE=URI;X-ADDRESS=Exhibit Building 9595 Nelson Road Longmont CO 80501;X-APPLE-RADIUS=500;X-TITLE=9595 Nelson Road:geo:-105.129117,40.155579
END:VEVENT
BEGIN:VEVENT
DTSTART;TZID=America/Denver:20250417T080000
DTEND;TZID=America/Denver:20250417T200000
DTSTAMP:20260419T173828
CREATED:20250902T172153Z
LAST-MODIFIED:20250903T173524Z
UID:10001233-1744876800-1744920000@bouldercounty.gov
SUMMARY:St Vrain Valley School District Art Show
DESCRIPTION:
URL:https://bouldercounty.gov/event/st-vrain-valley-school-district-art-show-8/
LOCATION:Exhibit Building\, 9595 Nelson Road\, Longmont\, CO\, 80501
CATEGORIES:Fairgrounds
GEO:40.155579;-105.129117
X-APPLE-STRUCTURED-LOCATION;VALUE=URI;X-ADDRESS=Exhibit Building 9595 Nelson Road Longmont CO 80501;X-APPLE-RADIUS=500;X-TITLE=9595 Nelson Road:geo:-105.129117,40.155579
END:VEVENT
BEGIN:VEVENT
DTSTART;TZID=America/Denver:20250418T080000
DTEND;TZID=America/Denver:20250418T200000
DTSTAMP:20260419T173828
CREATED:20250902T172154Z
LAST-MODIFIED:20250903T173525Z
UID:10001234-1744963200-1745006400@bouldercounty.gov
SUMMARY:St Vrain Valley School District Art Show
DESCRIPTION:
URL:https://bouldercounty.gov/event/st-vrain-valley-school-district-art-show-9/
LOCATION:Exhibit Building\, 9595 Nelson Road\, Longmont\, CO\, 80501
CATEGORIES:Fairgrounds
GEO:40.155579;-105.129117
X-APPLE-STRUCTURED-LOCATION;VALUE=URI;X-ADDRESS=Exhibit Building 9595 Nelson Road Longmont CO 80501;X-APPLE-RADIUS=500;X-TITLE=9595 Nelson Road:geo:-105.129117,40.155579
END:VEVENT
BEGIN:VEVENT
DTSTART;TZID=America/Denver:20250419T080000
DTEND;TZID=America/Denver:20250419T170000
DTSTAMP:20260419T173828
CREATED:20250902T172910Z
LAST-MODIFIED:20250903T173526Z
UID:10001433-1745049600-1745082000@bouldercounty.gov
SUMMARY:4-H Ranch Clinic
DESCRIPTION:
URL:https://bouldercounty.gov/event/4-h-ranch-clinic-2/
LOCATION:Indoor Arena\, 9595 Nelson Road\, Longmont\, CO\, 80501
CATEGORIES:Fairgrounds
ORGANIZER;CN="Kelly Thomas":MAILTO:kelly0515@aol.com
GEO:40.155026;-105.128081
X-APPLE-STRUCTURED-LOCATION;VALUE=URI;X-ADDRESS=Indoor Arena 9595 Nelson Road Longmont CO 80501;X-APPLE-RADIUS=500;X-TITLE=9595 Nelson Road:geo:-105.128081,40.155026
END:VEVENT
BEGIN:VEVENT
DTSTART;TZID=America/Denver:20250419T080000
DTEND;TZID=America/Denver:20250419T200000
DTSTAMP:20260419T173828
CREATED:20250902T172155Z
LAST-MODIFIED:20250903T173527Z
UID:10001235-1745049600-1745092800@bouldercounty.gov
SUMMARY:St Vrain Valley School District Art Show
DESCRIPTION:
URL:https://bouldercounty.gov/event/st-vrain-valley-school-district-art-show-10/
LOCATION:Exhibit Building\, 9595 Nelson Road\, Longmont\, CO\, 80501
CATEGORIES:Fairgrounds
GEO:40.155579;-105.129117
X-APPLE-STRUCTURED-LOCATION;VALUE=URI;X-ADDRESS=Exhibit Building 9595 Nelson Road Longmont CO 80501;X-APPLE-RADIUS=500;X-TITLE=9595 Nelson Road:geo:-105.129117,40.155579
END:VEVENT
BEGIN:VEVENT
DTSTART;TZID=America/Denver:20250420T080000
DTEND;TZID=America/Denver:20250420T140000
DTSTAMP:20260419T173828
CREATED:20250902T172156Z
LAST-MODIFIED:20250903T173528Z
UID:10001236-1745136000-1745157600@bouldercounty.gov
SUMMARY:St Vrain Valley School District Art Show
DESCRIPTION:
URL:https://bouldercounty.gov/event/st-vrain-valley-school-district-art-show-11/
LOCATION:Exhibit Building\, 9595 Nelson Road\, Longmont\, CO\, 80501
CATEGORIES:Fairgrounds
GEO:40.155579;-105.129117
X-APPLE-STRUCTURED-LOCATION;VALUE=URI;X-ADDRESS=Exhibit Building 9595 Nelson Road Longmont CO 80501;X-APPLE-RADIUS=500;X-TITLE=9595 Nelson Road:geo:-105.129117,40.155579
END:VEVENT
BEGIN:VEVENT
DTSTART;TZID=America/Denver:20250426T090000
DTEND;TZID=America/Denver:20250426T160000
DTSTAMP:20260419T173828
CREATED:20250902T172134Z
LAST-MODIFIED:20250903T173529Z
UID:10001228-1745658000-1745683200@bouldercounty.gov
SUMMARY:4-H Open Horse Show
DESCRIPTION:
URL:https://bouldercounty.gov/event/4-h-open-horse-show-2/
LOCATION:Indoor Arena\, 9595 Nelson Road\, Longmont\, CO\, 80501
CATEGORIES:Fairgrounds
GEO:40.155026;-105.128081
X-APPLE-STRUCTURED-LOCATION;VALUE=URI;X-ADDRESS=Indoor Arena 9595 Nelson Road Longmont CO 80501;X-APPLE-RADIUS=500;X-TITLE=9595 Nelson Road:geo:-105.128081,40.155026
END:VEVENT
BEGIN:VEVENT
DTSTART;TZID=America/Denver:20250427T090000
DTEND;TZID=America/Denver:20250427T180000
DTSTAMP:20260419T173828
CREATED:20250902T172316Z
LAST-MODIFIED:20250903T173529Z
UID:10001277-1745744400-1745776800@bouldercounty.gov
SUMMARY:Niwot Antique Auction
DESCRIPTION:Niwot Auction is your full service auction company; consignment\, antique\, estate\, farm\, real estate and on-site auctions. Contact us with all your auction needs.
URL:https://bouldercounty.gov/event/niwot-antique-auction-11/
LOCATION:Barn A\, 9595 Nelson Road\, Longmont\, CO\, 80501
CATEGORIES:Fairgrounds
GEO:40.155727;-105.127717
X-APPLE-STRUCTURED-LOCATION;VALUE=URI;X-ADDRESS=Barn A 9595 Nelson Road Longmont CO 80501;X-APPLE-RADIUS=500;X-TITLE=9595 Nelson Road:geo:-105.127717,40.155727
END:VEVENT
END:VCALENDAR