BEGIN:VCALENDAR
VERSION:2.0
PRODID:-//Boulder County - ECPv6.15.17.1//NONSGML v1.0//EN
CALSCALE:GREGORIAN
METHOD:PUBLISH
X-WR-CALNAME:Boulder County
X-ORIGINAL-URL:https://bouldercounty.gov
X-WR-CALDESC:Events for Boulder County
REFRESH-INTERVAL;VALUE=DURATION:PT1H
X-Robots-Tag:noindex
X-PUBLISHED-TTL:PT1H
BEGIN:VTIMEZONE
TZID:America/Denver
BEGIN:DAYLIGHT
TZOFFSETFROM:-0700
TZOFFSETTO:-0600
TZNAME:MDT
DTSTART:20240310T090000
END:DAYLIGHT
BEGIN:STANDARD
TZOFFSETFROM:-0600
TZOFFSETTO:-0700
TZNAME:MST
DTSTART:20241103T080000
END:STANDARD
BEGIN:DAYLIGHT
TZOFFSETFROM:-0700
TZOFFSETTO:-0600
TZNAME:MDT
DTSTART:20250309T090000
END:DAYLIGHT
BEGIN:STANDARD
TZOFFSETFROM:-0600
TZOFFSETTO:-0700
TZNAME:MST
DTSTART:20251102T080000
END:STANDARD
BEGIN:DAYLIGHT
TZOFFSETFROM:-0700
TZOFFSETTO:-0600
TZNAME:MDT
DTSTART:20260308T090000
END:DAYLIGHT
BEGIN:STANDARD
TZOFFSETFROM:-0600
TZOFFSETTO:-0700
TZNAME:MST
DTSTART:20261101T080000
END:STANDARD
END:VTIMEZONE
BEGIN:VEVENT
DTSTART;TZID=America/Denver:20250301T083000
DTEND;TZID=America/Denver:20250301T190000
DTSTAMP:20260419T191404
CREATED:20250902T170646Z
LAST-MODIFIED:20250903T171008Z
UID:10001103-1740817800-1740855600@bouldercounty.gov
SUMMARY:Mountain Dog Sports NADAC Agility Trial
DESCRIPTION:
URL:https://bouldercounty.gov/event/mountain-dog-sports-nadac-agility-trial-5/
LOCATION:Indoor Arena\, 9595 Nelson Road\, Longmont\, CO\, 80501
CATEGORIES:Fairgrounds
ORGANIZER;CN="Lindsey Cooper":MAILTO:mountaindogsports@yahoo.com
GEO:40.155026;-105.128081
X-APPLE-STRUCTURED-LOCATION;VALUE=URI;X-ADDRESS=Indoor Arena 9595 Nelson Road Longmont CO 80501;X-APPLE-RADIUS=500;X-TITLE=9595 Nelson Road:geo:-105.128081,40.155026
END:VEVENT
BEGIN:VEVENT
DTSTART;TZID=America/Denver:20250301T090000
DTEND;TZID=America/Denver:20250301T170000
DTSTAMP:20260419T191404
CREATED:20250902T172329Z
LAST-MODIFIED:20250903T171008Z
UID:10001286-1740819600-1740848400@bouldercounty.gov
SUMMARY:Longmont Survival and Prepper Show
DESCRIPTION:
URL:https://bouldercounty.gov/event/longmont-survival-and-prepper-show-3/
LOCATION:Exhibit Building\, 9595 Nelson Road\, Longmont\, CO\, 80501
CATEGORIES:Fairgrounds
ORGANIZER;CN="Justin Anderson":MAILTO:justin@PEShows.com
GEO:40.155579;-105.129117
X-APPLE-STRUCTURED-LOCATION;VALUE=URI;X-ADDRESS=Exhibit Building 9595 Nelson Road Longmont CO 80501;X-APPLE-RADIUS=500;X-TITLE=9595 Nelson Road:geo:-105.129117,40.155579
END:VEVENT
BEGIN:VEVENT
DTSTART;TZID=America/Denver:20250302T083000
DTEND;TZID=America/Denver:20250302T180000
DTSTAMP:20260419T191404
CREATED:20250902T170647Z
LAST-MODIFIED:20250903T171010Z
UID:10001104-1740904200-1740938400@bouldercounty.gov
SUMMARY:Mountain Dog Sports NADAC Agility Trial
DESCRIPTION:
URL:https://bouldercounty.gov/event/mountain-dog-sports-nadac-agility-trial-6/
LOCATION:Indoor Arena\, 9595 Nelson Road\, Longmont\, CO\, 80501
CATEGORIES:Fairgrounds
ORGANIZER;CN="Lindsey Cooper":MAILTO:mountaindogsports@yahoo.com
GEO:40.155026;-105.128081
X-APPLE-STRUCTURED-LOCATION;VALUE=URI;X-ADDRESS=Indoor Arena 9595 Nelson Road Longmont CO 80501;X-APPLE-RADIUS=500;X-TITLE=9595 Nelson Road:geo:-105.128081,40.155026
END:VEVENT
BEGIN:VEVENT
DTSTART;TZID=America/Denver:20250302T100000
DTEND;TZID=America/Denver:20250302T160000
DTSTAMP:20260419T191404
CREATED:20250902T172332Z
LAST-MODIFIED:20250903T171010Z
UID:10001287-1740909600-1740931200@bouldercounty.gov
SUMMARY:Longmont Survival and Prepper Show
DESCRIPTION:
URL:https://bouldercounty.gov/event/longmont-survival-and-prepper-show-4/
LOCATION:Exhibit Building\, 9595 Nelson Road\, Longmont\, CO\, 80501
CATEGORIES:Fairgrounds
ORGANIZER;CN="Justin Anderson":MAILTO:justin@PEShows.com
GEO:40.155579;-105.129117
X-APPLE-STRUCTURED-LOCATION;VALUE=URI;X-ADDRESS=Exhibit Building 9595 Nelson Road Longmont CO 80501;X-APPLE-RADIUS=500;X-TITLE=9595 Nelson Road:geo:-105.129117,40.155579
END:VEVENT
BEGIN:VEVENT
DTSTART;TZID=America/Denver:20250307T120000
DTEND;TZID=America/Denver:20250307T210000
DTSTAMP:20260419T191404
CREATED:20250902T172421Z
LAST-MODIFIED:20250903T171011Z
UID:10001322-1741348800-1741381200@bouldercounty.gov
SUMMARY:True West Barrels Jackpot
DESCRIPTION:
URL:https://bouldercounty.gov/event/true-west-barrels-jackpot/
LOCATION:Indoor Arena\, 9595 Nelson Road\, Longmont\, CO\, 80501
CATEGORIES:Fairgrounds
GEO:40.155026;-105.128081
X-APPLE-STRUCTURED-LOCATION;VALUE=URI;X-ADDRESS=Indoor Arena 9595 Nelson Road Longmont CO 80501;X-APPLE-RADIUS=500;X-TITLE=9595 Nelson Road:geo:-105.128081,40.155026
END:VEVENT
BEGIN:VEVENT
DTSTART;TZID=America/Denver:20250308T090000
DTEND;TZID=America/Denver:20250308T170000
DTSTAMP:20260419T191404
CREATED:20250902T172125Z
LAST-MODIFIED:20250903T171011Z
UID:10001226-1741424400-1741453200@bouldercounty.gov
SUMMARY:Front Range Coin Club Coin Show
DESCRIPTION:
URL:https://bouldercounty.gov/event/front-range-coin-club-coin-show-3/
LOCATION:Barn A\, 9595 Nelson Road\, Longmont\, CO\, 80501
CATEGORIES:Fairgrounds
ORGANIZER;CN="Ken Davis":MAILTO:krdavis334@msn.com
GEO:40.155727;-105.127717
X-APPLE-STRUCTURED-LOCATION;VALUE=URI;X-ADDRESS=Barn A 9595 Nelson Road Longmont CO 80501;X-APPLE-RADIUS=500;X-TITLE=9595 Nelson Road:geo:-105.127717,40.155727
END:VEVENT
BEGIN:VEVENT
DTSTART;TZID=America/Denver:20250308T090000
DTEND;TZID=America/Denver:20250308T210000
DTSTAMP:20260419T191404
CREATED:20250902T172422Z
LAST-MODIFIED:20250903T171012Z
UID:10001323-1741424400-1741467600@bouldercounty.gov
SUMMARY:True West Barrels Jackpot
DESCRIPTION:
URL:https://bouldercounty.gov/event/true-west-barrels-jackpot-2/
LOCATION:Indoor Arena\, 9595 Nelson Road\, Longmont\, CO\, 80501
CATEGORIES:Fairgrounds
GEO:40.155026;-105.128081
X-APPLE-STRUCTURED-LOCATION;VALUE=URI;X-ADDRESS=Indoor Arena 9595 Nelson Road Longmont CO 80501;X-APPLE-RADIUS=500;X-TITLE=9595 Nelson Road:geo:-105.128081,40.155026
END:VEVENT
BEGIN:VEVENT
DTSTART;TZID=America/Denver:20250308T103000
DTEND;TZID=America/Denver:20250308T170000
DTSTAMP:20260419T191404
CREATED:20250902T170833Z
LAST-MODIFIED:20250903T171012Z
UID:10001173-1741429800-1741453200@bouldercounty.gov
SUMMARY:4-H Carnival
DESCRIPTION:Join the Fun at the 4-H Carnival!\nIf you’re looking for a fun\, family-friendly event\, join us for this year’s 4-H Carnival! This exciting event will feature games\, creative activities\, a silent auction\, and delicious treats for all ages. From interactive booths hosted by 4-H clubs to opportunities to win prizes\, there’s something for everyone to enjoy. Proceeds from the carnival help support Boulder County 4-H programs and youth development activities. \nDate: Saturday\, March 8\, 2025\nTime: 10:30 a.m. – 5 p.m.\nLocation: Boulder County Fairgrounds Exhibit Building \nAdmission is free\, but tickets for games and activities will be available for purchase at the event. Don’t miss this opportunity to support your local 4-H while having a great time with friends and family! \nFor more information or to get involved\, please visit Boulder County 4-H.
URL:https://bouldercounty.gov/event/4-h-carnival/
LOCATION:Exhibit Building\, 9595 Nelson Road\, Longmont\, CO\, 80501
CATEGORIES:Fairgrounds,Hikes & Events,Parks & Open Space
GEO:40.155579;-105.129117
X-APPLE-STRUCTURED-LOCATION;VALUE=URI;X-ADDRESS=Exhibit Building 9595 Nelson Road Longmont CO 80501;X-APPLE-RADIUS=500;X-TITLE=9595 Nelson Road:geo:-105.129117,40.155579
END:VEVENT
BEGIN:VEVENT
DTSTART;TZID=America/Denver:20250308T103000
DTEND;TZID=America/Denver:20250308T170000
DTSTAMP:20260419T191404
CREATED:20250902T172340Z
LAST-MODIFIED:20250903T171013Z
UID:10001295-1741429800-1741453200@bouldercounty.gov
SUMMARY:4-H Spring Carnival Candyland
DESCRIPTION:
URL:https://bouldercounty.gov/event/4-h-spring-carnival-candyland/
LOCATION:Exhibit Building\, 9595 Nelson Road\, Longmont\, CO\, 80501
CATEGORIES:Fairgrounds
GEO:40.155579;-105.129117
X-APPLE-STRUCTURED-LOCATION;VALUE=URI;X-ADDRESS=Exhibit Building 9595 Nelson Road Longmont CO 80501;X-APPLE-RADIUS=500;X-TITLE=9595 Nelson Road:geo:-105.129117,40.155579
END:VEVENT
BEGIN:VEVENT
DTSTART;TZID=America/Denver:20250309T090000
DTEND;TZID=America/Denver:20250309T140000
DTSTAMP:20260419T191404
CREATED:20250902T172400Z
LAST-MODIFIED:20250903T171013Z
UID:10001309-1741510800-1741528800@bouldercounty.gov
SUMMARY:4-H Jumping Clinic
DESCRIPTION:
URL:https://bouldercounty.gov/event/4-h-jumping-clinic/
LOCATION:Indoor Arena\, 9595 Nelson Road\, Longmont\, CO\, 80501
CATEGORIES:Fairgrounds
ORGANIZER;CN="Kelly Thomas":MAILTO:kelly0515@aol.com
GEO:40.155026;-105.128081
X-APPLE-STRUCTURED-LOCATION;VALUE=URI;X-ADDRESS=Indoor Arena 9595 Nelson Road Longmont CO 80501;X-APPLE-RADIUS=500;X-TITLE=9595 Nelson Road:geo:-105.128081,40.155026
END:VEVENT
BEGIN:VEVENT
DTSTART;TZID=America/Denver:20250309T090000
DTEND;TZID=America/Denver:20250309T150000
DTSTAMP:20260419T191404
CREATED:20250902T172133Z
LAST-MODIFIED:20250903T174438Z
UID:10001227-1741510800-1741532400@bouldercounty.gov
SUMMARY:Front Range Coin Club Coin Show
DESCRIPTION:
URL:https://bouldercounty.gov/event/front-range-coin-club-coin-show-4/
LOCATION:Barn A\, 9595 Nelson Road\, Longmont\, CO\, 80501
CATEGORIES:Fairgrounds
ORGANIZER;CN="Ken Davis":MAILTO:krdavis334@msn.com
GEO:40.155727;-105.127717
X-APPLE-STRUCTURED-LOCATION;VALUE=URI;X-ADDRESS=Barn A 9595 Nelson Road Longmont CO 80501;X-APPLE-RADIUS=500;X-TITLE=9595 Nelson Road:geo:-105.127717,40.155727
END:VEVENT
BEGIN:VEVENT
DTSTART;TZID=America/Denver:20250314T140000
DTEND;TZID=America/Denver:20250314T213000
DTSTAMP:20260419T191404
CREATED:20250902T172426Z
LAST-MODIFIED:20250903T174433Z
UID:10001327-1741960800-1741987800@bouldercounty.gov
SUMMARY:Freewheel 80's/90's Birthday Bash Roller Skating Open to Public
DESCRIPTION:See for more information: https://www.skatefreewheel.com/events
URL:https://bouldercounty.gov/event/freewheel-80s-90s-birthday-bash-roller-skating-open-to-public/
LOCATION:Exhibit Building\, 9595 Nelson Road\, Longmont\, CO\, 80501
CATEGORIES:Fairgrounds
ORGANIZER;CN="Mandy Martin":MAILTO:mandy@skatefreewheel.com
GEO:40.155579;-105.129117
X-APPLE-STRUCTURED-LOCATION;VALUE=URI;X-ADDRESS=Exhibit Building 9595 Nelson Road Longmont CO 80501;X-APPLE-RADIUS=500;X-TITLE=9595 Nelson Road:geo:-105.129117,40.155579
END:VEVENT
BEGIN:VEVENT
DTSTART;TZID=America/Denver:20250315T083000
DTEND;TZID=America/Denver:20250315T170000
DTSTAMP:20260419T191404
CREATED:20250902T172333Z
LAST-MODIFIED:20250903T174434Z
UID:10001288-1742027400-1742058000@bouldercounty.gov
SUMMARY:Twin Peaks Agility Trials
DESCRIPTION:
URL:https://bouldercounty.gov/event/twin-peaks-agility-trials-3/
LOCATION:Indoor Arena\, 9595 Nelson Road\, Longmont\, CO\, 80501
CATEGORIES:Fairgrounds
ORGANIZER;CN="Liz Johnson":MAILTO:cinnabarcockers@yahoo.com
GEO:40.155026;-105.128081
X-APPLE-STRUCTURED-LOCATION;VALUE=URI;X-ADDRESS=Indoor Arena 9595 Nelson Road Longmont CO 80501;X-APPLE-RADIUS=500;X-TITLE=9595 Nelson Road:geo:-105.128081,40.155026
END:VEVENT
BEGIN:VEVENT
DTSTART;TZID=America/Denver:20250315T120000
DTEND;TZID=America/Denver:20250315T213000
DTSTAMP:20260419T191404
CREATED:20250902T172427Z
LAST-MODIFIED:20250903T174432Z
UID:10001328-1742040000-1742074200@bouldercounty.gov
SUMMARY:Freewheel 80's/90's Birthday Bash Roller Skating Open to Public
DESCRIPTION:See for more information: https://www.skatefreewheel.com/events
URL:https://bouldercounty.gov/event/freewheel-80s-90s-birthday-bash-roller-skating-open-to-public-2/
LOCATION:Exhibit Building\, 9595 Nelson Road\, Longmont\, CO\, 80501
CATEGORIES:Fairgrounds
ORGANIZER;CN="Mandy Martin":MAILTO:mandy@skatefreewheel.com
GEO:40.155579;-105.129117
X-APPLE-STRUCTURED-LOCATION;VALUE=URI;X-ADDRESS=Exhibit Building 9595 Nelson Road Longmont CO 80501;X-APPLE-RADIUS=500;X-TITLE=9595 Nelson Road:geo:-105.129117,40.155579
END:VEVENT
BEGIN:VEVENT
DTSTART;TZID=America/Denver:20250316T080000
DTEND;TZID=America/Denver:20250316T160000
DTSTAMP:20260419T191404
CREATED:20250902T172333Z
LAST-MODIFIED:20250903T174433Z
UID:10001289-1742112000-1742140800@bouldercounty.gov
SUMMARY:Twin Peaks Agility Trials
DESCRIPTION:
URL:https://bouldercounty.gov/event/twin-peaks-agility-trials-4/
LOCATION:Indoor Arena\, 9595 Nelson Road\, Longmont\, CO\, 80501
CATEGORIES:Fairgrounds
ORGANIZER;CN="Liz Johnson":MAILTO:cinnabarcockers@yahoo.com
GEO:40.155026;-105.128081
X-APPLE-STRUCTURED-LOCATION;VALUE=URI;X-ADDRESS=Indoor Arena 9595 Nelson Road Longmont CO 80501;X-APPLE-RADIUS=500;X-TITLE=9595 Nelson Road:geo:-105.128081,40.155026
END:VEVENT
BEGIN:VEVENT
DTSTART;TZID=America/Denver:20250321T120000
DTEND;TZID=America/Denver:20250321T180000
DTSTAMP:20260419T191404
CREATED:20250902T170821Z
LAST-MODIFIED:20250903T174329Z
UID:10001164-1742558400-1742580000@bouldercounty.gov
SUMMARY:Longmont Home Show
DESCRIPTION:
URL:https://bouldercounty.gov/event/longmont-home-show-4/
LOCATION:Exhibit Building\, 9595 Nelson Road\, Longmont\, CO\, 80501
CATEGORIES:Fairgrounds
GEO:40.155579;-105.129117
X-APPLE-STRUCTURED-LOCATION;VALUE=URI;X-ADDRESS=Exhibit Building 9595 Nelson Road Longmont CO 80501;X-APPLE-RADIUS=500;X-TITLE=9595 Nelson Road:geo:-105.129117,40.155579
END:VEVENT
BEGIN:VEVENT
DTSTART;TZID=America/Denver:20250322T100000
DTEND;TZID=America/Denver:20250322T170000
DTSTAMP:20260419T191404
CREATED:20250902T170822Z
LAST-MODIFIED:20250903T173508Z
UID:10001165-1742637600-1742662800@bouldercounty.gov
SUMMARY:Longmont Home Show
DESCRIPTION:
URL:https://bouldercounty.gov/event/longmont-home-show-5/
LOCATION:Exhibit Building\, 9595 Nelson Road\, Longmont\, CO\, 80501
CATEGORIES:Fairgrounds
GEO:40.155579;-105.129117
X-APPLE-STRUCTURED-LOCATION;VALUE=URI;X-ADDRESS=Exhibit Building 9595 Nelson Road Longmont CO 80501;X-APPLE-RADIUS=500;X-TITLE=9595 Nelson Road:geo:-105.129117,40.155579
END:VEVENT
BEGIN:VEVENT
DTSTART;TZID=America/Denver:20250323T080000
DTEND;TZID=America/Denver:20250323T170000
DTSTAMP:20260419T191404
CREATED:20250902T172401Z
LAST-MODIFIED:20250903T173509Z
UID:10001310-1742716800-1742749200@bouldercounty.gov
SUMMARY:4-H Open Horse Show
DESCRIPTION:
URL:https://bouldercounty.gov/event/4-h-open-horse-show-4/
LOCATION:Indoor Arena\, 9595 Nelson Road\, Longmont\, CO\, 80501
CATEGORIES:Fairgrounds
ORGANIZER;CN="Kelly Thomas":MAILTO:kelly0515@aol.com
GEO:40.155026;-105.128081
X-APPLE-STRUCTURED-LOCATION;VALUE=URI;X-ADDRESS=Indoor Arena 9595 Nelson Road Longmont CO 80501;X-APPLE-RADIUS=500;X-TITLE=9595 Nelson Road:geo:-105.128081,40.155026
END:VEVENT
BEGIN:VEVENT
DTSTART;TZID=America/Denver:20250323T090000
DTEND;TZID=America/Denver:20250323T180000
DTSTAMP:20260419T191404
CREATED:20250902T172314Z
LAST-MODIFIED:20250903T173509Z
UID:10001276-1742720400-1742752800@bouldercounty.gov
SUMMARY:Niwot Antique Auction
DESCRIPTION:Niwot Auction is your full service auction company; consignment\, antique\, estate\, farm\, real estate and on-site auctions. Contact us with all your auction needs.\nFOR MORE INFORMATION\, GO TO:  http://niwotauction.com \n 
URL:https://bouldercounty.gov/event/niwot-antique-auction-10/
LOCATION:Barn A\, 9595 Nelson Road\, Longmont\, CO\, 80501
CATEGORIES:Fairgrounds
GEO:40.155727;-105.127717
X-APPLE-STRUCTURED-LOCATION;VALUE=URI;X-ADDRESS=Barn A 9595 Nelson Road Longmont CO 80501;X-APPLE-RADIUS=500;X-TITLE=9595 Nelson Road:geo:-105.127717,40.155727
END:VEVENT
BEGIN:VEVENT
DTSTART;TZID=America/Denver:20250323T110000
DTEND;TZID=America/Denver:20250323T160000
DTSTAMP:20260419T191404
CREATED:20250902T170823Z
LAST-MODIFIED:20250903T173510Z
UID:10001166-1742727600-1742745600@bouldercounty.gov
SUMMARY:Longmont Home Show
DESCRIPTION:
URL:https://bouldercounty.gov/event/longmont-home-show-6/
LOCATION:Exhibit Building\, 9595 Nelson Road\, Longmont\, CO\, 80501
CATEGORIES:Fairgrounds
GEO:40.155579;-105.129117
X-APPLE-STRUCTURED-LOCATION;VALUE=URI;X-ADDRESS=Exhibit Building 9595 Nelson Road Longmont CO 80501;X-APPLE-RADIUS=500;X-TITLE=9595 Nelson Road:geo:-105.129117,40.155579
END:VEVENT
BEGIN:VEVENT
DTSTART;TZID=America/Denver:20250325T090000
DTEND;TZID=America/Denver:20250325T153000
DTSTAMP:20260419T191404
CREATED:20250902T172545Z
LAST-MODIFIED:20250903T173511Z
UID:10001370-1742893200-1742916600@bouldercounty.gov
SUMMARY:Pedaling Minds Indoor Day Camp
DESCRIPTION:
URL:https://bouldercounty.gov/event/pedaling-minds-indoor-day-camp-2/
LOCATION:Barn A\, 9595 Nelson Road\, Longmont\, CO\, 80501
CATEGORIES:Fairgrounds
GEO:40.155727;-105.127717
X-APPLE-STRUCTURED-LOCATION;VALUE=URI;X-ADDRESS=Barn A 9595 Nelson Road Longmont CO 80501;X-APPLE-RADIUS=500;X-TITLE=9595 Nelson Road:geo:-105.127717,40.155727
END:VEVENT
BEGIN:VEVENT
DTSTART;TZID=America/Denver:20250327T170000
DTEND;TZID=America/Denver:20250327T220000
DTSTAMP:20260419T191404
CREATED:20250902T172345Z
LAST-MODIFIED:20250903T173512Z
UID:10001298-1743094800-1743112800@bouldercounty.gov
SUMMARY:Colorado Golden Gloves Championship
DESCRIPTION:
URL:https://bouldercounty.gov/event/colorado-golden-gloves-championship/
LOCATION:Exhibit Building\, 9595 Nelson Road\, Longmont\, CO\, 80501
CATEGORIES:Fairgrounds
GEO:40.155579;-105.129117
X-APPLE-STRUCTURED-LOCATION;VALUE=URI;X-ADDRESS=Exhibit Building 9595 Nelson Road Longmont CO 80501;X-APPLE-RADIUS=500;X-TITLE=9595 Nelson Road:geo:-105.129117,40.155579
END:VEVENT
BEGIN:VEVENT
DTSTART;TZID=America/Denver:20250328T080000
DTEND;TZID=America/Denver:20250328T170000
DTSTAMP:20260419T191404
CREATED:20250902T170656Z
LAST-MODIFIED:20250903T173513Z
UID:10001109-1743148800-1743181200@bouldercounty.gov
SUMMARY:Mile High Agility Dog Agility
DESCRIPTION:
URL:https://bouldercounty.gov/event/mile-high-agility-dog-agility/
LOCATION:Indoor Arena\, 9595 Nelson Road\, Longmont\, CO\, 80501
CATEGORIES:Fairgrounds
ORGANIZER;CN="Betty Jo Warriner":MAILTO:bjwarriner@earthlink.net
GEO:40.155026;-105.128081
X-APPLE-STRUCTURED-LOCATION;VALUE=URI;X-ADDRESS=Indoor Arena 9595 Nelson Road Longmont CO 80501;X-APPLE-RADIUS=500;X-TITLE=9595 Nelson Road:geo:-105.128081,40.155026
END:VEVENT
BEGIN:VEVENT
DTSTART;TZID=America/Denver:20250328T170000
DTEND;TZID=America/Denver:20250328T220000
DTSTAMP:20260419T191404
CREATED:20250902T172346Z
LAST-MODIFIED:20250903T173514Z
UID:10001299-1743181200-1743199200@bouldercounty.gov
SUMMARY:Colorado Golden Gloves Championship
DESCRIPTION:
URL:https://bouldercounty.gov/event/colorado-golden-gloves-championship-2/
LOCATION:Exhibit Building\, 9595 Nelson Road\, Longmont\, CO\, 80501
CATEGORIES:Fairgrounds
GEO:40.155579;-105.129117
X-APPLE-STRUCTURED-LOCATION;VALUE=URI;X-ADDRESS=Exhibit Building 9595 Nelson Road Longmont CO 80501;X-APPLE-RADIUS=500;X-TITLE=9595 Nelson Road:geo:-105.129117,40.155579
END:VEVENT
BEGIN:VEVENT
DTSTART;TZID=America/Denver:20250329T080000
DTEND;TZID=America/Denver:20250329T170000
DTSTAMP:20260419T191404
CREATED:20250902T170657Z
LAST-MODIFIED:20250903T173514Z
UID:10001110-1743235200-1743267600@bouldercounty.gov
SUMMARY:Mile High Agility Dog Agility
DESCRIPTION:
URL:https://bouldercounty.gov/event/mile-high-agility-dog-agility-2/
LOCATION:Indoor Arena\, 9595 Nelson Road\, Longmont\, CO\, 80501
CATEGORIES:Fairgrounds
ORGANIZER;CN="Betty Jo Warriner":MAILTO:bjwarriner@earthlink.net
GEO:40.155026;-105.128081
X-APPLE-STRUCTURED-LOCATION;VALUE=URI;X-ADDRESS=Indoor Arena 9595 Nelson Road Longmont CO 80501;X-APPLE-RADIUS=500;X-TITLE=9595 Nelson Road:geo:-105.128081,40.155026
END:VEVENT
BEGIN:VEVENT
DTSTART;TZID=America/Denver:20250329T170000
DTEND;TZID=America/Denver:20250329T220000
DTSTAMP:20260419T191404
CREATED:20250902T172347Z
LAST-MODIFIED:20250903T173515Z
UID:10001300-1743267600-1743285600@bouldercounty.gov
SUMMARY:Colorado Golden Gloves Championship
DESCRIPTION:
URL:https://bouldercounty.gov/event/colorado-golden-gloves-championship-3/
LOCATION:Exhibit Building\, 9595 Nelson Road\, Longmont\, CO\, 80501
CATEGORIES:Fairgrounds
GEO:40.155579;-105.129117
X-APPLE-STRUCTURED-LOCATION;VALUE=URI;X-ADDRESS=Exhibit Building 9595 Nelson Road Longmont CO 80501;X-APPLE-RADIUS=500;X-TITLE=9595 Nelson Road:geo:-105.129117,40.155579
END:VEVENT
BEGIN:VEVENT
DTSTART;TZID=America/Denver:20250330T080000
DTEND;TZID=America/Denver:20250330T170000
DTSTAMP:20260419T191404
CREATED:20250902T170703Z
LAST-MODIFIED:20250903T173515Z
UID:10001111-1743321600-1743354000@bouldercounty.gov
SUMMARY:Mile High Agility Dog Agility
DESCRIPTION:
URL:https://bouldercounty.gov/event/mile-high-agility-dog-agility-3/
LOCATION:Indoor Arena\, 9595 Nelson Road\, Longmont\, CO\, 80501
CATEGORIES:Fairgrounds
ORGANIZER;CN="Betty Jo Warriner":MAILTO:bjwarriner@earthlink.net
GEO:40.155026;-105.128081
X-APPLE-STRUCTURED-LOCATION;VALUE=URI;X-ADDRESS=Indoor Arena 9595 Nelson Road Longmont CO 80501;X-APPLE-RADIUS=500;X-TITLE=9595 Nelson Road:geo:-105.128081,40.155026
END:VEVENT
BEGIN:VEVENT
DTSTART;TZID=America/Denver:20250330T110000
DTEND;TZID=America/Denver:20250330T210000
DTSTAMP:20260419T191404
CREATED:20250902T172351Z
LAST-MODIFIED:20250903T173516Z
UID:10001301-1743332400-1743368400@bouldercounty.gov
SUMMARY:Colorado Golden Gloves Championship
DESCRIPTION:
URL:https://bouldercounty.gov/event/colorado-golden-gloves-championship-4/
LOCATION:Exhibit Building\, 9595 Nelson Road\, Longmont\, CO\, 80501
CATEGORIES:Fairgrounds
GEO:40.155579;-105.129117
X-APPLE-STRUCTURED-LOCATION;VALUE=URI;X-ADDRESS=Exhibit Building 9595 Nelson Road Longmont CO 80501;X-APPLE-RADIUS=500;X-TITLE=9595 Nelson Road:geo:-105.129117,40.155579
END:VEVENT
END:VCALENDAR