BEGIN:VCALENDAR
VERSION:2.0
PRODID:-//Boulder County - ECPv6.15.17.1//NONSGML v1.0//EN
CALSCALE:GREGORIAN
METHOD:PUBLISH
X-WR-CALNAME:Boulder County
X-ORIGINAL-URL:https://bouldercounty.gov
X-WR-CALDESC:Events for Boulder County
REFRESH-INTERVAL;VALUE=DURATION:PT1H
X-Robots-Tag:noindex
X-PUBLISHED-TTL:PT1H
BEGIN:VTIMEZONE
TZID:America/Denver
BEGIN:DAYLIGHT
TZOFFSETFROM:-0700
TZOFFSETTO:-0600
TZNAME:MDT
DTSTART:20240310T090000
END:DAYLIGHT
BEGIN:STANDARD
TZOFFSETFROM:-0600
TZOFFSETTO:-0700
TZNAME:MST
DTSTART:20241103T080000
END:STANDARD
BEGIN:DAYLIGHT
TZOFFSETFROM:-0700
TZOFFSETTO:-0600
TZNAME:MDT
DTSTART:20250309T090000
END:DAYLIGHT
BEGIN:STANDARD
TZOFFSETFROM:-0600
TZOFFSETTO:-0700
TZNAME:MST
DTSTART:20251102T080000
END:STANDARD
BEGIN:DAYLIGHT
TZOFFSETFROM:-0700
TZOFFSETTO:-0600
TZNAME:MDT
DTSTART:20260308T090000
END:DAYLIGHT
BEGIN:STANDARD
TZOFFSETFROM:-0600
TZOFFSETTO:-0700
TZNAME:MST
DTSTART:20261101T080000
END:STANDARD
END:VTIMEZONE
BEGIN:VEVENT
DTSTART;TZID=America/Denver:20250202T090000
DTEND;TZID=America/Denver:20250202T153000
DTSTAMP:20260419T204756
CREATED:20250902T170834Z
LAST-MODIFIED:20250903T170954Z
UID:10001175-1738486800-1738510200@bouldercounty.gov
SUMMARY:Flatirons Kennel Club February Dog Match
DESCRIPTION:
URL:https://bouldercounty.gov/event/flatirons-kennel-club-february-dog-match/
LOCATION:CO
CATEGORIES:Fairgrounds
ORGANIZER;CN="Liz Johnson":MAILTO:cinnabarcockers@yahoo.com
END:VEVENT
BEGIN:VEVENT
DTSTART;TZID=America/Denver:20250208T080000
DTEND;TZID=America/Denver:20250208T160000
DTSTAMP:20260419T204756
CREATED:20250902T170654Z
LAST-MODIFIED:20250903T170954Z
UID:10001107-1739001600-1739030400@bouldercounty.gov
SUMMARY:Front Range Agility Club CPE Dog Agility
DESCRIPTION:
URL:https://bouldercounty.gov/event/front-range-agility-club-cpe-dog-agility-3/
LOCATION:Indoor Arena\, 9595 Nelson Road\, Longmont\, CO\, 80501
CATEGORIES:Fairgrounds
GEO:40.155026;-105.128081
X-APPLE-STRUCTURED-LOCATION;VALUE=URI;X-ADDRESS=Indoor Arena 9595 Nelson Road Longmont CO 80501;X-APPLE-RADIUS=500;X-TITLE=9595 Nelson Road:geo:-105.128081,40.155026
END:VEVENT
BEGIN:VEVENT
DTSTART;TZID=America/Denver:20250208T083000
DTEND;TZID=America/Denver:20250208T170000
DTSTAMP:20260419T204756
CREATED:20250902T170820Z
LAST-MODIFIED:20250903T170955Z
UID:10001162-1739003400-1739034000@bouldercounty.gov
SUMMARY:Colorado Area Rabbit Show
DESCRIPTION:
URL:https://bouldercounty.gov/event/colorado-area-rabbit-show-3/
LOCATION:Barn A\, 9595 Nelson Road\, Longmont\, CO\, 80501
CATEGORIES:Fairgrounds
GEO:40.155727;-105.127717
X-APPLE-STRUCTURED-LOCATION;VALUE=URI;X-ADDRESS=Barn A 9595 Nelson Road Longmont CO 80501;X-APPLE-RADIUS=500;X-TITLE=9595 Nelson Road:geo:-105.127717,40.155727
END:VEVENT
BEGIN:VEVENT
DTSTART;TZID=America/Denver:20250208T130000
DTEND;TZID=America/Denver:20250208T203000
DTSTAMP:20260419T204756
CREATED:20250902T172124Z
LAST-MODIFIED:20250903T170955Z
UID:10001224-1739019600-1739046600@bouldercounty.gov
SUMMARY:Home Team Heartbreakers Roller Derby Tournament
DESCRIPTION:
URL:https://bouldercounty.gov/event/home-team-heartbreakers-roller-derby-tournament/
LOCATION:Exhibit Building\, 9595 Nelson Road\, Longmont\, CO\, 80501
CATEGORIES:Fairgrounds
ORGANIZER;CN="Boulder County Roller Derby":MAILTO:boutproduction@bouldercountyrollerderby.com
GEO:40.155579;-105.129117
X-APPLE-STRUCTURED-LOCATION;VALUE=URI;X-ADDRESS=Exhibit Building 9595 Nelson Road Longmont CO 80501;X-APPLE-RADIUS=500;X-TITLE=9595 Nelson Road:geo:-105.129117,40.155579
END:VEVENT
BEGIN:VEVENT
DTSTART;TZID=America/Denver:20250209T080000
DTEND;TZID=America/Denver:20250209T150000
DTSTAMP:20260419T204756
CREATED:20250902T170655Z
LAST-MODIFIED:20250903T170956Z
UID:10001108-1739088000-1739113200@bouldercounty.gov
SUMMARY:Front Range Agility Club CPE Dog Agility
DESCRIPTION:
URL:https://bouldercounty.gov/event/front-range-agility-club-cpe-dog-agility-4/
LOCATION:Indoor Arena\, 9595 Nelson Road\, Longmont\, CO\, 80501
CATEGORIES:Fairgrounds
GEO:40.155026;-105.128081
X-APPLE-STRUCTURED-LOCATION;VALUE=URI;X-ADDRESS=Indoor Arena 9595 Nelson Road Longmont CO 80501;X-APPLE-RADIUS=500;X-TITLE=9595 Nelson Road:geo:-105.128081,40.155026
END:VEVENT
BEGIN:VEVENT
DTSTART;TZID=America/Denver:20250209T100000
DTEND;TZID=America/Denver:20250209T173000
DTSTAMP:20260419T204756
CREATED:20250902T172125Z
LAST-MODIFIED:20250903T170957Z
UID:10001225-1739095200-1739122200@bouldercounty.gov
SUMMARY:Home Team Heartbreakers Roller Derby Tournament
DESCRIPTION:
URL:https://bouldercounty.gov/event/home-team-heartbreakers-roller-derby-tournament-2/
LOCATION:Exhibit Building\, 9595 Nelson Road\, Longmont\, CO\, 80501
CATEGORIES:Fairgrounds
ORGANIZER;CN="Boulder County Roller Derby":MAILTO:boutproduction@bouldercountyrollerderby.com
GEO:40.155579;-105.129117
X-APPLE-STRUCTURED-LOCATION;VALUE=URI;X-ADDRESS=Exhibit Building 9595 Nelson Road Longmont CO 80501;X-APPLE-RADIUS=500;X-TITLE=9595 Nelson Road:geo:-105.129117,40.155579
END:VEVENT
BEGIN:VEVENT
DTSTART;TZID=America/Denver:20250213T090000
DTEND;TZID=America/Denver:20250213T190000
DTSTAMP:20260419T204756
CREATED:20250902T170904Z
LAST-MODIFIED:20250903T170958Z
UID:10001200-1739437200-1739473200@bouldercounty.gov
SUMMARY:Just Between Friends Huge Kids Sale
DESCRIPTION:For more information\, please go to:  https://longmont.jbfsale.com/
URL:https://bouldercounty.gov/event/just-between-friends-huge-kids-sale-10/
LOCATION:Exhibit Building\, 9595 Nelson Road\, Longmont\, CO\, 80501
CATEGORIES:Fairgrounds
GEO:40.155579;-105.129117
X-APPLE-STRUCTURED-LOCATION;VALUE=URI;X-ADDRESS=Exhibit Building 9595 Nelson Road Longmont CO 80501;X-APPLE-RADIUS=500;X-TITLE=9595 Nelson Road:geo:-105.129117,40.155579
END:VEVENT
BEGIN:VEVENT
DTSTART;TZID=America/Denver:20250214T090000
DTEND;TZID=America/Denver:20250214T190000
DTSTAMP:20260419T204756
CREATED:20250902T170905Z
LAST-MODIFIED:20250903T170959Z
UID:10001201-1739523600-1739559600@bouldercounty.gov
SUMMARY:Just Between Friends Huge Kids Sale
DESCRIPTION:For more information\, please go to:  https://longmont.jbfsale.com/
URL:https://bouldercounty.gov/event/just-between-friends-huge-kids-sale-11/
LOCATION:Exhibit Building\, 9595 Nelson Road\, Longmont\, CO\, 80501
CATEGORIES:Fairgrounds
GEO:40.155579;-105.129117
X-APPLE-STRUCTURED-LOCATION;VALUE=URI;X-ADDRESS=Exhibit Building 9595 Nelson Road Longmont CO 80501;X-APPLE-RADIUS=500;X-TITLE=9595 Nelson Road:geo:-105.129117,40.155579
END:VEVENT
BEGIN:VEVENT
DTSTART;TZID=America/Denver:20250215T080000
DTEND;TZID=America/Denver:20250215T160000
DTSTAMP:20260419T204756
CREATED:20250902T172301Z
LAST-MODIFIED:20250903T171000Z
UID:10001269-1739606400-1739635200@bouldercounty.gov
SUMMARY:Native American Art Auction
DESCRIPTION:Native American Art Auction \nSaturday\, 8am-4pm\, auction starts at 10am \nSunday\, 8am-4pm\, auction starts at 11am \n 
URL:https://bouldercounty.gov/event/native-american-art-auction-7/
LOCATION:Barn A\, 9595 Nelson Road\, Longmont\, CO\, 80501
CATEGORIES:Fairgrounds
GEO:40.155727;-105.127717
X-APPLE-STRUCTURED-LOCATION;VALUE=URI;X-ADDRESS=Barn A 9595 Nelson Road Longmont CO 80501;X-APPLE-RADIUS=500;X-TITLE=9595 Nelson Road:geo:-105.127717,40.155727
END:VEVENT
BEGIN:VEVENT
DTSTART;TZID=America/Denver:20250215T090000
DTEND;TZID=America/Denver:20250215T190000
DTSTAMP:20260419T204756
CREATED:20250902T170908Z
LAST-MODIFIED:20250903T171000Z
UID:10001202-1739610000-1739646000@bouldercounty.gov
SUMMARY:Just Between Friends Huge Kids Sale
DESCRIPTION:For more information\, please go to:  https://longmont.jbfsale.com/
URL:https://bouldercounty.gov/event/just-between-friends-huge-kids-sale-12/
LOCATION:Exhibit Building\, 9595 Nelson Road\, Longmont\, CO\, 80501
CATEGORIES:Fairgrounds
GEO:40.155579;-105.129117
X-APPLE-STRUCTURED-LOCATION;VALUE=URI;X-ADDRESS=Exhibit Building 9595 Nelson Road Longmont CO 80501;X-APPLE-RADIUS=500;X-TITLE=9595 Nelson Road:geo:-105.129117,40.155579
END:VEVENT
BEGIN:VEVENT
DTSTART;TZID=America/Denver:20250215T093000
DTEND;TZID=America/Denver:20250215T143000
DTSTAMP:20260419T204756
CREATED:20250902T172252Z
LAST-MODIFIED:20250903T171001Z
UID:10001262-1739611800-1739629800@bouldercounty.gov
SUMMARY:4-H Horse Clinics
DESCRIPTION:
URL:https://bouldercounty.gov/event/4-h-horse-clinics/
LOCATION:Indoor Arena\, 9595 Nelson Road\, Longmont\, CO\, 80501
CATEGORIES:Fairgrounds
ORGANIZER;CN="Kelly Thomas":MAILTO:kelly0515@aol.com
GEO:40.155026;-105.128081
X-APPLE-STRUCTURED-LOCATION;VALUE=URI;X-ADDRESS=Indoor Arena 9595 Nelson Road Longmont CO 80501;X-APPLE-RADIUS=500;X-TITLE=9595 Nelson Road:geo:-105.128081,40.155026
END:VEVENT
BEGIN:VEVENT
DTSTART;TZID=America/Denver:20250216T080000
DTEND;TZID=America/Denver:20250216T160000
DTSTAMP:20260419T204756
CREATED:20250902T172302Z
LAST-MODIFIED:20250903T171002Z
UID:10001270-1739692800-1739721600@bouldercounty.gov
SUMMARY:Native American Art Auction
DESCRIPTION:Native American Art Auction \nSaturday\, 8am-4pm\, auction starts at 10am \nSunday\, 8am-4pm\, auction starts at 11am \n 
URL:https://bouldercounty.gov/event/native-american-art-auction-8/
LOCATION:Barn A\, 9595 Nelson Road\, Longmont\, CO\, 80501
CATEGORIES:Fairgrounds
GEO:40.155727;-105.127717
X-APPLE-STRUCTURED-LOCATION;VALUE=URI;X-ADDRESS=Barn A 9595 Nelson Road Longmont CO 80501;X-APPLE-RADIUS=500;X-TITLE=9595 Nelson Road:geo:-105.127717,40.155727
END:VEVENT
BEGIN:VEVENT
DTSTART;TZID=America/Denver:20250216T090000
DTEND;TZID=America/Denver:20250216T140000
DTSTAMP:20260419T204756
CREATED:20250902T170909Z
LAST-MODIFIED:20250903T171002Z
UID:10001203-1739696400-1739714400@bouldercounty.gov
SUMMARY:Just Between Friends Huge Kids Sale
DESCRIPTION:For more information\, please go to:  https://longmont.jbfsale.com/
URL:https://bouldercounty.gov/event/just-between-friends-huge-kids-sale-13/
LOCATION:Exhibit Building\, 9595 Nelson Road\, Longmont\, CO\, 80501
CATEGORIES:Fairgrounds
GEO:40.155579;-105.129117
X-APPLE-STRUCTURED-LOCATION;VALUE=URI;X-ADDRESS=Exhibit Building 9595 Nelson Road Longmont CO 80501;X-APPLE-RADIUS=500;X-TITLE=9595 Nelson Road:geo:-105.129117,40.155579
END:VEVENT
BEGIN:VEVENT
DTSTART;TZID=America/Denver:20250216T100000
DTEND;TZID=America/Denver:20250216T143000
DTSTAMP:20260419T204756
CREATED:20250902T172254Z
LAST-MODIFIED:20250903T171003Z
UID:10001264-1739700000-1739716200@bouldercounty.gov
SUMMARY:4-H Horse Clinics
DESCRIPTION:
URL:https://bouldercounty.gov/event/4-h-horse-clinics-2/
LOCATION:Indoor Arena\, 9595 Nelson Road\, Longmont\, CO\, 80501
CATEGORIES:Fairgrounds
ORGANIZER;CN="Kelly Thomas":MAILTO:kelly0515@aol.com
GEO:40.155026;-105.128081
X-APPLE-STRUCTURED-LOCATION;VALUE=URI;X-ADDRESS=Indoor Arena 9595 Nelson Road Longmont CO 80501;X-APPLE-RADIUS=500;X-TITLE=9595 Nelson Road:geo:-105.128081,40.155026
END:VEVENT
BEGIN:VEVENT
DTSTART;TZID=America/Denver:20250222T090000
DTEND;TZID=America/Denver:20250222T140000
DTSTAMP:20260419T204756
CREATED:20250902T172246Z
LAST-MODIFIED:20250903T171005Z
UID:10001261-1740214800-1740232800@bouldercounty.gov
SUMMARY:Tack Sale Open to the Public
DESCRIPTION:4H member only shopping from 9-10\, and open to the public from 10-2pm.
URL:https://bouldercounty.gov/event/tack-sale-open-to-the-public/
LOCATION:Exhibit Building\, 9595 Nelson Road\, Longmont\, CO\, 80501
CATEGORIES:Fairgrounds
ORGANIZER;CN="Kelly Thomas":MAILTO:kelly0515@aol.com
GEO:40.155579;-105.129117
X-APPLE-STRUCTURED-LOCATION;VALUE=URI;X-ADDRESS=Exhibit Building 9595 Nelson Road Longmont CO 80501;X-APPLE-RADIUS=500;X-TITLE=9595 Nelson Road:geo:-105.129117,40.155579
END:VEVENT
BEGIN:VEVENT
DTSTART;TZID=America/Denver:20250222T090000
DTEND;TZID=America/Denver:20250222T170000
DTSTAMP:20260419T204756
CREATED:20250902T172322Z
LAST-MODIFIED:20250903T171006Z
UID:10001282-1740214800-1740243600@bouldercounty.gov
SUMMARY:Alpaca Extravaganza
DESCRIPTION:
URL:https://bouldercounty.gov/event/alpaca-extravaganza-4/
LOCATION:Indoor Arena\, 9595 Nelson Road\, Longmont\, CO\, 80501
CATEGORIES:Fairgrounds
GEO:40.155026;-105.128081
X-APPLE-STRUCTURED-LOCATION;VALUE=URI;X-ADDRESS=Indoor Arena 9595 Nelson Road Longmont CO 80501;X-APPLE-RADIUS=500;X-TITLE=9595 Nelson Road:geo:-105.128081,40.155026
END:VEVENT
BEGIN:VEVENT
DTSTART;TZID=America/Denver:20250223T090000
DTEND;TZID=America/Denver:20250223T180000
DTSTAMP:20260419T204756
CREATED:20250902T172313Z
LAST-MODIFIED:20250903T171006Z
UID:10001275-1740301200-1740333600@bouldercounty.gov
SUMMARY:Niwot Antique Auction
DESCRIPTION:Niwot Auction is your full service auction company; consignment\, antique\, estate\, farm\, real estate and on-site auctions. Contact us with all your auction needs.\nFOR MORE INFORMATION\, GO TO:  http://niwotauction.com \n 
URL:https://bouldercounty.gov/event/niwot-antique-auction-9/
LOCATION:Barn A\, 9595 Nelson Road\, Longmont\, CO\, 80501
CATEGORIES:Fairgrounds
GEO:40.155727;-105.127717
X-APPLE-STRUCTURED-LOCATION;VALUE=URI;X-ADDRESS=Barn A 9595 Nelson Road Longmont CO 80501;X-APPLE-RADIUS=500;X-TITLE=9595 Nelson Road:geo:-105.127717,40.155727
END:VEVENT
BEGIN:VEVENT
DTSTART;TZID=America/Denver:20250223T100000
DTEND;TZID=America/Denver:20250223T160000
DTSTAMP:20260419T204756
CREATED:20250902T172323Z
LAST-MODIFIED:20250903T171007Z
UID:10001283-1740304800-1740326400@bouldercounty.gov
SUMMARY:Alpaca Extravaganza
DESCRIPTION:
URL:https://bouldercounty.gov/event/alpaca-extravaganza-5/
LOCATION:Indoor Arena\, 9595 Nelson Road\, Longmont\, CO\, 80501
CATEGORIES:Fairgrounds
GEO:40.155026;-105.128081
X-APPLE-STRUCTURED-LOCATION;VALUE=URI;X-ADDRESS=Indoor Arena 9595 Nelson Road Longmont CO 80501;X-APPLE-RADIUS=500;X-TITLE=9595 Nelson Road:geo:-105.128081,40.155026
END:VEVENT
BEGIN:VEVENT
DTSTART;TZID=America/Denver:20250228T083000
DTEND;TZID=America/Denver:20250228T190000
DTSTAMP:20260419T204756
CREATED:20250902T170645Z
LAST-MODIFIED:20250903T171008Z
UID:10001102-1740731400-1740769200@bouldercounty.gov
SUMMARY:Mountain Dog Sports NADAC Agility Trial
DESCRIPTION:
URL:https://bouldercounty.gov/event/mountain-dog-sports-nadac-agility-trial-4/
LOCATION:Indoor Arena\, 9595 Nelson Road\, Longmont\, CO\, 80501
CATEGORIES:Fairgrounds
ORGANIZER;CN="Lindsey Cooper":MAILTO:mountaindogsports@yahoo.com
GEO:40.155026;-105.128081
X-APPLE-STRUCTURED-LOCATION;VALUE=URI;X-ADDRESS=Indoor Arena 9595 Nelson Road Longmont CO 80501;X-APPLE-RADIUS=500;X-TITLE=9595 Nelson Road:geo:-105.128081,40.155026
END:VEVENT
END:VCALENDAR