BEGIN:VCALENDAR
VERSION:2.0
PRODID:-//Boulder County - ECPv6.15.17.1//NONSGML v1.0//EN
CALSCALE:GREGORIAN
METHOD:PUBLISH
X-ORIGINAL-URL:https://bouldercounty.gov
X-WR-CALDESC:Events for Boulder County
REFRESH-INTERVAL;VALUE=DURATION:PT1H
X-Robots-Tag:noindex
X-PUBLISHED-TTL:PT1H
BEGIN:VTIMEZONE
TZID:America/Denver
BEGIN:DAYLIGHT
TZOFFSETFROM:-0700
TZOFFSETTO:-0600
TZNAME:MDT
DTSTART:20240310T090000
END:DAYLIGHT
BEGIN:STANDARD
TZOFFSETFROM:-0600
TZOFFSETTO:-0700
TZNAME:MST
DTSTART:20241103T080000
END:STANDARD
BEGIN:DAYLIGHT
TZOFFSETFROM:-0700
TZOFFSETTO:-0600
TZNAME:MDT
DTSTART:20250309T090000
END:DAYLIGHT
BEGIN:STANDARD
TZOFFSETFROM:-0600
TZOFFSETTO:-0700
TZNAME:MST
DTSTART:20251102T080000
END:STANDARD
BEGIN:DAYLIGHT
TZOFFSETFROM:-0700
TZOFFSETTO:-0600
TZNAME:MDT
DTSTART:20260308T090000
END:DAYLIGHT
BEGIN:STANDARD
TZOFFSETFROM:-0600
TZOFFSETTO:-0700
TZNAME:MST
DTSTART:20261101T080000
END:STANDARD
END:VTIMEZONE
BEGIN:VEVENT
DTSTART;TZID=America/Denver:20250101T080000
DTEND;TZID=America/Denver:20250101T190000
DTSTAMP:20260419T221854
CREATED:20250902T170748Z
LAST-MODIFIED:20250903T170947Z
UID:10001138-1735718400-1735758000@bouldercounty.gov
SUMMARY:36th Annual New Years Day Niwot Antique Auction
DESCRIPTION:Auction starts at 10am\nNo Admission \nFor more information:  https://www.niwotauction.com/2024/11/20/36th-annual-new-years-day-jan-1-2025-antique-auction/ \n 
URL:https://bouldercounty.gov/event/36th-annual-new-years-day-niwot-antique-auction/
LOCATION:Exhibit Building\, 9595 Nelson Road\, Longmont\, CO\, 80501
CATEGORIES:Fairgrounds
GEO:40.155579;-105.129117
X-APPLE-STRUCTURED-LOCATION;VALUE=URI;X-ADDRESS=Exhibit Building 9595 Nelson Road Longmont CO 80501;X-APPLE-RADIUS=500;X-TITLE=9595 Nelson Road:geo:-105.129117,40.155579
END:VEVENT
BEGIN:VEVENT
DTSTART;TZID=America/Denver:20250103T090000
DTEND;TZID=America/Denver:20250103T190000
DTSTAMP:20260419T221854
CREATED:20250902T170642Z
LAST-MODIFIED:20250903T170948Z
UID:10001099-1735894800-1735930800@bouldercounty.gov
SUMMARY:Mountain Dog Sports NADAC Agility Trial
DESCRIPTION:
URL:https://bouldercounty.gov/event/mountain-dog-sports-nadac-agility-trial/
LOCATION:Indoor Arena\, 9595 Nelson Road\, Longmont\, CO\, 80501
CATEGORIES:Fairgrounds
ORGANIZER;CN="Lindsey Cooper":MAILTO:mountaindogsports@yahoo.com
GEO:40.155026;-105.128081
X-APPLE-STRUCTURED-LOCATION;VALUE=URI;X-ADDRESS=Indoor Arena 9595 Nelson Road Longmont CO 80501;X-APPLE-RADIUS=500;X-TITLE=9595 Nelson Road:geo:-105.128081,40.155026
END:VEVENT
BEGIN:VEVENT
DTSTART;TZID=America/Denver:20250104T083000
DTEND;TZID=America/Denver:20250104T190000
DTSTAMP:20260419T221854
CREATED:20250902T170643Z
LAST-MODIFIED:20250903T170948Z
UID:10001100-1735979400-1736017200@bouldercounty.gov
SUMMARY:Mountain Dog Sports NADAC Agility Trial
DESCRIPTION:
URL:https://bouldercounty.gov/event/mountain-dog-sports-nadac-agility-trial-2/
LOCATION:Indoor Arena\, 9595 Nelson Road\, Longmont\, CO\, 80501
CATEGORIES:Fairgrounds
ORGANIZER;CN="Lindsey Cooper":MAILTO:mountaindogsports@yahoo.com
GEO:40.155026;-105.128081
X-APPLE-STRUCTURED-LOCATION;VALUE=URI;X-ADDRESS=Indoor Arena 9595 Nelson Road Longmont CO 80501;X-APPLE-RADIUS=500;X-TITLE=9595 Nelson Road:geo:-105.128081,40.155026
END:VEVENT
BEGIN:VEVENT
DTSTART;TZID=America/Denver:20250105T083000
DTEND;TZID=America/Denver:20250105T180000
DTSTAMP:20260419T221855
CREATED:20250902T170644Z
LAST-MODIFIED:20250903T170949Z
UID:10001101-1736065800-1736100000@bouldercounty.gov
SUMMARY:Mountain Dog Sports NADAC Agility Trial
DESCRIPTION:
URL:https://bouldercounty.gov/event/mountain-dog-sports-nadac-agility-trial-3/
LOCATION:Indoor Arena\, 9595 Nelson Road\, Longmont\, CO\, 80501
CATEGORIES:Fairgrounds
ORGANIZER;CN="Lindsey Cooper":MAILTO:mountaindogsports@yahoo.com
GEO:40.155026;-105.128081
X-APPLE-STRUCTURED-LOCATION;VALUE=URI;X-ADDRESS=Indoor Arena 9595 Nelson Road Longmont CO 80501;X-APPLE-RADIUS=500;X-TITLE=9595 Nelson Road:geo:-105.128081,40.155026
END:VEVENT
BEGIN:VEVENT
DTSTART;TZID=America/Denver:20250106T080000
DTEND;TZID=America/Denver:20250106T153000
DTSTAMP:20260419T221855
CREATED:20250902T170809Z
LAST-MODIFIED:20250903T170949Z
UID:10001155-1736150400-1736177400@bouldercounty.gov
SUMMARY:Pedaling Minds Indoor Day Camp
DESCRIPTION:For more information:  https://pedalingminds.org/camps-events/
URL:https://bouldercounty.gov/event/pedaling-minds-indoor-day-camp/
LOCATION:Barn A\, 9595 Nelson Road\, Longmont\, CO\, 80501
CATEGORIES:Fairgrounds
GEO:40.155727;-105.127717
X-APPLE-STRUCTURED-LOCATION;VALUE=URI;X-ADDRESS=Barn A 9595 Nelson Road Longmont CO 80501;X-APPLE-RADIUS=500;X-TITLE=9595 Nelson Road:geo:-105.127717,40.155727
END:VEVENT
BEGIN:VEVENT
DTSTART;TZID=America/Denver:20250111T080000
DTEND;TZID=America/Denver:20250111T180000
DTSTAMP:20260419T221855
CREATED:20250902T170648Z
LAST-MODIFIED:20250903T170950Z
UID:10001105-1736582400-1736618400@bouldercounty.gov
SUMMARY:Front Range Agility Club UKI Agility
DESCRIPTION:
URL:https://bouldercounty.gov/event/front-range-agility-club-uki-agility/
LOCATION:Indoor Arena\, 9595 Nelson Road\, Longmont\, CO\, 80501
CATEGORIES:Fairgrounds
GEO:40.155026;-105.128081
X-APPLE-STRUCTURED-LOCATION;VALUE=URI;X-ADDRESS=Indoor Arena 9595 Nelson Road Longmont CO 80501;X-APPLE-RADIUS=500;X-TITLE=9595 Nelson Road:geo:-105.128081,40.155026
END:VEVENT
BEGIN:VEVENT
DTSTART;TZID=America/Denver:20250111T150000
DTEND;TZID=America/Denver:20250111T200000
DTSTAMP:20260419T221855
CREATED:20250902T170724Z
LAST-MODIFIED:20250903T170950Z
UID:10001124-1736607600-1736625600@bouldercounty.gov
SUMMARY:Roller Derby Bouts
DESCRIPTION:
URL:https://bouldercounty.gov/event/roller-derby-bouts/
LOCATION:Exhibit Building\, 9595 Nelson Road\, Longmont\, CO\, 80501
CATEGORIES:Fairgrounds
ORGANIZER;CN="BC Roller Derby":MAILTO:boutproductionsbcb@gmail.com
GEO:40.155579;-105.129117
X-APPLE-STRUCTURED-LOCATION;VALUE=URI;X-ADDRESS=Exhibit Building 9595 Nelson Road Longmont CO 80501;X-APPLE-RADIUS=500;X-TITLE=9595 Nelson Road:geo:-105.129117,40.155579
END:VEVENT
BEGIN:VEVENT
DTSTART;TZID=America/Denver:20250112T080000
DTEND;TZID=America/Denver:20250112T180000
DTSTAMP:20260419T221855
CREATED:20250902T170653Z
LAST-MODIFIED:20250903T170951Z
UID:10001106-1736668800-1736704800@bouldercounty.gov
SUMMARY:Front Range Agility Club UKI Agility
DESCRIPTION:
URL:https://bouldercounty.gov/event/front-range-agility-club-uki-agility-2/
LOCATION:Indoor Arena\, 9595 Nelson Road\, Longmont\, CO\, 80501
CATEGORIES:Fairgrounds
GEO:40.155026;-105.128081
X-APPLE-STRUCTURED-LOCATION;VALUE=URI;X-ADDRESS=Indoor Arena 9595 Nelson Road Longmont CO 80501;X-APPLE-RADIUS=500;X-TITLE=9595 Nelson Road:geo:-105.128081,40.155026
END:VEVENT
BEGIN:VEVENT
DTSTART;TZID=America/Denver:20250118T080000
DTEND;TZID=America/Denver:20250118T160000
DTSTAMP:20260419T221855
CREATED:20250902T170611Z
LAST-MODIFIED:20250903T170951Z
UID:10001079-1737187200-1737216000@bouldercounty.gov
SUMMARY:Super Duper Garage Sale
DESCRIPTION:
URL:https://bouldercounty.gov/event/super-duper-garage-sale/
LOCATION:Exhibit Building\, 9595 Nelson Road\, Longmont\, CO\, 80501
CATEGORIES:Fairgrounds
ORGANIZER;CN="Alaina Schweger":MAILTO:sdgscolorado@gmail.com
GEO:40.155579;-105.129117
X-APPLE-STRUCTURED-LOCATION;VALUE=URI;X-ADDRESS=Exhibit Building 9595 Nelson Road Longmont CO 80501;X-APPLE-RADIUS=500;X-TITLE=9595 Nelson Road:geo:-105.129117,40.155579
END:VEVENT
BEGIN:VEVENT
DTSTART;TZID=America/Denver:20250125T090000
DTEND;TZID=America/Denver:20250125T170000
DTSTAMP:20260419T221855
CREATED:20250902T172107Z
LAST-MODIFIED:20250903T170952Z
UID:10001212-1737795600-1737824400@bouldercounty.gov
SUMMARY:Retromania Collectibles Show
DESCRIPTION:Toys\, Comics\, Games\, Cosplay\, Fun!\nOpen:  9am-5pm\, Exhibit Bldg\, Boulder County Fairgrounds
URL:https://bouldercounty.gov/event/retromania-collectibles-show-2/
LOCATION:Exhibit Building\, 9595 Nelson Road\, Longmont\, CO\, 80501
CATEGORIES:Fairgrounds
ORGANIZER;CN="Gail Kinney":MAILTO:heritageeventco@gmail.com
GEO:40.155579;-105.129117
X-APPLE-STRUCTURED-LOCATION;VALUE=URI;X-ADDRESS=Exhibit Building 9595 Nelson Road Longmont CO 80501;X-APPLE-RADIUS=500;X-TITLE=9595 Nelson Road:geo:-105.129117,40.155579
END:VEVENT
BEGIN:VEVENT
DTSTART;TZID=America/Denver:20250125T100000
DTEND;TZID=America/Denver:20250125T140000
DTSTAMP:20260419T221855
CREATED:20250902T172108Z
LAST-MODIFIED:20250903T170952Z
UID:10001213-1737799200-1737813600@bouldercounty.gov
SUMMARY:4-H Ratings Clinic
DESCRIPTION:
URL:https://bouldercounty.gov/event/4-h-ratings-clinic/
LOCATION:Indoor Arena\, 9595 Nelson Road\, Longmont\, CO\, 80501
CATEGORIES:Fairgrounds
ORGANIZER;CN="Kelly Thomas":MAILTO:kelly0515@aol.com
GEO:40.155026;-105.128081
X-APPLE-STRUCTURED-LOCATION;VALUE=URI;X-ADDRESS=Indoor Arena 9595 Nelson Road Longmont CO 80501;X-APPLE-RADIUS=500;X-TITLE=9595 Nelson Road:geo:-105.128081,40.155026
END:VEVENT
BEGIN:VEVENT
DTSTART;TZID=America/Denver:20250126T100000
DTEND;TZID=America/Denver:20250126T150000
DTSTAMP:20260419T221855
CREATED:20250902T170833Z
LAST-MODIFIED:20250903T170953Z
UID:10001174-1737885600-1737903600@bouldercounty.gov
SUMMARY:Neurodiversity Expo
DESCRIPTION:
URL:https://bouldercounty.gov/event/neurodiversity-expo/
LOCATION:CO
CATEGORIES:Fairgrounds
END:VEVENT
END:VCALENDAR