BEGIN:VCALENDAR
VERSION:2.0
PRODID:-//Boulder County - ECPv6.15.17.1//NONSGML v1.0//EN
CALSCALE:GREGORIAN
METHOD:PUBLISH
X-WR-CALNAME:Boulder County
X-ORIGINAL-URL:https://bouldercounty.gov
X-WR-CALDESC:Events for Boulder County
REFRESH-INTERVAL;VALUE=DURATION:PT1H
X-Robots-Tag:noindex
X-PUBLISHED-TTL:PT1H
BEGIN:VTIMEZONE
TZID:America/Denver
BEGIN:DAYLIGHT
TZOFFSETFROM:-0700
TZOFFSETTO:-0600
TZNAME:MDT
DTSTART:20250309T090000
END:DAYLIGHT
BEGIN:STANDARD
TZOFFSETFROM:-0600
TZOFFSETTO:-0700
TZNAME:MST
DTSTART:20251102T080000
END:STANDARD
BEGIN:DAYLIGHT
TZOFFSETFROM:-0700
TZOFFSETTO:-0600
TZNAME:MDT
DTSTART:20260308T090000
END:DAYLIGHT
BEGIN:STANDARD
TZOFFSETFROM:-0600
TZOFFSETTO:-0700
TZNAME:MST
DTSTART:20261101T080000
END:STANDARD
BEGIN:DAYLIGHT
TZOFFSETFROM:-0700
TZOFFSETTO:-0600
TZNAME:MDT
DTSTART:20270314T090000
END:DAYLIGHT
BEGIN:STANDARD
TZOFFSETFROM:-0600
TZOFFSETTO:-0700
TZNAME:MST
DTSTART:20271107T080000
END:STANDARD
END:VTIMEZONE
BEGIN:VEVENT
DTSTART;TZID=America/Denver:20260514T093000
DTEND;TZID=America/Denver:20260514T093000
DTSTAMP:20260419T085918
CREATED:20260409T075100Z
LAST-MODIFIED:20260409T204536Z
UID:10003677-1778751000-1778751000@bouldercounty.gov
SUMMARY:BOCC Public Hearing – Docket LU-26-0004/SPR-26-0014: McCabe Earthwork and Residence
DESCRIPTION:Limited Impact Special Use Review for 883 cubic yards of non-foundational earthwork and Site Plan Review for a new 1\,881-square-foot residence on a vacant 1.17-acre parcel. The application is submitted by Erin McCabe (applicant/owner) and Matt Rubley c/o Altitude Land Co (agent). The subject property is in the Forestry (F) zoning district at 531 Caribou Road\, an approximately 1.17-acre parcel\, located approximately 0.5-mile west of the intersection of Caribou Road and Peak to Peak Highway (SH 72)\, in Section 14\, Township 1S\, Range 73W. \nPublic testimony will be taken. \nView Docket LU-26-0004 and SPR-26-0014: McCabe Earthwork and Residence \n\nAttend or Participate\nIn-person and live virtual public comment will be taken. \nWritten comments can be emailed to planner@bouldercounty.gov\, please reference Docket LU-26-0003/SPR-26-0014. \nInformation on how to attend will be posted approximately one week prior. \nMore Information\n\nHybrid format\nBoard of County Commissioners public hearings and meetings are convened in a hybrid format where attendees can Zoom (FAQs on how to use Zoom) or attend in-person at the Boulder County Courthouse\, 3rd Floor\, 1325 Pearl St.\, Boulder. For questions regarding in-person hearings or technical assistance\, please email hearings@bouldercounty.gov or call 303-441-3500. \n\nAccessibility\nBoulder County wants to ensure that everyone has equal access to our programs\, activities\, and services. To request an Americans with Disability Act (ADA) accommodation\, please email ADA@bouldercounty.gov\, or call 303-441-1386. Submit your request as early as possible\, and no later than two business days before the event. \n\nLanguage access\nIf you need help in another language\, please email CPPfrontdesk@bouldercounty.gov or call 303-441-3930. Contact us as early as possible\, and no later than three business days before the event. \n\nAgenda and format subject to change\nPlease note that the County Commissioners’ agenda is subject to change. To receive updates to the agenda\, please subscribe to the Boulder County Commissioners Agenda list. \nThe commissioners retain the right to switch all hearings and meetings to in-person only instead of hybrid if technical difficulties arise.
URL:https://bouldercounty.gov/event/bocc-public-hearing-docket-lu-26-0004-spr-26-0014-mccabe-earthwork-and-residence/
LOCATION:Commissioners’ Hearing Room\, Downtown County Courthouse\, 1325 Pearl Street\, 3rd Floor\, Boulder\, CO\, 80302\, United States
CATEGORIES:Community Planning & Permitting,County Commissioners,Home Page
ORGANIZER;CN="Community Planning &amp%3B Permitting":MAILTO:planner@bouldercounty.gov
GEO:40.018877;-105.278254
X-APPLE-STRUCTURED-LOCATION;VALUE=URI;X-ADDRESS=Commissioners’ Hearing Room Downtown County Courthouse 1325 Pearl Street 3rd Floor Boulder CO 80302 United States;X-APPLE-RADIUS=500;X-TITLE=Downtown County Courthouse\, 1325 Pearl Street\, 3rd Floor:geo:-105.278254,40.018877
END:VEVENT
BEGIN:VEVENT
DTSTART;TZID=America/Denver:20260514T093000
DTEND;TZID=America/Denver:20260514T093000
DTSTAMP:20260419T085918
CREATED:20260413T090640Z
LAST-MODIFIED:20260413T212152Z
UID:10003693-1778751000-1778751000@bouldercounty.gov
SUMMARY:BOCC Public Meeting– Docket DC-24-0004: Residential Uses\, Boarding House\, and Group Care or Foster Home
DESCRIPTION:Text Amendments to the Land Use Code related to residential uses\, specifically Article 4 Boarding House and Group Care or Foster Home use classifications\, and other changes to the Code necessary to integrate these changes. \nPublic testimony will not be taken. \nView the DC-24-0004: Text Amendments to the Land Use Code related to Residential Uses webpage. \n\nAttend or Participate\nInformation on how to attend will be posted approximately one week prior. \nMore Information\n\nHybrid format\nBoard of County Commissioners public hearings and meetings are convened in a hybrid format where attendees can Zoom (FAQs on how to use Zoom) or attend in-person at the Boulder County Courthouse\, 3rd Floor\, 1325 Pearl St.\, Boulder. For questions regarding in-person hearings or technical assistance\, please email hearings@bouldercounty.gov or call 303-441-3500. \n\nAccessibility\nBoulder County wants to ensure that everyone has equal access to our programs\, activities\, and services. To request an Americans with Disability Act (ADA) accommodation\, please email ADA@bouldercounty.gov\, or call 303-441-1386. Submit your request as early as possible\, and no later than two business days before the event. \n\nLanguage access\nIf you need help in another language\, please email CPPfrontdesk@bouldercounty.gov or call 303-441-3930. Contact us as early as possible\, and no later than three business days before the event. \n\nAgenda subject to change\nPlease note that the County Commissioners’ agenda is subject to change. To receive updates to the agenda\, please subscribe to the Boulder County Commissioners Agenda list.
URL:https://bouldercounty.gov/event/bocc-public-meeting-docket-dc-24-0004-residential-uses-boarding-house-and-group-care-or-foster-home/
LOCATION:Commissioners’ Hearing Room\, Downtown County Courthouse\, 1325 Pearl Street\, 3rd Floor\, Boulder\, CO\, 80302\, United States
CATEGORIES:Community Planning & Permitting,County Commissioners,Home Page
ORGANIZER;CN="Community Planning &amp%3B Permitting":MAILTO:planner@bouldercounty.gov
GEO:40.018877;-105.278254
X-APPLE-STRUCTURED-LOCATION;VALUE=URI;X-ADDRESS=Commissioners’ Hearing Room Downtown County Courthouse 1325 Pearl Street 3rd Floor Boulder CO 80302 United States;X-APPLE-RADIUS=500;X-TITLE=Downtown County Courthouse\, 1325 Pearl Street\, 3rd Floor:geo:-105.278254,40.018877
END:VEVENT
END:VCALENDAR