BEGIN:VCALENDAR
VERSION:2.0
PRODID:-//Boulder County - ECPv6.15.17.1//NONSGML v1.0//EN
CALSCALE:GREGORIAN
METHOD:PUBLISH
X-WR-CALNAME:Boulder County
X-ORIGINAL-URL:https://bouldercounty.gov
X-WR-CALDESC:Events for Boulder County
REFRESH-INTERVAL;VALUE=DURATION:PT1H
X-Robots-Tag:noindex
X-PUBLISHED-TTL:PT1H
BEGIN:VTIMEZONE
TZID:America/Denver
BEGIN:DAYLIGHT
TZOFFSETFROM:-0700
TZOFFSETTO:-0600
TZNAME:MDT
DTSTART:20230312T090000
END:DAYLIGHT
BEGIN:STANDARD
TZOFFSETFROM:-0600
TZOFFSETTO:-0700
TZNAME:MST
DTSTART:20231105T080000
END:STANDARD
BEGIN:DAYLIGHT
TZOFFSETFROM:-0700
TZOFFSETTO:-0600
TZNAME:MDT
DTSTART:20240310T090000
END:DAYLIGHT
BEGIN:STANDARD
TZOFFSETFROM:-0600
TZOFFSETTO:-0700
TZNAME:MST
DTSTART:20241103T080000
END:STANDARD
BEGIN:DAYLIGHT
TZOFFSETFROM:-0700
TZOFFSETTO:-0600
TZNAME:MDT
DTSTART:20250309T090000
END:DAYLIGHT
BEGIN:STANDARD
TZOFFSETFROM:-0600
TZOFFSETTO:-0700
TZNAME:MST
DTSTART:20251102T080000
END:STANDARD
END:VTIMEZONE
BEGIN:VEVENT
DTSTART;TZID=America/Denver:20241024T090000
DTEND;TZID=America/Denver:20241024T123000
DTSTAMP:20260420T043402
CREATED:20250902T165737Z
LAST-MODIFIED:20250902T165737Z
UID:10000990-1729760400-1729773000@bouldercounty.gov
SUMMARY:BOCC Public Hearing - Boulder to Erie Regional Trail (BERT) Plan
DESCRIPTION:Board of County Commissioners public hearings and meetings are convened in a hybrid format where attendees can join through Zoom or attend in-person at the Boulder County Courthouse\, 3rd Floor\, 1325 Pearl St.\, Boulder. For questions regarding in-person hearings\, please email Brianna Barber at bbarber@bouldercounty.gov or call 303-441-3500. \nBoard of County Commissioners (BOCC) Public Hearing – Boulder to Erie Regional Trail (BERT) Plan\, Thursday\, October 24 starting at 9 a.m. Tabled from October 10\, 2024.\nView the meeting agenda and livestream\nOptional call-in information: 1-833-568-8864\, Webinar ID: 160 308 1792 \nCommunity Planning & Permitting Department – Boulder to Erie Regional Trail (BERT) Plan \nThe Board of County Commissioners will vote on adoption of the BERT Plan. The BERT Plan evaluates multiple conceptual alignments and identifies a preferred alignment for further consideration for an 8.5 mile east-west multi-use trail connection between the City of Boulder and Town of Erie. The BERT Plan includes the project process\, public and stakeholder input and engagement\, technical evaluation\, conceptual level alignment\, opinion of cost\, and next steps. This hearing was tabled from Oct. 10\, 2024.\nPublic testimony will be taken.\nPlanner: Tonya Luebbert\, Regional Trails Planner\, tluebbert@bouldercounty.gov\, 303-441-3930.\nWebpage: Boulder to Erie Regional Trail (BERT) Master Planning Process\nView the staff report for October 24\, 2024. \nFor technical assistance in joining the hearing\, please email hearings@bouldercounty.gov. \n\nBoulder County wants to ensure that everyone has equal access to our programs\, activities\, and services. To request an Americans with Disability Act (ADA) accommodation\, please email ADA@bouldercounty.gov\, or call 303-441-1386. Submit your request as early as possible\, and no later than two business days before the event. \nIf you need help in another language\, please email CPPfrontdesk@bouldercounty.gov or call 303-441-3930. Contact us as early as possible\, and no later than three business days before the event. \nPlease note that the County Commissioners’ agenda is subject to change. To receive updates to the agenda\, please subscribe to the Boulder County Commissioners Agenda list.
URL:https://bouldercounty.gov/event/bocc-public-hearing-boulder-to-erie-regional-trail-bert-plan/
CATEGORIES:Community Planning & Permitting,County Commissioners,Home Page
ORGANIZER;CN="Community Planning &amp%3B Permitting":MAILTO:planner@bouldercounty.gov
END:VEVENT
END:VCALENDAR