BEGIN:VCALENDAR
VERSION:2.0
PRODID:-//Boulder County - ECPv6.15.17.1//NONSGML v1.0//EN
CALSCALE:GREGORIAN
METHOD:PUBLISH
X-ORIGINAL-URL:https://bouldercounty.gov
X-WR-CALDESC:Events for Boulder County
REFRESH-INTERVAL;VALUE=DURATION:PT1H
X-Robots-Tag:noindex
X-PUBLISHED-TTL:PT1H
BEGIN:VTIMEZONE
TZID:America/Denver
BEGIN:DAYLIGHT
TZOFFSETFROM:-0700
TZOFFSETTO:-0600
TZNAME:MDT
DTSTART:20230312T090000
END:DAYLIGHT
BEGIN:STANDARD
TZOFFSETFROM:-0600
TZOFFSETTO:-0700
TZNAME:MST
DTSTART:20231105T080000
END:STANDARD
BEGIN:DAYLIGHT
TZOFFSETFROM:-0700
TZOFFSETTO:-0600
TZNAME:MDT
DTSTART:20240310T090000
END:DAYLIGHT
BEGIN:STANDARD
TZOFFSETFROM:-0600
TZOFFSETTO:-0700
TZNAME:MST
DTSTART:20241103T080000
END:STANDARD
BEGIN:DAYLIGHT
TZOFFSETFROM:-0700
TZOFFSETTO:-0600
TZNAME:MDT
DTSTART:20250309T090000
END:DAYLIGHT
BEGIN:STANDARD
TZOFFSETFROM:-0600
TZOFFSETTO:-0700
TZNAME:MST
DTSTART:20251102T080000
END:STANDARD
END:VTIMEZONE
BEGIN:VEVENT
DTSTART;TZID=America/Denver:20241010T093000
DTEND;TZID=America/Denver:20241010T103000
DTSTAMP:20260424T040022
CREATED:20250902T165736Z
LAST-MODIFIED:20250902T165736Z
UID:10000989-1728552600-1728556200@bouldercounty.gov
SUMMARY:BOCC Public Hearing - Docket SU-24-0002: Pivot Solar Energy Facility
DESCRIPTION:Board of County Commissioners public hearings and meetings are convened in a hybrid format where attendees can join through Zoom or attend in-person at the Boulder County Courthouse\, 3rd Floor\, 1325 Pearl St.\, Boulder. For questions regarding in-person hearings\, please email Brianna Barber at bbarber@bouldercounty.gov or call 303-441-3500. \nBoard of County Commissioners (BOCC) Public Hearing – Docket SU-24-0002: Pivot Solar Energy Facility\, Thursday\, October 10\, 2024\, at 9:30 a.m.\nOptional virtual meeting participation using Zoom Webinar. Registration is required to attend virtually: \nRegister to attend or speak virtually\nOptional call-in information: 1-833-568-8864\, Webinar ID: 160 794 0882 \nRegister to speak in-person\nCommunity Planning & Permitting Department Docket SU-24-0002: Pivot Solar Energy Facility \nSpecial Use Review for an approximately 4-acre solar energy facility on a 13-acre parcel. The application is submitted by Dewire Family Trust (owner) and Pivot Solar 48 LLC (applicant). The proposal is in the Rural Residential (RR) zoning district at 9215 Arapahoe Road\, located on the north side of Arapahoe Road approximately 0.3 mile west of the intersection of Arapahoe Road and N. 95th Street\, in Section 29\, Township 1N\, Range 69W.\nPublic testimony will be taken. \nFor technical assistance in joining the hearing\, please email hearings@bouldercounty.gov. \n\nBoulder County wants to ensure that everyone has equal access to our programs\, activities\, and services. To request an Americans with Disability Act (ADA) accommodation\, please email ADA@bouldercounty.gov\, or call 303-441-1386. Submit your request as early as possible\, and no later than two business days before the event. \nIf you need help in another language\, please email CPPfrontdesk@bouldercounty.gov or call 303-441-3930. Contact us as early as possible\, and no later than three business days before the event. \nPlease note that the County Commissioners’ agenda is subject to change. To receive updates to the agenda\, please subscribe to the Boulder County Commissioners Agenda list.
URL:https://bouldercounty.gov/event/bocc-public-hearing-docket-su-24-0002-pivot-solar-energy-facility/
LOCATION:CO
CATEGORIES:Community Planning & Permitting,County Commissioners,Home Page
ORGANIZER;CN="Community Planning &amp%3B Permitting":MAILTO:planner@bouldercounty.gov
END:VEVENT
END:VCALENDAR