BEGIN:VCALENDAR
VERSION:2.0
PRODID:-//Boulder County - ECPv6.15.17.1//NONSGML v1.0//EN
CALSCALE:GREGORIAN
METHOD:PUBLISH
X-WR-CALNAME:Boulder County
X-ORIGINAL-URL:https://bouldercounty.gov
X-WR-CALDESC:Events for Boulder County
REFRESH-INTERVAL;VALUE=DURATION:PT1H
X-Robots-Tag:noindex
X-PUBLISHED-TTL:PT1H
BEGIN:VTIMEZONE
TZID:America/Denver
BEGIN:DAYLIGHT
TZOFFSETFROM:-0700
TZOFFSETTO:-0600
TZNAME:MDT
DTSTART:20230312T090000
END:DAYLIGHT
BEGIN:STANDARD
TZOFFSETFROM:-0600
TZOFFSETTO:-0700
TZNAME:MST
DTSTART:20231105T080000
END:STANDARD
BEGIN:DAYLIGHT
TZOFFSETFROM:-0700
TZOFFSETTO:-0600
TZNAME:MDT
DTSTART:20240310T090000
END:DAYLIGHT
BEGIN:STANDARD
TZOFFSETFROM:-0600
TZOFFSETTO:-0700
TZNAME:MST
DTSTART:20241103T080000
END:STANDARD
BEGIN:DAYLIGHT
TZOFFSETFROM:-0700
TZOFFSETTO:-0600
TZNAME:MDT
DTSTART:20250309T090000
END:DAYLIGHT
BEGIN:STANDARD
TZOFFSETFROM:-0600
TZOFFSETTO:-0700
TZNAME:MST
DTSTART:20251102T080000
END:STANDARD
END:VTIMEZONE
BEGIN:VEVENT
DTSTART;TZID=America/Denver:20240918T150000
DTEND;TZID=America/Denver:20240918T160000
DTSTAMP:20260420T061646
CREATED:20250902T165331Z
LAST-MODIFIED:20250902T165331Z
UID:10000859-1726671600-1726675200@bouldercounty.gov
SUMMARY:Conservation Awards
DESCRIPTION:The Boulder County Commissioners and Parks & Open Space staff will present their annual Conservation Awards on Wednesday\, Sept. 18. The awards honor individuals or groups for outstanding contributions made to the preservation and protection of land-based environmental resources\, promotion or preservation of cultural practices or cultural history\, and community connections to open space.\nLearn More
URL:https://bouldercounty.gov/event/conservation-awards/
LOCATION:Ron Stewart Parks & Open Space Building\, 5201 St Vrain Rd\, Longmont\, CO\, 80503
CATEGORIES:County Commissioners,Hikes & Events,Home Page,Parks & Open Space
GEO:40.170049;-105.166708
X-APPLE-STRUCTURED-LOCATION;VALUE=URI;X-ADDRESS=Ron Stewart Parks & Open Space Building 5201 St Vrain Rd Longmont CO 80503;X-APPLE-RADIUS=500;X-TITLE=5201 St Vrain Rd:geo:-105.166708,40.170049
END:VEVENT
END:VCALENDAR