BEGIN:VCALENDAR
VERSION:2.0
PRODID:-//Boulder County - ECPv6.15.17.1//NONSGML v1.0//EN
CALSCALE:GREGORIAN
METHOD:PUBLISH
X-WR-CALNAME:Boulder County
X-ORIGINAL-URL:https://bouldercounty.gov
X-WR-CALDESC:Events for Boulder County
REFRESH-INTERVAL;VALUE=DURATION:PT1H
X-Robots-Tag:noindex
X-PUBLISHED-TTL:PT1H
BEGIN:VTIMEZONE
TZID:America/Denver
BEGIN:DAYLIGHT
TZOFFSETFROM:-0700
TZOFFSETTO:-0600
TZNAME:MDT
DTSTART:20230312T090000
END:DAYLIGHT
BEGIN:STANDARD
TZOFFSETFROM:-0600
TZOFFSETTO:-0700
TZNAME:MST
DTSTART:20231105T080000
END:STANDARD
BEGIN:DAYLIGHT
TZOFFSETFROM:-0700
TZOFFSETTO:-0600
TZNAME:MDT
DTSTART:20240310T090000
END:DAYLIGHT
BEGIN:STANDARD
TZOFFSETFROM:-0600
TZOFFSETTO:-0700
TZNAME:MST
DTSTART:20241103T080000
END:STANDARD
BEGIN:DAYLIGHT
TZOFFSETFROM:-0700
TZOFFSETTO:-0600
TZNAME:MDT
DTSTART:20250309T090000
END:DAYLIGHT
BEGIN:STANDARD
TZOFFSETFROM:-0600
TZOFFSETTO:-0700
TZNAME:MST
DTSTART:20251102T080000
END:STANDARD
END:VTIMEZONE
BEGIN:VEVENT
DTSTART;TZID=America/Denver:20240822T090000
DTEND;TZID=America/Denver:20240822T100000
DTSTAMP:20260420T074047
CREATED:20250902T165158Z
LAST-MODIFIED:20250902T165158Z
UID:10000821-1724317200-1724320800@bouldercounty.gov
SUMMARY:BOCC Public Meeting - ZON-20-0012: 6112 Fourmile Canyon
DESCRIPTION:Board of County Commissioners (BOCC) Public Meeting – ZON-20-0012: 6112 Fourmile Canyon – Thursday\, August 22\, 2024 at 9 a.m.\nBoard of County Commissioners public hearings and meetings are convened in a hybrid format where attendees can join through Zoom or attend in-person at the Boulder County Courthouse\, 3rd Floor\, 1325 Pearl St.\, Boulder. For questions regarding in-person hearings\, please email Brianna Barber at bbarber@bouldercounty.gov or call 303-441-3500. \nOptional virtual meeting participation using Zoom Webinar. Registration is required to attend virtually: \nRegister to attend or speak virtually\nOptional call-in information: 1-833-568-8864\, Webinar ID: 160 520 2046 \nCommunity Planning & Permitting Department: ZON-20-0012: 6112 Fourmile Canyon\nBoulder County Community Planning and Permitting is asking for permission to abate the following from this property: Rubbish\, including scrap wood\, metal poles\, an unpermitted storage container\, earth moving equipment\, pipes/tubing\, and 2 unlicensed vehicles. The property owner is Edward Leeper Estate. The subject property is located at 6112 Fourmile Canyon in the Forestry zoning district\, in Section 19\, Township 1N\, Range 71W.\n \nDetailed information regarding this item is available online\, or you may email Martin Laws at mlaws@bouldercounty.gov. You may also contact the Community Planning & Permitting Department (303-441-3930) to request materials or view them at our office (2045 13th Street\, Boulder) during our open public hours. \nFor technical assistance in joining the hearing\, please email hearings@bouldercounty.org. Please note that the County Commissioners’ agenda is subject to change. To receive updates to the agenda\, please subscribe to the Boulder County Commissioners Agenda list. \n\nBoulder County wants to ensure that everyone has equal access to our programs\, activities\, and services. To request an Americans with Disability Act (ADA) accommodation\, please email ADA@bouldercounty.gov\, or call 303-441-1386. Submit your request as early as possible\, and no later than two business days before the event. \nIf you need help in another language\, please email CPPfrontdesk@bouldercounty.gov or call 303-441-3930. Contact us as early as possible\, and no later than three business days before the event.
URL:https://bouldercounty.gov/event/bocc-public-meeting-zon-20-0012-6112-fourmile-canyon/
CATEGORIES:Community Planning & Permitting,County Commissioners,Home Page
ORGANIZER;CN="Community Planning &amp%3B Permitting":MAILTO:planner@bouldercounty.gov
END:VEVENT
BEGIN:VEVENT
DTSTART;TZID=America/Denver:20240822T090000
DTEND;TZID=America/Denver:20240822T100000
DTSTAMP:20260420T074047
CREATED:20250902T165159Z
LAST-MODIFIED:20250902T165159Z
UID:10000822-1724317200-1724320800@bouldercounty.gov
SUMMARY:BOCC Public Meeting - ZON-24-0063: 6055 Fourmile Canyon
DESCRIPTION:Board of County Commissioners (BOCC) Public Meeting – ZON-24-0063: 6055 Fourmile Canyon – Thursday\, August 22\, 2024 at 9 a.m.\nBoard of County Commissioners public hearings and meetings are convened in a hybrid format where attendees can join through Zoom or attend in-person at the Boulder County Courthouse\, 3rd Floor\, 1325 Pearl St.\, Boulder. For questions regarding in-person hearings\, please email Brianna Barber at bbarber@bouldercounty.gov or call 303-441-3500. \nOptional virtual meeting participation using Zoom Webinar. Registration is required to attend virtually: \nRegister to attend or speak virtually\nOptional call-in information: 1-833-568-8864\, Webinar ID: 160 520 2046 \nCommunity Planning & Permitting Department: ZON-24-0063: 6055 Fourmile Canyon\nBoulder County Community Planning and Permitting is asking for permission to abate the following from this property: Rubbish\, including metal shelves\, scrap metal\, and industrial tubing. The property owner is Ed Leeper Estate. The subject property is located at 6055 Fourmile Canyon in the Forestry zoning district\, in Section 19. Township 1N\, Range 71W. \nDetailed information regarding this item is available online\, or you may email Martin Laws at mlaws@bouldercounty.gov. You may also contact the Community Planning & Permitting Department (303-441-3930) to request materials or view them at our office (2045 13th Street\, Boulder) during our open public hours. \nFor technical assistance in joining the hearing\, please email hearings@bouldercounty.org. Please note that the County Commissioners’ agenda is subject to change. To receive updates to the agenda\, please subscribe to the Boulder County Commissioners Agenda list. \n\nBoulder County wants to ensure that everyone has equal access to our programs\, activities\, and services. To request an Americans with Disability Act (ADA) accommodation\, please email ADA@bouldercounty.gov\, or call 303-441-1386. Submit your request as early as possible\, and no later than two business days before the event. \nIf you need help in another language\, please email CPPfrontdesk@bouldercounty.gov or call 303-441-3930. Contact us as early as possible\, and no later than three business days before the event.
URL:https://bouldercounty.gov/event/bocc-public-meeting-zon-24-0063-6055-fourmile-canyon/
CATEGORIES:Community Planning & Permitting,County Commissioners,Home Page
ORGANIZER;CN="Community Planning &amp%3B Permitting":MAILTO:planner@bouldercounty.gov
END:VEVENT
BEGIN:VEVENT
DTSTART;TZID=America/Denver:20240822T130000
DTEND;TZID=America/Denver:20240822T140000
DTSTAMP:20260420T074047
CREATED:20250902T165329Z
LAST-MODIFIED:20250902T165329Z
UID:10000857-1724331600-1724335200@bouldercounty.gov
SUMMARY:BOCC Public Hearing - Docket DC-19-0003: Land Use Code Text Amendment to Articles 3\, 9\, and 18
DESCRIPTION:Board of County Commissioners public hearings and meetings are convened in a hybrid format where attendees can join through Zoom or attend in-person at the Boulder County Courthouse\, 3rd Floor\, 1325 Pearl St.\, Boulder. For questions regarding in-person hearings\, please email Brianna Barber at bbarber@bouldercounty.gov or call 303-441-3500. \nBoard of County Commissioners (BOCC) Public Hearing – Docket DC-19-0003: Land Use Code Text Amendment to Articles 3\, 9\, and 18\, Thursday\, August 22\, 2024\, at 1 p.m.\nOptional virtual meeting participation using Zoom Webinar. Registration is required to attend virtually: \nRegister to attend or speak virtually\nOptional call-in information: 1-833-568-8864\, Webinar ID: 161 326 9674 \nRegister to speak in-person\nCommunity Planning & Permitting Department Docket DC-19-0003: Land Use Code Text Amendment to Articles 3\, 9\, and 18 \nUpdate language in Article 9 (Building Lots\, Mergers\, Subdivision Exemptions & Exemption Plats) to simplify and streamline the SE/EP process. Introduce a definition for Townsite in Article 18 to help resolve issues around what a Townsite is considered in the County. Make necessary revisions in Article 3 of the Code to incorporate the changes made in Article 9.\nPlanner: Jack Sheehan\nBoard of County Commissioners Action Requested: Decision \nOpportunities for live virtual public comment will be available. Written comments can be emailed to planner@bouldercounty.gov\, please reference DC-19-0003. \nFor technical assistance in joining the hearing\, please email hearings@bouldercounty.gov. \n\nBoulder County wants to ensure that everyone has equal access to our programs\, activities\, and services. To request an Americans with Disability Act (ADA) accommodation\, please email ADA@bouldercounty.gov\, or call 303-441-1386. Submit your request as early as possible\, and no later than two business days before the event. \nIf you need help in another language\, please email CPPfrontdesk@bouldercounty.gov or call 303-441-3930. Contact us as early as possible\, and no later than three business days before the event. \nPlease note that the County Commissioners’ agenda is subject to change. To receive updates to the agenda\, please subscribe to the Boulder County Commissioners Agenda list.
URL:https://bouldercounty.gov/event/bocc-public-hearing-docket-dc-19-0003-land-use-code-text-amendment-to-articles-3-9-and-18/
CATEGORIES:Community Planning & Permitting,County Commissioners,Home Page
ORGANIZER;CN="Community Planning &amp%3B Permitting":MAILTO:planner@bouldercounty.gov
END:VEVENT
END:VCALENDAR