BEGIN:VCALENDAR
VERSION:2.0
PRODID:-//Boulder County - ECPv6.15.17.1//NONSGML v1.0//EN
CALSCALE:GREGORIAN
METHOD:PUBLISH
X-ORIGINAL-URL:https://bouldercounty.gov
X-WR-CALDESC:Events for Boulder County
REFRESH-INTERVAL;VALUE=DURATION:PT1H
X-Robots-Tag:noindex
X-PUBLISHED-TTL:PT1H
BEGIN:VTIMEZONE
TZID:America/Denver
BEGIN:DAYLIGHT
TZOFFSETFROM:-0700
TZOFFSETTO:-0600
TZNAME:MDT
DTSTART:20230312T090000
END:DAYLIGHT
BEGIN:STANDARD
TZOFFSETFROM:-0600
TZOFFSETTO:-0700
TZNAME:MST
DTSTART:20231105T080000
END:STANDARD
BEGIN:DAYLIGHT
TZOFFSETFROM:-0700
TZOFFSETTO:-0600
TZNAME:MDT
DTSTART:20240310T090000
END:DAYLIGHT
BEGIN:STANDARD
TZOFFSETFROM:-0600
TZOFFSETTO:-0700
TZNAME:MST
DTSTART:20241103T080000
END:STANDARD
BEGIN:DAYLIGHT
TZOFFSETFROM:-0700
TZOFFSETTO:-0600
TZNAME:MDT
DTSTART:20250309T090000
END:DAYLIGHT
BEGIN:STANDARD
TZOFFSETFROM:-0600
TZOFFSETTO:-0700
TZNAME:MST
DTSTART:20251102T080000
END:STANDARD
END:VTIMEZONE
BEGIN:VEVENT
DTSTART;TZID=America/Denver:20240720T170000
DTEND;TZID=America/Denver:20240720T190000
DTSTAMP:20260420T091334
CREATED:20250902T164219Z
LAST-MODIFIED:20250902T164219Z
UID:10000714-1721494800-1721502000@bouldercounty.gov
SUMMARY:Nepali Jatra in downtown Longmont
DESCRIPTION:Staff from Boulder County will host information tables at this year’s Nepali Jatra in Longmont on Saturday\, July 20\, 5 to 7 p.m. in Longmont.\nNepali Jatra is a showcase of rich Nepali culture and heritage and an opportunity to learn about a centuries-old tradition that is still practiced today. The Nepali Jatra features Lakhey dance with live traditional music. Enjoy cultural dance performances from multiple ethnic groups and their costumes\, exhibits\, Nepal crafts\, and more. \nFor more information\, visit: https://www.nepalijatra.org/
URL:https://bouldercounty.gov/event/nepali-jatra-in-downtown-longmont/
CATEGORIES:County Commissioners,Parks & Open Space
ORGANIZER;CN="Board of County Commissioners":MAILTO:commissioners@bouldercounty.gov
END:VEVENT
END:VCALENDAR