BEGIN:VCALENDAR
VERSION:2.0
PRODID:-//Boulder County - ECPv6.15.17.1//NONSGML v1.0//EN
CALSCALE:GREGORIAN
METHOD:PUBLISH
X-ORIGINAL-URL:https://bouldercounty.gov
X-WR-CALDESC:Events for Boulder County
REFRESH-INTERVAL;VALUE=DURATION:PT1H
X-Robots-Tag:noindex
X-PUBLISHED-TTL:PT1H
BEGIN:VTIMEZONE
TZID:America/Denver
BEGIN:DAYLIGHT
TZOFFSETFROM:-0700
TZOFFSETTO:-0600
TZNAME:MDT
DTSTART:20230312T090000
END:DAYLIGHT
BEGIN:STANDARD
TZOFFSETFROM:-0600
TZOFFSETTO:-0700
TZNAME:MST
DTSTART:20231105T080000
END:STANDARD
BEGIN:DAYLIGHT
TZOFFSETFROM:-0700
TZOFFSETTO:-0600
TZNAME:MDT
DTSTART:20240310T090000
END:DAYLIGHT
BEGIN:STANDARD
TZOFFSETFROM:-0600
TZOFFSETTO:-0700
TZNAME:MST
DTSTART:20241103T080000
END:STANDARD
BEGIN:DAYLIGHT
TZOFFSETFROM:-0700
TZOFFSETTO:-0600
TZNAME:MDT
DTSTART:20250309T090000
END:DAYLIGHT
BEGIN:STANDARD
TZOFFSETFROM:-0600
TZOFFSETTO:-0700
TZNAME:MST
DTSTART:20251102T080000
END:STANDARD
END:VTIMEZONE
BEGIN:VEVENT
DTSTART;TZID=America/Denver:20240622T130000
DTEND;TZID=America/Denver:20240622T180000
DTSTAMP:20260420T104756
CREATED:20250902T164232Z
LAST-MODIFIED:20250902T164234Z
UID:10000720-1719061200-1719079200@bouldercounty.gov
SUMMARY:Longmont Juneteenth Family Celebration
DESCRIPTION:Boulder County is a sponsor of 2024 Longmont Juneteenth Family Celebration\nThe goal of the annual Juneteenth Celebration in Longmont is to celebrate our diverse community\, and come together to share\, educate\, and appreciate one another. We must go back to our roots to move forward. We should reach back and gather the very best of what our past has to teach us. The inaugural Juneteenth Celebration in Longmont was held in 2022 and hosted hundreds of community members. \nLongmont Celebrates Juneteenth is a healthy\, family-oriented event through its alcohol-free\, tobacco-free\, and cannabis-free standard. We are also committed to becoming a zero waste event. The event includes musical and fashion entertainment\, vendor and information booths\, activities for kids\, drum line performances from local high schools\, and tons of great food! We would love for you to join us for this celebration\, and plan to celebrate regardless of weather conditions. Please make sure you are prepared!  Several county departments will host booths and share information about services and assistance available from Boulder County. Come see us! \nEntertainment: Chrisette Michele \nLocation: Roosevelt Park\, 700 Longs Peak Ave\, Longmont \nDate: Saturday\, June 22 \nTime: 1:00 to 6:00 p.m. \nContact: ecaacebouldercounty@gmail.com
URL:https://bouldercounty.gov/event/longmont-juneteenth-family-celebration/
LOCATION:CO
CATEGORIES:County Commissioners
END:VEVENT
END:VCALENDAR