BEGIN:VCALENDAR
VERSION:2.0
PRODID:-//Boulder County - ECPv6.15.17.1//NONSGML v1.0//EN
CALSCALE:GREGORIAN
METHOD:PUBLISH
X-WR-CALNAME:Boulder County
X-ORIGINAL-URL:https://bouldercounty.gov
X-WR-CALDESC:Events for Boulder County
REFRESH-INTERVAL;VALUE=DURATION:PT1H
X-Robots-Tag:noindex
X-PUBLISHED-TTL:PT1H
BEGIN:VTIMEZONE
TZID:America/Denver
BEGIN:DAYLIGHT
TZOFFSETFROM:-0700
TZOFFSETTO:-0600
TZNAME:MDT
DTSTART:20230312T090000
END:DAYLIGHT
BEGIN:STANDARD
TZOFFSETFROM:-0600
TZOFFSETTO:-0700
TZNAME:MST
DTSTART:20231105T080000
END:STANDARD
BEGIN:DAYLIGHT
TZOFFSETFROM:-0700
TZOFFSETTO:-0600
TZNAME:MDT
DTSTART:20240310T090000
END:DAYLIGHT
BEGIN:STANDARD
TZOFFSETFROM:-0600
TZOFFSETTO:-0700
TZNAME:MST
DTSTART:20241103T080000
END:STANDARD
BEGIN:DAYLIGHT
TZOFFSETFROM:-0700
TZOFFSETTO:-0600
TZNAME:MDT
DTSTART:20250309T090000
END:DAYLIGHT
BEGIN:STANDARD
TZOFFSETFROM:-0600
TZOFFSETTO:-0700
TZNAME:MST
DTSTART:20251102T080000
END:STANDARD
END:VTIMEZONE
BEGIN:VEVENT
DTSTART;TZID=America/Denver:20240615T090000
DTEND;TZID=America/Denver:20240615T110000
DTSTAMP:20260420T104654
CREATED:20250902T164229Z
LAST-MODIFIED:20250902T164233Z
UID:10000716-1718442000-1718449200@bouldercounty.gov
SUMMARY:Juneteenth - Women's Wilderness Hike: Exploring the Beauty of Nature
DESCRIPTION:Boulder County is a sponsor of 2024 Juneteenth: Women’s Wilderness Hike\nOpportunity for youth to explore nature. \nLocation: 1206 Euclid Ave.\, Boulder \nDate: Saturday\, June 15 \nTime: 9:00 to 11:00 a.m. \nContact: ecaacebouldercounty@gmail.com
URL:https://bouldercounty.gov/event/juneteenth-womens-wilderness-hike-exploring-the-beauty-of-nature/
LOCATION:CO
CATEGORIES:County Commissioners
END:VEVENT
BEGIN:VEVENT
DTSTART;TZID=America/Denver:20240615T103000
DTEND;TZID=America/Denver:20240615T103000
DTSTAMP:20260420T104654
CREATED:20250902T164230Z
LAST-MODIFIED:20250902T164234Z
UID:10000717-1718447400-1718447400@bouldercounty.gov
SUMMARY:Juneteenth - Flag Raising Longmont
DESCRIPTION:Boulder County is a sponsor of 2024 Juneteenth: Flag Raising Longmont\nOpportunity for youth to explore nature. \nLocation: Longmont Civic Center\, 350 Kimbark St\, Longmont \nDate: Saturday\, June 15 \nTime: 10:30 a.m. \nContact: ecaacebouldercounty@gmail.com
URL:https://bouldercounty.gov/event/juneteenth-flag-raising-longmont/
LOCATION:CO
CATEGORIES:County Commissioners
END:VEVENT
END:VCALENDAR