BEGIN:VCALENDAR
VERSION:2.0
PRODID:-//Boulder County - ECPv6.15.17.1//NONSGML v1.0//EN
CALSCALE:GREGORIAN
METHOD:PUBLISH
X-ORIGINAL-URL:https://bouldercounty.gov
X-WR-CALDESC:Events for Boulder County
REFRESH-INTERVAL;VALUE=DURATION:PT1H
X-Robots-Tag:noindex
X-PUBLISHED-TTL:PT1H
BEGIN:VTIMEZONE
TZID:America/Denver
BEGIN:DAYLIGHT
TZOFFSETFROM:-0700
TZOFFSETTO:-0600
TZNAME:MDT
DTSTART:20230312T090000
END:DAYLIGHT
BEGIN:STANDARD
TZOFFSETFROM:-0600
TZOFFSETTO:-0700
TZNAME:MST
DTSTART:20231105T080000
END:STANDARD
BEGIN:DAYLIGHT
TZOFFSETFROM:-0700
TZOFFSETTO:-0600
TZNAME:MDT
DTSTART:20240310T090000
END:DAYLIGHT
BEGIN:STANDARD
TZOFFSETFROM:-0600
TZOFFSETTO:-0700
TZNAME:MST
DTSTART:20241103T080000
END:STANDARD
BEGIN:DAYLIGHT
TZOFFSETFROM:-0700
TZOFFSETTO:-0600
TZNAME:MDT
DTSTART:20250309T090000
END:DAYLIGHT
BEGIN:STANDARD
TZOFFSETFROM:-0600
TZOFFSETTO:-0700
TZNAME:MST
DTSTART:20251102T080000
END:STANDARD
END:VTIMEZONE
BEGIN:VEVENT
DTSTART;TZID=America/Denver:20240614T150000
DTEND;TZID=America/Denver:20240614T170000
DTSTAMP:20260420T104756
CREATED:20250902T164220Z
LAST-MODIFIED:20250902T164220Z
UID:10000715-1718377200-1718384400@bouldercounty.gov
SUMMARY:Juneteenth - Launching the Festival of Flags
DESCRIPTION:Boulder County is a sponsor of 2024 Juneteenth: Launching the Festival of Flags.\nIn celebration of Dr. Edward Dwight\, first Black astronaut appointment in 1962. \nEntertainment: Selasee and the FaFa Family \nLocation: City of Boulder\, Penfield Tate Municipal Building\, 1777 Broadway\, Boulder. \nDate: Friday\, June 14 \nTime: 3:00 to 5:00 p.m. \nContact: ecaacebouldercounty@gmail.com
URL:https://bouldercounty.gov/event/juneteenth-launching-the-festival-of-flags/
LOCATION:CO
CATEGORIES:County Commissioners
END:VEVENT
END:VCALENDAR