BEGIN:VCALENDAR
VERSION:2.0
PRODID:-//Boulder County - ECPv6.15.17.1//NONSGML v1.0//EN
CALSCALE:GREGORIAN
METHOD:PUBLISH
X-ORIGINAL-URL:https://bouldercounty.gov
X-WR-CALDESC:Events for Boulder County
REFRESH-INTERVAL;VALUE=DURATION:PT1H
X-Robots-Tag:noindex
X-PUBLISHED-TTL:PT1H
BEGIN:VTIMEZONE
TZID:America/Denver
BEGIN:DAYLIGHT
TZOFFSETFROM:-0700
TZOFFSETTO:-0600
TZNAME:MDT
DTSTART:20230312T090000
END:DAYLIGHT
BEGIN:STANDARD
TZOFFSETFROM:-0600
TZOFFSETTO:-0700
TZNAME:MST
DTSTART:20231105T080000
END:STANDARD
BEGIN:DAYLIGHT
TZOFFSETFROM:-0700
TZOFFSETTO:-0600
TZNAME:MDT
DTSTART:20240310T090000
END:DAYLIGHT
BEGIN:STANDARD
TZOFFSETFROM:-0600
TZOFFSETTO:-0700
TZNAME:MST
DTSTART:20241103T080000
END:STANDARD
BEGIN:DAYLIGHT
TZOFFSETFROM:-0700
TZOFFSETTO:-0600
TZNAME:MDT
DTSTART:20250309T090000
END:DAYLIGHT
BEGIN:STANDARD
TZOFFSETFROM:-0600
TZOFFSETTO:-0700
TZNAME:MST
DTSTART:20251102T080000
END:STANDARD
END:VTIMEZONE
BEGIN:VEVENT
DTSTART;TZID=America/Denver:20240613T093000
DTEND;TZID=America/Denver:20240613T103000
DTSTAMP:20260420T104756
CREATED:20250902T164142Z
LAST-MODIFIED:20250902T164142Z
UID:10000699-1718271000-1718274600@bouldercounty.gov
SUMMARY:BOCC Public Hearing - Docket SPR-23-0099: Speyrer Additions and Accessory Structure Appeal
DESCRIPTION:Board of County Commissioners public hearings and meetings are convened in a hybrid format where attendees can join through Zoom or attend in-person at the Boulder County Courthouse\, 3rd Floor\, 1325 Pearl St.\, Boulder. For questions regarding in-person hearings\, please email Brianna Barber at bbarber@bouldercounty.gov or call 303-441-3500. \nBoard of County Commissioners (BOCC) Public Hearing – Docket SPR-23-0099: Speyrer Additions and Accessory Structure Appeal\, Thursday\, June 13\, 2024\, at 9:30 a.m.\nOptional virtual meeting participation using Zoom Webinar. Registration is required to attend virtually: \nRegister to attend or speak virtually\nOptional call-in information: 1-833-568-8864\, Webinar ID: 160 395 6962 \nRegister to speak in-person\nCommunity Planning & Permitting Department Docket SPR-23-0099: Speyrer Additions and Accessory Structure Appeal \nAppeal of Director’s Determination of SPR-23-0099 for 200 square feet of additions to an existing 7\,646-sq-ft residence for a total of 7\,848 sq ft where the PSM is 5\,258 sq ft. The Determination is appealed by David Speyrer (applicant/property owner). Property is in the Rural Residential (RR) zoning district at 1357 S Cherryvale Road\, Section 16\, Township 1S\, Range 70W.\nPlanner: Pete L’Orange\nBoard of County Commissioners Action Requested: Decision \nOpportunities for live virtual public comment will be available. Written comments can be emailed to planner@bouldercounty.gov\, please reference SPR-23-0099. \nFor technical assistance in joining the hearing\, please email hearings@bouldercounty.gov. \n\nBoulder County wants to ensure that everyone has equal access to our programs\, activities\, and services. To request an Americans with Disability Act (ADA) accommodation\, please email ADA@bouldercounty.gov\, or call 303-441-1386. Submit your request as early as possible\, and no later than two business days before the event. \nIf you need help in another language\, please email CPPfrontdesk@bouldercounty.gov or call 303-441-3930. Contact us as early as possible\, and no later than three business days before the event. \nPlease note that the County Commissioners’ agenda is subject to change. To receive updates to the agenda\, please subscribe to the Boulder County Commissioners Agenda list.
URL:https://bouldercounty.gov/event/bocc-public-hearing-docket-spr-23-0099-speyrer-additions-and-accessory-structure-appeal/
LOCATION:CO
CATEGORIES:Community Planning & Permitting,County Commissioners,Home Page
ORGANIZER;CN="Community Planning &amp%3B Permitting":MAILTO:planner@bouldercounty.gov
END:VEVENT
BEGIN:VEVENT
DTSTART;TZID=America/Denver:20240613T093000
DTEND;TZID=America/Denver:20240613T103000
DTSTAMP:20260420T104756
CREATED:20250902T164211Z
LAST-MODIFIED:20250902T164211Z
UID:10000709-1718271000-1718274600@bouldercounty.gov
SUMMARY:BOCC Public Hearing - Docket LU-23-0025/SPR-23-0094: Antley Earthwork and Accessory Structures
DESCRIPTION:Board of County Commissioners public hearings and meetings are convened in a hybrid format where attendees can join through Zoom or attend in-person at the Boulder County Courthouse\, 3rd Floor\, 1325 Pearl St.\, Boulder. For questions regarding in-person hearings\, please email Brianna Barber at bbarber@bouldercounty.gov or call 303-441-3500. \nBoard of County Commissioners (BOCC) Public Hearing – Docket LU-23-0025/SPR-23-0094: Antley Earthwork and Accessory Structures\, Thursday\, June 13\, 2024\, at 9:30 a.m.\nOptional virtual meeting participation using Zoom Webinar. Registration is required to attend virtually: \nRegister to attend or speak virtually\nOptional call-in information: 1-833-568-8864\, Webinar ID: 160 395 6962 \nRegister to speak in-person\nCommunity Planning & Permitting Department Docket LU-23-0025/SPR-23-0094: Antley Earthwork and Accessory Structures \nLimited Impact Special Use Review to allow 1\,831 cubic yards of non-foundational earthwork and Site Plan Review for an 840 sq. ft. residential studio and to convert a 960 sq. ft. detached garage to a forestry shed on an approximately 3.65-acre parcel where the presumed size maximum is 2\,812 sq. ft. The application is submitted by Tim and Sunday Antley (applicants/property owners) and is in the Forestry (F) zoning district at 214 Chute Road\, approximately 0.1 miles east of the intersection of Gross Dam Road and Chute Road\, Section 33\, Township 1S\, Range 71W.\nPublic testimony will be taken.\nPlanner: Dana Yelton\nBoard of County Commissioners Action Requested: Decision \nOpportunities for live virtual public comment will be available. Written comments can be emailed to planner@bouldercounty.gov\, please reference LU-23-0025/SPR-23-0094. \nFor technical assistance in joining the hearing\, please email hearings@bouldercounty.gov. \nPlease note that the County Commissioners’ agenda is subject to change. To receive updates to the agenda\, please subscribe to the Boulder County Commissioners Agenda list. \n\nBoulder County wants to ensure that everyone has equal access to our programs\, activities\, and services. To request an Americans with Disability Act (ADA) accommodation\, please email ADA@bouldercounty.gov\, or call 303-441-1386. Submit your request as early as possible\, and no later than two business days before the event. \nIf you need help in another language\, please email CPPfrontdesk@bouldercounty.gov or call 303-441-3930. Contact us as early as possible\, and no later than three business days before the event.
URL:https://bouldercounty.gov/event/bocc-public-hearing-docket-lu-23-0025-spr-23-0094-antley-earthwork-and-accessory-structures/
LOCATION:CO
CATEGORIES:Community Planning & Permitting,County Commissioners,Home Page
ORGANIZER;CN="Community Planning &amp%3B Permitting":MAILTO:planner@bouldercounty.gov
END:VEVENT
BEGIN:VEVENT
DTSTART;TZID=America/Denver:20240613T130000
DTEND;TZID=America/Denver:20240613T140000
DTSTAMP:20260420T104756
CREATED:20250902T164139Z
LAST-MODIFIED:20250902T164139Z
UID:10000696-1718283600-1718287200@bouldercounty.gov
SUMMARY:BOCC Public Hearing - ZON-23-0021: 99 Canyonside Drive
DESCRIPTION:Board of County Commissioners public hearings and meetings are convened in a hybrid format where attendees can join through Zoom or attend in-person at the Boulder County Courthouse\, 3rd Floor\, 1325 Pearl St.\, Boulder. For questions regarding in-person hearings\, please email Brianna Barber at bbarber@bouldercounty.gov or call 303-441-3500. \nBoard of County Commissioners (BOCC) Public Hearing – ZON-23-0021: 99 Canyonside Drive – Thursday\, June 13\, 2024 at 1 p.m.\nOptional virtual meeting participation using Zoom Webinar. Registration is required to attend virtually: \nRegister to attend or speak virtually\nOptional call-in information: 1-833-568-8864\, Webinar ID: 160 574 6320 \nRegister to speak in-person\nBoulder County Community Planning and Permitting is asking for permission to abate the following from this property in Docket ZON-23-0021: 99 Canyonside Drive: Unpermitted shed containing cinder blocks\, scrap metal\, scrap wiring\, metal barrels\, and other rubbish in large amounts. \nOpportunities for live virtual public comment will be available. Written comments can be emailed to planner@bouldercounty.gov\, please reference ZON-23-0021. \nFor technical assistance in joining the hearing\, please email hearings@bouldercounty.gov. \n\nBoulder County wants to ensure that everyone has equal access to our programs\, activities\, and services. To request an Americans with Disability Act (ADA) accommodation\, please email ADA@bouldercounty.gov\, or call 303-441-1386. Submit your request as early as possible\, and no later than two business days before the event. \nIf you need help in another language\, please email CPPfrontdesk@bouldercounty.gov or call 303-441-3930. Contact us as early as possible\, and no later than three business days before the event. \nPlease note that the County Commissioners’ agenda is subject to change. To receive updates to the agenda\, please subscribe to the Boulder County Commissioners Agenda list.
URL:https://bouldercounty.gov/event/bocc-public-hearing-zon-23-0021-99-canyonside-drive/
LOCATION:CO
CATEGORIES:Community Planning & Permitting,County Commissioners,Home Page
ORGANIZER;CN="Community Planning &amp%3B Permitting":MAILTO:planner@bouldercounty.gov
END:VEVENT
BEGIN:VEVENT
DTSTART;TZID=America/Denver:20240613T130000
DTEND;TZID=America/Denver:20240613T140000
DTSTAMP:20260420T104756
CREATED:20250902T164140Z
LAST-MODIFIED:20250902T164140Z
UID:10000697-1718283600-1718287200@bouldercounty.gov
SUMMARY:BOCC Public Hearing - ZON-21-0012: 7642 Aberdeen Way
DESCRIPTION:Board of County Commissioners public hearings and meetings are convened in a hybrid format where attendees can join through Zoom or attend in-person at the Boulder County Courthouse\, 3rd Floor\, 1325 Pearl St.\, Boulder. For questions regarding in-person hearings\, please email Brianna Barber at bbarber@bouldercounty.gov or call 303-441-3500. \nBoard of County Commissioners (BOCC) Public Hearing – ZON-21-0012: 7642 Aberdeen Way – Thursday\, June 13\, 2024 at 1 p.m.\nOptional virtual meeting participation using Zoom Webinar. Registration is required to attend virtually: \nRegister to attend or speak virtually\nOptional call-in information: 1-833-568-8864\, Webinar ID: 160 574 6320 \nRegister to speak in-person\nBoulder County Community Planning and Permitting is asking for permission to abate the following from this property in Docket ZON-21-0012: 7642 Aberdeen Way: Weeds and brush in excess of nine inches on the front\, side\, and rear portions of the Property\, rubbish\, and impermissible outdoor accessory storage including but not limited to three unlicensed or inoperable vehicles\, a boat\, a broken umbrella\, buckets\, tools\, rubbish bins\, a bicycle\, filing cabinet\, trash bags\, a grill\, old tanks\, broken furniture\, scrap metal and wood\, and other rubbish. \nOpportunities for live virtual public comment will be available. Written comments can be emailed to planner@bouldercounty.gov\, please reference ZON-23-0012. \nFor technical assistance in joining the hearing\, please email hearings@bouldercounty.gov. \n\nBoulder County wants to ensure that everyone has equal access to our programs\, activities\, and services. To request an Americans with Disability Act (ADA) accommodation\, please email ADA@bouldercounty.gov\, or call 303-441-1386. Submit your request as early as possible\, and no later than two business days before the event. \nIf you need help in another language\, please email CPPfrontdesk@bouldercounty.gov or call 303-441-3930. Contact us as early as possible\, and no later than three business days before the event. \nPlease note that the County Commissioners’ agenda is subject to change. To receive updates to the agenda\, please subscribe to the Boulder County Commissioners Agenda list.
URL:https://bouldercounty.gov/event/bocc-public-hearing-zon-21-0012-7642-aberdeen-way/
LOCATION:CO
CATEGORIES:Community Planning & Permitting,County Commissioners,Home Page
ORGANIZER;CN="Community Planning &amp%3B Permitting":MAILTO:planner@bouldercounty.gov
END:VEVENT
END:VCALENDAR