BEGIN:VCALENDAR
VERSION:2.0
PRODID:-//Boulder County - ECPv6.15.17.1//NONSGML v1.0//EN
CALSCALE:GREGORIAN
METHOD:PUBLISH
X-ORIGINAL-URL:https://bouldercounty.gov
X-WR-CALDESC:Events for Boulder County
REFRESH-INTERVAL;VALUE=DURATION:PT1H
X-Robots-Tag:noindex
X-PUBLISHED-TTL:PT1H
BEGIN:VTIMEZONE
TZID:America/Denver
BEGIN:DAYLIGHT
TZOFFSETFROM:-0700
TZOFFSETTO:-0600
TZNAME:MDT
DTSTART:20230312T090000
END:DAYLIGHT
BEGIN:STANDARD
TZOFFSETFROM:-0600
TZOFFSETTO:-0700
TZNAME:MST
DTSTART:20231105T080000
END:STANDARD
BEGIN:DAYLIGHT
TZOFFSETFROM:-0700
TZOFFSETTO:-0600
TZNAME:MDT
DTSTART:20240310T090000
END:DAYLIGHT
BEGIN:STANDARD
TZOFFSETFROM:-0600
TZOFFSETTO:-0700
TZNAME:MST
DTSTART:20241103T080000
END:STANDARD
BEGIN:DAYLIGHT
TZOFFSETFROM:-0700
TZOFFSETTO:-0600
TZNAME:MDT
DTSTART:20250309T090000
END:DAYLIGHT
BEGIN:STANDARD
TZOFFSETFROM:-0600
TZOFFSETTO:-0700
TZNAME:MST
DTSTART:20251102T080000
END:STANDARD
END:VTIMEZONE
BEGIN:VEVENT
DTSTART;TZID=America/Denver:20240430T130000
DTEND;TZID=America/Denver:20240430T140000
DTSTAMP:20260420T121740
CREATED:20250902T163336Z
LAST-MODIFIED:20250902T163342Z
UID:10000596-1714482000-1714485600@bouldercounty.gov
SUMMARY:BOCC Public Hearing - Docket SPR-23-0030: Riley Addition
DESCRIPTION:Board of County Commissioners public hearings and meetings are convened in a hybrid format where attendees can join through Zoom or attend in-person at the Boulder County Courthouse\, 3rd Floor\, 1325 Pearl St.\, Boulder. For questions regarding in-person hearings\, please email Brianna Barber at bbarber@bouldercounty.org or call 303-441-3500. \nBoard of County Commissioners (BOCC) Public Hearing – Docket SPR-23-0030: Riley Addition\, Tuesday April 30\, 2024 at 1 p.m.\nOptional virtual meeting participation using Zoom Webinar. Registration is required to attend virtually: \nRegister to attend or speak virtually\nOptional call-in information: 1-833-568-8864\, Webinar ID: 161 062 9515 \nRegister to speak in-person\nCommunity Planning & Permitting Department Docket SPR-23-0030: Riley Addition \nAppeal of Director’s Determination of SPR-23-0030 for construction of a 200-square-foot addition to an existing 4\,869-square-foot residence on a 2.94-acre-parcel where the presumptive size maximum is 4\,302 square feet. The Determination is appealed by Erin Stadler and Jesse Riley (applicants/property owners) and Michelle W. Lee (agent). Property is in the Agricultural (A) zoning district at 12084 Twilight Street\, Lot 3 Whittington Estates\, Section 29\, Township 3N\, Range 70W.\nPublic testimony will be taken.\nPlanner: Amber Knotts\nBoard of County Commissioners Action Requested: Decision\n\n\nOpportunities for live virtual public comment will be available. Written comments can be emailed to planner@bouldercounty.org\, please reference SPR-23-0030.\n\nFor technical assistance in joining the hearing\, please email hearings@bouldercounty.org. \n\nIt is Boulder County policy to make county programs\, meetings\, activities\, and services accessible to individuals with disabilities\, according to the Americans with Disabilities Act. If you need special assistance\, contact the ADA Coordinator at 303-441-3525 at least 72 hours before the scheduled event. \nPlease note that the County Commissioners’ agenda is subject to change. To receive updates to the agenda\, please subscribe to the Boulder County Commissioners Agenda list.
URL:https://bouldercounty.gov/event/bocc-public-hearing-docket-spr-23-0030-riley-addition/
LOCATION:CO
CATEGORIES:Community Planning & Permitting,County Commissioners,Home Page
ORGANIZER;CN="Community Planning &amp%3B Permitting":MAILTO:planner@bouldercounty.gov
END:VEVENT
END:VCALENDAR