BEGIN:VCALENDAR
VERSION:2.0
PRODID:-//Boulder County - ECPv6.15.17.1//NONSGML v1.0//EN
CALSCALE:GREGORIAN
METHOD:PUBLISH
X-WR-CALNAME:Boulder County
X-ORIGINAL-URL:https://bouldercounty.gov
X-WR-CALDESC:Events for Boulder County
REFRESH-INTERVAL;VALUE=DURATION:PT1H
X-Robots-Tag:noindex
X-PUBLISHED-TTL:PT1H
BEGIN:VTIMEZONE
TZID:America/Denver
BEGIN:DAYLIGHT
TZOFFSETFROM:-0700
TZOFFSETTO:-0600
TZNAME:MDT
DTSTART:20230312T090000
END:DAYLIGHT
BEGIN:STANDARD
TZOFFSETFROM:-0600
TZOFFSETTO:-0700
TZNAME:MST
DTSTART:20231105T080000
END:STANDARD
BEGIN:DAYLIGHT
TZOFFSETFROM:-0700
TZOFFSETTO:-0600
TZNAME:MDT
DTSTART:20240310T090000
END:DAYLIGHT
BEGIN:STANDARD
TZOFFSETFROM:-0600
TZOFFSETTO:-0700
TZNAME:MST
DTSTART:20241103T080000
END:STANDARD
BEGIN:DAYLIGHT
TZOFFSETFROM:-0700
TZOFFSETTO:-0600
TZNAME:MDT
DTSTART:20250309T090000
END:DAYLIGHT
BEGIN:STANDARD
TZOFFSETFROM:-0600
TZOFFSETTO:-0700
TZNAME:MST
DTSTART:20251102T080000
END:STANDARD
END:VTIMEZONE
BEGIN:VEVENT
DTSTART;TZID=America/Denver:20240423T093000
DTEND;TZID=America/Denver:20240423T103000
DTSTAMP:20260420T134029
CREATED:20250902T163234Z
LAST-MODIFIED:20250902T163234Z
UID:10000554-1713864600-1713868200@bouldercounty.gov
SUMMARY:BOCC Public Hearing - Docket EP-23-0004: Roling Lot Division
DESCRIPTION:Board of County Commissioners public hearings and meetings are convened in a hybrid format where attendees can join through Zoom or attend in-person at the Boulder County Courthouse\, 3rd Floor\, 1325 Pearl St.\, Boulder. For questions regarding in-person hearings\, please email Brianna Barber at bbarber@bouldercounty.org or call 303-441-3500. \nBoard of County Commissioners (BOCC) Public Hearing – Docket EP-23-0004: Roling Lot Division\, Tuesday April 23\, 2024 at 9:30 a.m.\nOptional virtual meeting participation using Zoom Webinar. Registration is required to attend virtually: \nRegister to attend or speak virtually\nOptional call-in information: 1-833-568-8864\, Webinar ID: 160 236 4123 \nRegister to speak in-person\nCommunity Planning & Permitting Department Docket EP-23-0004: Roling Lot Division \nRequest to divide 88-acre parcel\, Outlot A of the L’Heureux County Estates NUPUD\, into a 20-acre parcel and a 68-acre parcel. The proposal is submitted by CEM and Associates LLC\, c/o Tom Roling (applicant/owner) and is in the Agricultural (A) zoning district at 3199 Nelson Road\, located at the northeast corner of the intersection of US-36 and Nelson Rd\, in Section 07\, Township 2N\, Range 70W.\nPlanner: Wesley Jefferies\nBoard of County Commissioners Action Requested: Decision\n\n\nOpportunities for live virtual public comment will be available. Written comments can be emailed to planner@bouldercounty.org\, please reference LU-24-0001.\n\nFor technical assistance in joining the hearing\, please email hearings@bouldercounty.org. \n\nIt is Boulder County policy to make county programs\, meetings\, activities\, and services accessible to individuals with disabilities\, according to the Americans with Disabilities Act. If you need special assistance\, contact the ADA Coordinator at 303-441-3525 at least 72 hours before the scheduled event. \nPlease note that the County Commissioners’ agenda is subject to change. To receive updates to the agenda\, please subscribe to the Boulder County Commissioners Agenda list.
URL:https://bouldercounty.gov/event/bocc-public-hearing-docket-ep-23-0004-roling-lot-division/
LOCATION:CO
CATEGORIES:Community Planning & Permitting,County Commissioners,Home Page
ORGANIZER;CN="Community Planning &amp%3B Permitting":MAILTO:planner@bouldercounty.gov
END:VEVENT
END:VCALENDAR