BEGIN:VCALENDAR
VERSION:2.0
PRODID:-//Boulder County - ECPv6.15.17.1//NONSGML v1.0//EN
CALSCALE:GREGORIAN
METHOD:PUBLISH
X-WR-CALNAME:Boulder County
X-ORIGINAL-URL:https://bouldercounty.gov
X-WR-CALDESC:Events for Boulder County
REFRESH-INTERVAL;VALUE=DURATION:PT1H
X-Robots-Tag:noindex
X-PUBLISHED-TTL:PT1H
BEGIN:VTIMEZONE
TZID:America/Denver
BEGIN:DAYLIGHT
TZOFFSETFROM:-0700
TZOFFSETTO:-0600
TZNAME:MDT
DTSTART:20230312T090000
END:DAYLIGHT
BEGIN:STANDARD
TZOFFSETFROM:-0600
TZOFFSETTO:-0700
TZNAME:MST
DTSTART:20231105T080000
END:STANDARD
BEGIN:DAYLIGHT
TZOFFSETFROM:-0700
TZOFFSETTO:-0600
TZNAME:MDT
DTSTART:20240310T090000
END:DAYLIGHT
BEGIN:STANDARD
TZOFFSETFROM:-0600
TZOFFSETTO:-0700
TZNAME:MST
DTSTART:20241103T080000
END:STANDARD
BEGIN:DAYLIGHT
TZOFFSETFROM:-0700
TZOFFSETTO:-0600
TZNAME:MDT
DTSTART:20250309T090000
END:DAYLIGHT
BEGIN:STANDARD
TZOFFSETFROM:-0600
TZOFFSETTO:-0700
TZNAME:MST
DTSTART:20251102T080000
END:STANDARD
END:VTIMEZONE
BEGIN:VEVENT
DTSTART;TZID=America/Denver:20240418T090000
DTEND;TZID=America/Denver:20240418T100000
DTSTAMP:20260420T134028
CREATED:20250902T163218Z
LAST-MODIFIED:20250902T163218Z
UID:10000540-1713430800-1713434400@bouldercounty.gov
SUMMARY:BOCC Public Hearing - Docket LU-24-0001: BCPOS Sherwood Creek Restoration
DESCRIPTION:Board of County Commissioners public hearings and meetings are convened in a hybrid format where attendees can join through Zoom or attend in-person at the Boulder County Courthouse\, 3rd Floor\, 1325 Pearl St.\, Boulder. For questions regarding in-person hearings\, please email Brianna Barber at bbarber@bouldercounty.org or call 303-441-3500. \nBoard of County Commissioners (BOCC) Public Hearing – Docket LU-24-0001: BCPOS Sherwood Creek Restoration\, Thursday April 18\, 2024 at 9 a.m.\nOptional virtual meeting participation using Zoom Webinar. Registration is required to attend virtually: \nRegister to attend or speak virtually\nOptional call-in information: 1-833-568-8864\, Webinar ID: 161 331 3230 \nRegister to speak in-person\nCommunity Planning & Permitting Department Docket LU-24-0001: BCPOS Sherwood Creek Restoration \nLimited Impact Special Use Review Review to permit 8\,843 cubic yards of non-foundational earthwork for restoration of the Sherwood Creek stream channel. The application is submitted by Boulder County\, c/o David Hirt (applicant). The subject property is in the Forestry (F) zoning district at 1600 County Road 126J and 735 County Road 128W\, at the dead end of County Road 126J\, accessed via County Road 126 approximately .5 miles west of the intersection of County Road 126 and SH72 on a 92 acre and 79 acre parcel in Section 11\, Township 1S\, Range 73W.\nPlanner: Samuel Walker\nBoard of County Commissioners Action Requested: Decision\n\n\nOpportunities for live virtual public comment will be available. Written comments can be emailed to planner@bouldercounty.org\, please reference Docket LU-24-0001.\n\nFor technical assistance in joining the hearing\, please email hearings@bouldercounty.org. \n\nIt is Boulder County policy to make county programs\, meetings\, activities\, and services accessible to individuals with disabilities\, according to the Americans with Disabilities Act. If you need special assistance\, contact the ADA Coordinator at 303-441-3525 at least 72 hours before the scheduled event. \nPlease note that the County Commissioners’ agenda is subject to change. To receive updates to the agenda\, please subscribe to the Boulder County Commissioners Agenda list.
URL:https://bouldercounty.gov/event/bocc-public-hearing-docket-lu-24-0001-bcpos-sherwood-creek-restoration/
LOCATION:CO
CATEGORIES:Community Planning & Permitting,County Commissioners,Home Page
ORGANIZER;CN="Community Planning &amp%3B Permitting":MAILTO:planner@bouldercounty.gov
END:VEVENT
END:VCALENDAR