BEGIN:VCALENDAR
VERSION:2.0
PRODID:-//Boulder County - ECPv6.15.17.1//NONSGML v1.0//EN
CALSCALE:GREGORIAN
METHOD:PUBLISH
X-WR-CALNAME:Boulder County
X-ORIGINAL-URL:https://bouldercounty.gov
X-WR-CALDESC:Events for Boulder County
REFRESH-INTERVAL;VALUE=DURATION:PT1H
X-Robots-Tag:noindex
X-PUBLISHED-TTL:PT1H
BEGIN:VTIMEZONE
TZID:America/Denver
BEGIN:DAYLIGHT
TZOFFSETFROM:-0700
TZOFFSETTO:-0600
TZNAME:MDT
DTSTART:20230312T090000
END:DAYLIGHT
BEGIN:STANDARD
TZOFFSETFROM:-0600
TZOFFSETTO:-0700
TZNAME:MST
DTSTART:20231105T080000
END:STANDARD
BEGIN:DAYLIGHT
TZOFFSETFROM:-0700
TZOFFSETTO:-0600
TZNAME:MDT
DTSTART:20240310T090000
END:DAYLIGHT
BEGIN:STANDARD
TZOFFSETFROM:-0600
TZOFFSETTO:-0700
TZNAME:MST
DTSTART:20241103T080000
END:STANDARD
BEGIN:DAYLIGHT
TZOFFSETFROM:-0700
TZOFFSETTO:-0600
TZNAME:MDT
DTSTART:20250309T090000
END:DAYLIGHT
BEGIN:STANDARD
TZOFFSETFROM:-0600
TZOFFSETTO:-0700
TZNAME:MST
DTSTART:20251102T080000
END:STANDARD
END:VTIMEZONE
BEGIN:VEVENT
DTSTART;TZID=America/Denver:20240402T093000
DTEND;TZID=America/Denver:20240402T103000
DTSTAMP:20260420T134024
CREATED:20250902T161348Z
LAST-MODIFIED:20250902T161348Z
UID:10000239-1712050200-1712053800@bouldercounty.gov
SUMMARY:BOCC Public Hearing - Docket LU-23-0028: Boulder Country Club Use of Community Significance Designation
DESCRIPTION:Board of County Commissioners public hearings and meetings are convened in a hybrid format where attendees can join through Zoom or attend in-person at the Boulder County Courthouse\, 3rd Floor\, 1325 Pearl St.\, Boulder. For questions regarding in-person hearings\, please email Brianna Barber at bbarber@bouldercounty.org or call 303-441-3500. \nBoard of County Commissioners (BOCC) Public Hearing – Docket LU-23-0028: Boulder Country Club Use of Community Significance Designation\, Tuesday April 2\, 2024 at 9:30 a.m. (Tabled from January 11\, 2024).\nOptional virtual meeting participation using Zoom Webinar. Registration is required to attend virtually: \nRegister to attend or speak virtually\nOptional call-in information: 1-833-568-8864\, Webinar ID: 161 790 2198 \nRegister to speak in-person\nCommunity Planning & Permitting Department Docket LU-23-0028: Boulder Country Club Use of Community Significance Designation \nLimited Impact Special Use Review to recognize existing nonconforming use as a Use of Community Significance to permit a seasonal structure on an approximately 190-acre parcel at 7350 Clubhouse Road. The proposal is submitted by Boulder Country Club Inc. c/o Michael Larson (applicant). The subject property is in the Rural Residential (RR) zoning district at 7350 Clubhouse Road\, located approximately 1.4 miles north of the intersection of Jay Road and N. 75th Street\, in Sections 11-14\, Township 1N\, Range 70W\nPlanner: Pete L’Orange\nBoard of County Commissioners Action Requested: Decision\n\n\nOpportunities for live virtual public comment will be available. Written comments can be emailed to planner@bouldercounty.org\, please reference Docket LU-23-0028.\n\nFor technical assistance in joining the hearing\, please email hearings@bouldercounty.org. \n\nIt is Boulder County policy to make county programs\, meetings\, activities\, and services accessible to individuals with disabilities\, according to the Americans with Disabilities Act. If you need special assistance\, contact the ADA Coordinator at 303-441-3525 at least 72 hours before the scheduled event. \nPlease note that the County Commissioners’ agenda is subject to change. To receive updates to the agenda\, please subscribe to the Boulder County Commissioners Agenda list.
URL:https://bouldercounty.gov/event/bocc-public-hearing-docket-lu-23-0028-boulder-country-club-use-of-community-significance-designation/
LOCATION:CO
CATEGORIES:Community Planning & Permitting,County Commissioners,Home Page
ORGANIZER;CN="Community Planning &amp%3B Permitting":MAILTO:planner@bouldercounty.gov
END:VEVENT
BEGIN:VEVENT
DTSTART;TZID=America/Denver:20240402T130000
DTEND;TZID=America/Denver:20240402T130000
DTSTAMP:20260420T134024
CREATED:20250902T163122Z
LAST-MODIFIED:20250902T163122Z
UID:10000506-1712062800-1712062800@bouldercounty.gov
SUMMARY:BOCC Public Hearing - Docket SPR-23-0108: Piscopio-Huang Residential Remodel and New Accessory Structure
DESCRIPTION:Board of County Commissioners public hearings and meetings are convened in a hybrid format where attendees can join through Zoom or attend in-person at the Boulder County Courthouse\, 3rd Floor\, 1325 Pearl St.\, Boulder. For questions regarding in-person hearings\, please email Brianna Barber at bbarber@bouldercounty.org or call 303-441-3500. \nBoard of County Commissioners (BOCC) Public Hearing – Docket SPR-23-0108: Piscopio-Huang Residential Remodel and New Accessory Structure\, Tuesday April 2\, 2024 at 1 p.m.\nOptional virtual meeting participation using Zoom Webinar. Registration is required to attend virtually: \nRegister to attend or speak virtually\nOptional call-in information: 1-833-568-8864\, Webinar ID: 160 938 1959 \nRegister to speak in-person\nCommunity Planning & Permitting Department Docket SPR-23-0108: Piscopio-Huang Residential Remodel and New Accessory Structure \nAppeal of Director’s Determination of SPR-23-0108 for a single residential structure in the location of the existing structure with a maximum of 5\,848 square feet and a maximum of 4\,221 square feet above grade on a 0.83-acre parcel where the size presumed to be compatible with the neighborhood is 4\,881-square-feet. The Determination is appealed by Anthony Piscopio & Huiqiong Huang (applicants/property owners) and Kyle Callahan (agent). Property is in the Rural Residential (RR) zoning district at 5986 Heather Way\, Section 27\, Township 2N\, Range 70W.\nPlanner: Dana Yelton\nBoard of County Commissioners Action Requested: Decision\n\n\nOpportunities for live virtual public comment will be available. Written comments can be emailed to planner@bouldercounty.org\, please reference Docket SPR-23-0108.\n\nFor technical assistance in joining the hearing\, please email hearings@bouldercounty.org. \n\nIt is Boulder County policy to make county programs\, meetings\, activities\, and services accessible to individuals with disabilities\, according to the Americans with Disabilities Act. If you need special assistance\, contact the ADA Coordinator at 303-441-3525 at least 72 hours before the scheduled event. \nPlease note that the County Commissioners’ agenda is subject to change. To receive updates to the agenda\, please subscribe to the Boulder County Commissioners Agenda list.
URL:https://bouldercounty.gov/event/bocc-public-hearing-docket-spr-23-0108-piscopio-huang-residential-remodel-and-new-accessory-structure/
LOCATION:CO
CATEGORIES:Community Planning & Permitting,County Commissioners,Home Page
ORGANIZER;CN="Community Planning &amp%3B Permitting":MAILTO:planner@bouldercounty.gov
END:VEVENT
END:VCALENDAR