BEGIN:VCALENDAR
VERSION:2.0
PRODID:-//Boulder County - ECPv6.15.17.1//NONSGML v1.0//EN
CALSCALE:GREGORIAN
METHOD:PUBLISH
X-WR-CALNAME:Boulder County
X-ORIGINAL-URL:https://bouldercounty.gov
X-WR-CALDESC:Events for Boulder County
REFRESH-INTERVAL;VALUE=DURATION:PT1H
X-Robots-Tag:noindex
X-PUBLISHED-TTL:PT1H
BEGIN:VTIMEZONE
TZID:America/Denver
BEGIN:DAYLIGHT
TZOFFSETFROM:-0700
TZOFFSETTO:-0600
TZNAME:MDT
DTSTART:20230312T090000
END:DAYLIGHT
BEGIN:STANDARD
TZOFFSETFROM:-0600
TZOFFSETTO:-0700
TZNAME:MST
DTSTART:20231105T080000
END:STANDARD
BEGIN:DAYLIGHT
TZOFFSETFROM:-0700
TZOFFSETTO:-0600
TZNAME:MDT
DTSTART:20240310T090000
END:DAYLIGHT
BEGIN:STANDARD
TZOFFSETFROM:-0600
TZOFFSETTO:-0700
TZNAME:MST
DTSTART:20241103T080000
END:STANDARD
BEGIN:DAYLIGHT
TZOFFSETFROM:-0700
TZOFFSETTO:-0600
TZNAME:MDT
DTSTART:20250309T090000
END:DAYLIGHT
BEGIN:STANDARD
TZOFFSETFROM:-0600
TZOFFSETTO:-0700
TZNAME:MST
DTSTART:20251102T080000
END:STANDARD
END:VTIMEZONE
BEGIN:VEVENT
DTSTART;TZID=America/Denver:20240312T130000
DTEND;TZID=America/Denver:20240312T140000
DTSTAMP:20260420T151423
CREATED:20250902T162955Z
LAST-MODIFIED:20250902T162955Z
UID:10000457-1710248400-1710252000@bouldercounty.gov
SUMMARY:BOCC Public Hearing - Docket LU-23-0038: Juicy Berry Farm ADU
DESCRIPTION:Board of County Commissioners (BOCC) Public Hearing – Docket LU-23-0038: Juicy Berry Farm ADU\, Tuesday March 12\, 2024 at 1 p.m.\nBoard of County Commissioners public hearings and meetings are convened in a hybrid format where attendees can join through Zoom or attend in-person at the Boulder County Courthouse\, 3rd Floor\, 1325 Pearl St.\, Boulder. For questions regarding in-person hearings\, please email Brianna Barber at bbarber@bouldercounty.org or call 303-441-3500. \nOptional virtual meeting participation using Zoom Webinar. Registration is required to attend virtually: \nRegister to attend or speak virtually\nOptional call-in information: 1-833-568-8864\, Webinar ID: 160 009 4024 \nRegister to speak in-person\nCommunity Planning & Permitting Department Docket LU-23-0038: Juicy Berry Farm ADU \nRequest to permit establishment of a 1\,450 sq. ft. agricultural worker Accessory Dwelling Unit. The application is submitted by Gregg Campbell (owner) and Nathan Knecht (applicant). The subject property is in the Rural Residential (RR) zoning district at 7426 Jay Road\, approximately 500 feet west of the intersection of Jay Road and N. 75th Street\, in Section 13\, Township 1N\, Range 70.\nPlanner: Samuel Walker\nBoard of County Commissioners Action Requested: Decision\n\n\nOpportunities for live virtual public comment will be available. Written comments can be emailed to planner@bouldercounty.org\, please reference Docket LU-23-0038.\n\nFor technical assistance in joining the hearing\, please email hearings@bouldercounty.org. \n\nIt is Boulder County policy to make county programs\, meetings\, activities\, and services accessible to individuals with disabilities\, according to the Americans with Disabilities Act. If you need special assistance\, contact the ADA Coordinator at 303-441-3525 at least 72 hours before the scheduled event. \nPlease note that the County Commissioners’ agenda is subject to change. To receive updates to the agenda\, please subscribe to the Boulder County Commissioners Agenda list.
URL:https://bouldercounty.gov/event/bocc-public-hearing-docket-lu-23-0038-juicy-berry-farm-adu/
LOCATION:CO
CATEGORIES:Community Planning & Permitting,County Commissioners,Home Page
ORGANIZER;CN="Community Planning &amp%3B Permitting":MAILTO:planner@bouldercounty.gov
END:VEVENT
BEGIN:VEVENT
DTSTART;TZID=America/Denver:20240312T130000
DTEND;TZID=America/Denver:20240312T150000
DTSTAMP:20260420T151423
CREATED:20250902T163043Z
LAST-MODIFIED:20250902T163043Z
UID:10000482-1710248400-1710255600@bouldercounty.gov
SUMMARY:BOCC Public Hearing - Docket Z-23-0002: Lyons Area Zoning Map Amendment
DESCRIPTION:Board of County Commissioners public hearings and meetings are convened in a hybrid format where attendees can join through Zoom or attend in-person at the Boulder County Courthouse\, 3rd Floor\, 1325 Pearl St.\, Boulder. For questions regarding in-person hearings\, please email hearings@bouldercounty.gov or call 303-441-3500. \nBoard of County Commissioners (BOCC) Public Hearing: Docket Z-23-0002: Lyons Area Zoning Map Amendment\, Tuesday\, March 12\, 2024 at 1 p.m. This hearing was tabled from March 7\, 2024.\nOptional virtual meeting participation using Zoom Webinar. Registration is required to attend virtually: \nRegister to attend or speak virtually\nOptional call-in information: 1-833-568-8864\, Webinar ID: 160 009 4024 \nRegister to speak in-person\nCommunity Planning & Permitting Department Docket Z-23-0002: Lyons Area Zoning Map Amendment \nComprehensive zoning amendment to the Boulder County Zoning Map\, rezoning of higher intensity (Commercial\, Business\, Transitional\, and General Industrial) zone districts within a three-mile radius of the Town of Lyons in unincorporated Boulder County.\nPlanner: Hannah Hippely\nDocument: Staff Meeting Packet\, March 7\, 2024\nWebpage: Z-23-0002 Lyons Area Zoning Map Amendment\nBoard of County Commissioners Action Requested: Decision \nOpportunities for live virtual public comment will be available. Written comments can be emailed to planner@bouldercounty.org\, please reference Docket Z-23-0002.\n\nFor technical assistance in joining the hearing\, please email hearings@bouldercounty.org. \n\n\nIt is Boulder County policy to make county programs\, meetings\, activities\, and services accessible to individuals with disabilities\, according to the Americans with Disabilities Act. If you need special assistance\, contact the ADA Coordinator at 303-441-3525 at least 72 hours before the scheduled event. \nPlease note that the County Commissioners’ agenda is subject to change. To receive updates to the agenda\, please subscribe to the Boulder County Commissioners Agenda list.
URL:https://bouldercounty.gov/event/bocc-public-hearing-docket-z-23-0002-lyons-area-zoning-map-amendment/
LOCATION:CO
CATEGORIES:Community Planning & Permitting,County Commissioners,Home Page
ORGANIZER;CN="Community Planning &amp%3B Permitting":MAILTO:planner@bouldercounty.gov
END:VEVENT
END:VCALENDAR