BEGIN:VCALENDAR
VERSION:2.0
PRODID:-//Boulder County - ECPv6.15.17.1//NONSGML v1.0//EN
CALSCALE:GREGORIAN
METHOD:PUBLISH
X-ORIGINAL-URL:https://bouldercounty.gov
X-WR-CALDESC:Events for Boulder County
REFRESH-INTERVAL;VALUE=DURATION:PT1H
X-Robots-Tag:noindex
X-PUBLISHED-TTL:PT1H
BEGIN:VTIMEZONE
TZID:America/Denver
BEGIN:DAYLIGHT
TZOFFSETFROM:-0700
TZOFFSETTO:-0600
TZNAME:MDT
DTSTART:20230312T090000
END:DAYLIGHT
BEGIN:STANDARD
TZOFFSETFROM:-0600
TZOFFSETTO:-0700
TZNAME:MST
DTSTART:20231105T080000
END:STANDARD
BEGIN:DAYLIGHT
TZOFFSETFROM:-0700
TZOFFSETTO:-0600
TZNAME:MDT
DTSTART:20240310T090000
END:DAYLIGHT
BEGIN:STANDARD
TZOFFSETFROM:-0600
TZOFFSETTO:-0700
TZNAME:MST
DTSTART:20241103T080000
END:STANDARD
BEGIN:DAYLIGHT
TZOFFSETFROM:-0700
TZOFFSETTO:-0600
TZNAME:MDT
DTSTART:20250309T090000
END:DAYLIGHT
BEGIN:STANDARD
TZOFFSETFROM:-0600
TZOFFSETTO:-0700
TZNAME:MST
DTSTART:20251102T080000
END:STANDARD
END:VTIMEZONE
BEGIN:VEVENT
DTSTART;TZID=America/Denver:20240307T090000
DTEND;TZID=America/Denver:20240307T100000
DTSTAMP:20260420T151648
CREATED:20250902T162937Z
LAST-MODIFIED:20250902T162939Z
UID:10000448-1709802000-1709805600@bouldercounty.gov
SUMMARY:Tabled: BOCC Public Hearing - Docket Z-23-0002: Lyons Area Zoning Map Amendment
DESCRIPTION:Board of County Commissioners public hearings and meetings are convened in a hybrid format where attendees can join through Zoom or attend in-person at the Boulder County Courthouse\, 3rd Floor\, 1325 Pearl St.\, Boulder. For questions regarding in-person hearings\, please email hearings@bouldercounty.gov or call 303-441-3500. \nBoard of County Commissioners (BOCC) Public Hearing: Docket Z-23-0002: Lyons Area Zoning Map Amendment\, scheduled for Thursday\, March 7\, 2024 has been tabled to March 12\, 2024 at 1 p.m.\nCommunity Planning & Permitting Department Docket Z-23-0002: Lyons Area Zoning Map Amendment \nComprehensive zoning amendment to the Boulder County Zoning Map\, rezoning of higher intensity (Commercial\, Business\, Transitional\, and General Industrial) zone districts within a three-mile radius of the Town of Lyons in unincorporated Boulder County.\nPlanner: Hannah Hippely\nDocument: Staff Meeting Packet\, March 7\, 2024\nWebpage: Z-23-0002 Lyons Area Zoning Map Amendment\nBoard of County Commissioners Action Requested: Decision \n\nIt is Boulder County policy to make county programs\, meetings\, activities\, and services accessible to individuals with disabilities\, according to the Americans with Disabilities Act. If you need special assistance\, contact the ADA Coordinator at 303-441-3525 at least 72 hours before the scheduled event. \nPlease note that the County Commissioners’ agenda is subject to change. To receive updates to the agenda\, please subscribe to the Boulder County Commissioners Agenda list.
URL:https://bouldercounty.gov/event/tabled-bocc-public-hearing-docket-z-23-0002-lyons-area-zoning-map-amendment/
LOCATION:CO
CATEGORIES:Community Planning & Permitting,County Commissioners,Home Page
ORGANIZER;CN="Community Planning &amp%3B Permitting":MAILTO:planner@bouldercounty.gov
END:VEVENT
BEGIN:VEVENT
DTSTART;TZID=America/Denver:20240307T133000
DTEND;TZID=America/Denver:20240307T143000
DTSTAMP:20260420T151648
CREATED:20250902T163014Z
LAST-MODIFIED:20250902T163014Z
UID:10000468-1709818200-1709821800@bouldercounty.gov
SUMMARY:Tabled Indefinitely: BOCC Public Hearing - Docket SPR-22-0132: 530 Fountaintree LLC Residence
DESCRIPTION:Board of County Commissioners (BOCC) Public Hearing – Docket SPR-22-0132: 530 Fountaintree LLC Residence\, scheduled for Tuesday\, March 7\, 2024 has been tabled indefinitely. \nView the Tabled Indefinitely Notice \nCommunity Planning & Permitting Department Docket SPR-22-0132: 530 Fountaintree LLC Residence \nCall-up of Director’s Determination for the request to construct a 6\,300 square-foot residence with a 653 square foot covered porch where the PSM is 6\,530 square-feet at 530 Fountaintree Lane. The application is submitted by Colorado View Properties\, LLC c/o Eric Miska (applicant)\, 530 Fountaintree LLC (owner)\, and Amble Architecture\, c/o Colin Ostman (agent). The subject property is in the Forestry (F) zoning district at 530 Fountaintree Lane\, in Section 14\, Township 1N\, Range 71W.\nPlanner: Wesley Jefferies\nBoard of County Commissioners Action Requested: Decision
URL:https://bouldercounty.gov/event/tabled-indefinitely-bocc-public-hearing-docket-spr-22-0132-530-fountaintree-llc-residence/
LOCATION:CO
CATEGORIES:Community Planning & Permitting,County Commissioners,Home Page
ORGANIZER;CN="Community Planning &amp%3B Permitting":MAILTO:planner@bouldercounty.gov
END:VEVENT
BEGIN:VEVENT
DTSTART;TZID=America/Denver:20240307T180000
DTEND;TZID=America/Denver:20240307T190000
DTSTAMP:20260420T151648
CREATED:20250902T163013Z
LAST-MODIFIED:20250902T163013Z
UID:10000467-1709834400-1709838000@bouldercounty.gov
SUMMARY:Historic Preservation Advisory Board (HPAB) Virtual Meeting
DESCRIPTION:Historic Preservation Advisory Board meetings are conducted virtually\nHistoric Preservation Advisory Board Virtual Meeting\, Thursday\, March 07\, 2024\, at 6 p.m.\nAttend or Participate Virtually:\nVirtual Meeting using Zoom \nAttend or participate starting at 6 p.m.\nOptional call-in information: 1-833-568-8864 | Meeting ID: 160 999 3678 \nDocuments: \n\nHPAB Advisory Board Meeting Agenda\, March 7\, 2024\nHPAB Advisory Board Meeting Packet\, March 7\, 2024\n\nContact the Historic Preservation Team at historic@bouldercounty.gov for more information on these items. Please note that the HPAB agenda is subject to change. \nIt is Boulder County policy to make county programs\, meetings\, activities\, and services accessible to individuals with disabilities\, according to the Americans with Disabilities Act. If you need special assistance\, contact the ADA Coordinator at 303-441-3525 as soon as possible prior to the scheduled event. \n\nThe Boulder County Historic Preservation Advisory Board (HPAB) is an advisory board appointed by the Board of County Commissioners to provide guidance to the county on historic preservation issues. Its primary focus is to review structures and sites for historic significance and to review building or development plans which might affect these resources. HPAB also reviews landmark applications and must approve building plans which result in the alteration of an historic landmark. \nEach HPAB meeting is a public hearing\, and at the beginning of each meeting anyone may address the Board with historic preservation concerns or questions.
URL:https://bouldercounty.gov/event/historic-preservation-advisory-board-hpab-virtual-meeting/
LOCATION:Virtual via Zoom
CATEGORIES:Community Planning & Permitting,County Commissioners,Home Page
ORGANIZER;CN="Community Planning &amp%3B Permitting":MAILTO:planner@bouldercounty.gov
END:VEVENT
END:VCALENDAR