BEGIN:VCALENDAR
VERSION:2.0
PRODID:-//Boulder County - ECPv6.15.17.1//NONSGML v1.0//EN
CALSCALE:GREGORIAN
METHOD:PUBLISH
X-ORIGINAL-URL:https://bouldercounty.gov
X-WR-CALDESC:Events for Boulder County
REFRESH-INTERVAL;VALUE=DURATION:PT1H
X-Robots-Tag:noindex
X-PUBLISHED-TTL:PT1H
BEGIN:VTIMEZONE
TZID:America/Denver
BEGIN:DAYLIGHT
TZOFFSETFROM:-0700
TZOFFSETTO:-0600
TZNAME:MDT
DTSTART:20230312T090000
END:DAYLIGHT
BEGIN:STANDARD
TZOFFSETFROM:-0600
TZOFFSETTO:-0700
TZNAME:MST
DTSTART:20231105T080000
END:STANDARD
BEGIN:DAYLIGHT
TZOFFSETFROM:-0700
TZOFFSETTO:-0600
TZNAME:MDT
DTSTART:20240310T090000
END:DAYLIGHT
BEGIN:STANDARD
TZOFFSETFROM:-0600
TZOFFSETTO:-0700
TZNAME:MST
DTSTART:20241103T080000
END:STANDARD
BEGIN:DAYLIGHT
TZOFFSETFROM:-0700
TZOFFSETTO:-0600
TZNAME:MDT
DTSTART:20250309T090000
END:DAYLIGHT
BEGIN:STANDARD
TZOFFSETFROM:-0600
TZOFFSETTO:-0700
TZNAME:MST
DTSTART:20251102T080000
END:STANDARD
END:VTIMEZONE
BEGIN:VEVENT
DTSTART;TZID=America/Denver:20240123T130000
DTEND;TZID=America/Denver:20240123T140000
DTSTAMP:20260420T181803
CREATED:20250902T161500Z
LAST-MODIFIED:20250902T161500Z
UID:10000265-1706014800-1706018400@bouldercounty.gov
SUMMARY:CANCELED - BOCC Public Hearing - Docket LU-23-0034: Braam Driveway Earthwork
DESCRIPTION:This public hearing has been tabled indefinitely. \nBoard of County Commissioners (BOCC) Public Hearing: Docket LU-23-0034: Braam Driveway Earthwork\, Tuesday\, January 23\, 2024 at 1 p.m.\nCommunity Planning & Permitting Department Docket LU-23-0034: Braam Driveway Earthwork \nLimited Impact Special Use Review to permit 3\,277 cubic yards of non-foundational earthwork for the construction of a new driveway that will provide access to an existing residence. The application is submitted by The Peter J Braam Trust (applicant) and Stuart Gorton (agent). The subject property is in the Forestry (F) zoning district at 266 Old Whiskey Road\, located approximately 0.3 miles east of the intersection of Magnolia Road and Old Whiskey Road\, Section 33\, Township 1N\, Range 71W.\nPlanner: Amber Knotts\nBoard of County Commissioners Action Requested: Decision \n\n\n\nBoard of County Commissioners public hearings and meetings are convened in a hybrid format where attendees can join through Zoom or attend in-person at the Boulder County Courthouse\, 3rd Floor\, 1325 Pearl St.\, Boulder. For questions regarding in-person hearings\, please email Brianna Barber at bbarber@bouldercounty.org or call 303-441-3500. \nIt is Boulder County policy to make county programs\, meetings\, activities\, and services accessible to individuals with disabilities\, according to the Americans with Disabilities Act. If you need special assistance\, contact the ADA Coordinator at 303-441-3525 at least 72 hours before the scheduled event. \nPlease note that the County Commissioners’ agenda is subject to change. To receive updates to the agenda\, please subscribe to the Boulder County Commissioners Agenda list.
URL:https://bouldercounty.gov/event/canceled-bocc-public-hearing-docket-lu-23-0034-braam-driveway-earthwork/
LOCATION:CO
CATEGORIES:Community Planning & Permitting,County Commissioners,Home Page
ORGANIZER;CN="Community Planning &amp%3B Permitting":MAILTO:planner@bouldercounty.gov
END:VEVENT
END:VCALENDAR