BEGIN:VCALENDAR
VERSION:2.0
PRODID:-//Boulder County - ECPv6.15.17.1//NONSGML v1.0//EN
CALSCALE:GREGORIAN
METHOD:PUBLISH
X-WR-CALNAME:Boulder County
X-ORIGINAL-URL:https://bouldercounty.gov
X-WR-CALDESC:Events for Boulder County
REFRESH-INTERVAL;VALUE=DURATION:PT1H
X-Robots-Tag:noindex
X-PUBLISHED-TTL:PT1H
BEGIN:VTIMEZONE
TZID:America/Denver
BEGIN:DAYLIGHT
TZOFFSETFROM:-0700
TZOFFSETTO:-0600
TZNAME:MDT
DTSTART:20240310T090000
END:DAYLIGHT
BEGIN:STANDARD
TZOFFSETFROM:-0600
TZOFFSETTO:-0700
TZNAME:MST
DTSTART:20241103T080000
END:STANDARD
BEGIN:DAYLIGHT
TZOFFSETFROM:-0700
TZOFFSETTO:-0600
TZNAME:MDT
DTSTART:20250309T090000
END:DAYLIGHT
BEGIN:STANDARD
TZOFFSETFROM:-0600
TZOFFSETTO:-0700
TZNAME:MST
DTSTART:20251102T080000
END:STANDARD
BEGIN:DAYLIGHT
TZOFFSETFROM:-0700
TZOFFSETTO:-0600
TZNAME:MDT
DTSTART:20260308T090000
END:DAYLIGHT
BEGIN:STANDARD
TZOFFSETFROM:-0600
TZOFFSETTO:-0700
TZNAME:MST
DTSTART:20261101T080000
END:STANDARD
END:VTIMEZONE
BEGIN:VEVENT
DTSTART;TZID=America/Denver:20250107T093000
DTEND;TZID=America/Denver:20250107T103000
DTSTAMP:20260419T223332
CREATED:20250902T170722Z
LAST-MODIFIED:20250902T170722Z
UID:10001122-1736242200-1736245800@bouldercounty.gov
SUMMARY:BOCC Public Hearing - Docket LU-24-0018/SPR-24-0077: Albert Earthwork and Residence
DESCRIPTION:Board of County Commissioners public hearings and meetings are convened in a hybrid format where attendees can join through Zoom or attend in-person at the Boulder County Courthouse\, 3rd Floor\, 1325 Pearl St.\, Boulder. For questions regarding in-person hearings or technical assistance\, please email hearings@bouldercounty.gov or call 303-441-3500. \nBoard of County Commissioners (BOCC) Public Hearing – Docket LU-24-0018/SPR-24-0077: Albert Earthwork and Residence\, Tuesday\, Jan. 7\, 2025\, at 9:30 a.m.\nOptional virtual meeting participation using Zoom Webinar. Registration is required to attend virtually: \nRegister to attend or speak virtually\nOptional call-in information: 1-833-568-8864\, Webinar ID: 161 179 6837 \nRegister to speak in-person\nCommunity Planning & Permitting Department – Docket LU-24-0018/SPR-24-0077: Albert Earthwork and Residence \nLimited Impact Special Use Review to perform 1\,813 cubic yards of non-foundational earthwork and Site Plan Review to deconstruct and existing residence and to construct a new 5\,339 sq. ft. residence and 400 sq. ft. carport on a 1.3-acre parcel where the PSM is 4\,899 sq. ft. The application is submitted by Albert Living Trust c/o John and Renee Albert (applicants/owners) and Vertical Arts\, c/o Andrew Pharris (agent). The subject property is in the Estate Residential (ER) zoning district at 4259 Prado Drive\, approximately 0.1-miles north of the intersection of Eldorado Springs Drive and Prado Drive\, in Section 20\, Township 1S\, Range 70W.\nPublic testimony will be taken.  \nOpportunities for live virtual public comment will be available. Written comments can be emailed to planner@bouldercounty.gov\, please reference Docket LU-24-0018/SPR-24-0077. \n\nBoulder County wants to ensure that everyone has equal access to our programs\, activities\, and services. To request an Americans with Disability Act (ADA) accommodation\, please email ADA@bouldercounty.gov\, or call 303-441-1386. Submit your request as early as possible\, and no later than two business days before the event. \nIf you need help in another language\, please email CPPfrontdesk@bouldercounty.gov or call 303-441-3930. Contact us as early as possible\, and no later than three business days before the event. \nPlease note that the County Commissioners’ agenda is subject to change. To receive updates to the agenda\, please subscribe to the Boulder County Commissioners Agenda list.
URL:https://bouldercounty.gov/event/bocc-public-hearing-docket-lu-24-0018-spr-24-0077-albert-earthwork-and-residence/
CATEGORIES:Community Planning & Permitting,County Commissioners,Home Page
ORGANIZER;CN="Community Planning &amp%3B Permitting":MAILTO:planner@bouldercounty.gov
END:VEVENT
BEGIN:VEVENT
DTSTART;TZID=America/Denver:20250109T093000
DTEND;TZID=America/Denver:20250109T103000
DTSTAMP:20260419T223332
CREATED:20250902T170809Z
LAST-MODIFIED:20250902T170809Z
UID:10001156-1736415000-1736418600@bouldercounty.gov
SUMMARY:BOCC Public Hearing - Docket LU-24-0016: Kline Family Care Unit ADU
DESCRIPTION:Board of County Commissioners public hearings and meetings are convened in a hybrid format where attendees can join through Zoom or attend in-person at the Boulder County Courthouse\, 3rd Floor\, 1325 Pearl St.\, Boulder. For questions regarding in-person hearings or technical assistance\, please email hearings@bouldercounty.gov or call 303-441-3500. \nBoard of County Commissioners (BOCC) Public Hearing – Docket LU-24-0016: Kline Family Care Unit Accessory Dwelling Unit\, Tuesday\, Jan. 9\, 2025\, at 9:30 a.m.\nOptional virtual meeting participation using Zoom Webinar. Registration is required to attend virtually: \nRegister to attend or speak virtually\nOptional call-in information: 1-833-568-8864\, Webinar ID: 160 168 1204 \nRegister to speak in-person\nCommunity Planning & Permitting Department – Docket LU-24-0016: Kline Family Care Unit Accessory Dwelling Unit \nLimited Impact Special Use Review to permit a 600 sq. ft. family care unit ADU on an approximately .7-acre property. The application is submitted by Dennis and Melanie Kline (owners/applicants). The subject property is in the Rural Residential (RR) zoning district at 1005 Cherryvale Road\, approximately .1 mile north of the intersection of Cherryvale Road and Baseline Road\, in Section 34\, Township 1N\, Range 70W.\nPublic testimony will be taken.  \nAction Requested: Decision \nOpportunities for live virtual public comment will be available. Written comments can be emailed to planner@bouldercounty.gov\, please reference Docket LU-24-0016. \n\nBoulder County wants to ensure that everyone has equal access to our programs\, activities\, and services. To request an Americans with Disability Act (ADA) accommodation\, please email ADA@bouldercounty.gov\, or call 303-441-1386. Submit your request as early as possible\, and no later than two business days before the event. \nIf you need help in another language\, please email CPPfrontdesk@bouldercounty.gov or call 303-441-3930. Contact us as early as possible\, and no later than three business days before the event. \nPlease note that the County Commissioners’ agenda is subject to change. To receive updates to the agenda\, please subscribe to the Boulder County Commissioners Agenda list.
URL:https://bouldercounty.gov/event/bocc-public-hearing-docket-lu-24-0016-kline-family-care-unit-adu/
CATEGORIES:Community Planning & Permitting,County Commissioners,Home Page
ORGANIZER;CN="Community Planning &amp%3B Permitting":MAILTO:planner@bouldercounty.gov
END:VEVENT
BEGIN:VEVENT
DTSTART;TZID=America/Denver:20250109T130000
DTEND;TZID=America/Denver:20250109T140000
DTSTAMP:20260419T223332
CREATED:20250902T170811Z
LAST-MODIFIED:20250902T170811Z
UID:10001157-1736427600-1736431200@bouldercounty.gov
SUMMARY:BOCC Public Hearing - Docket SE-24-0002: Kostecki-Keil Lot Recognition
DESCRIPTION:Board of County Commissioners public hearings and meetings are convened in a hybrid format where attendees can join through Zoom or attend in-person at the Boulder County Courthouse\, 3rd Floor\, 1325 Pearl St.\, Boulder. For questions regarding in-person hearings or technical assistance\, please email hearings@bouldercounty.gov or call 303-441-3500. \nBoard of County Commissioners (BOCC) Public Hearing – Docket SE-24-0002: Kostecki-Keil Lot Recognition \, Tuesday\, Jan. 9\, 2025\, at 1 p.m.\nOptional virtual meeting participation using Zoom Webinar. Registration is required to attend virtually: \nRegister to attend or speak virtually\nOptional call-in information: 1-833-568-8864\, Webinar ID: 161 370 9653 \nRegister to speak in-person\nCommunity Planning & Permitting Department – Docket SE-24-0002: Kostecki-Keil Lot Recognition \nSubdivision Exemption request to recognize the parcel at 468 Riverside Drive as a legal building lot\, eligible for building permits. The application is submitted by Nicholas Kostecki and Amanda Kiel (applicants/property owners). The subject property is in the Forestry (F) zoning district at 468 Riverside Drive\, approximately .5 miles west of the easternmost intersection of Riverside Drive and SH7\, in Section 34\, Township 3N\, Range 72W.\nPublic testimony will be taken.  \nAction Requested: Decision \nOpportunities for live virtual public comment will be available. Written comments can be emailed to planner@bouldercounty.gov\, please reference Docket SE-24-0002. \n\nBoulder County wants to ensure that everyone has equal access to our programs\, activities\, and services. To request an Americans with Disability Act (ADA) accommodation\, please email ADA@bouldercounty.gov\, or call 303-441-1386. Submit your request as early as possible\, and no later than two business days before the event. \nIf you need help in another language\, please email CPPfrontdesk@bouldercounty.gov or call 303-441-3930. Contact us as early as possible\, and no later than three business days before the event. \nPlease note that the County Commissioners’ agenda is subject to change. To receive updates to the agenda\, please subscribe to the Boulder County Commissioners Agenda list.
URL:https://bouldercounty.gov/event/bocc-public-hearing-docket-se-24-0002-kostecki-keil-lot-recognition/
CATEGORIES:Community Planning & Permitting,County Commissioners,Home Page
ORGANIZER;CN="Community Planning &amp%3B Permitting":MAILTO:planner@bouldercounty.gov
END:VEVENT
BEGIN:VEVENT
DTSTART;TZID=America/Denver:20250113T100000
DTEND;TZID=America/Denver:20250113T110000
DTSTAMP:20260419T223332
CREATED:20250902T170857Z
LAST-MODIFIED:20250902T170857Z
UID:10001195-1736762400-1736766000@bouldercounty.gov
SUMMARY:Historic Preservation Subcommittee Meeting (HPAB) Meeting
DESCRIPTION:Historic Preservation Subcommittee Public Meeting – Via Email\nHistoric Preservation Subcommittee Email Meeting\, Monday\, January 13\, 2025\, at 10 a.m.\nHistoric Preservation Grant Meeting Agenda: \n\nHPG-24-0005: Moore-Pruden Ranch – mortar repair\nRequest: Historic Preservation Grant request to repair mortar on the house\nLocation: 3652 Eldorado Springs Drive\nZoning: Agricultural (A) Zoning District\nApplicant/Owner: Gordon Johnson\n\nContact the Historic Preservation Team at historic@bouldercounty.gov for more information on these items. Please note that the HPAB agenda is subject to change. \nThe Boulder County Historic Preservation Advisory Board (HPAB) is an advisory board appointed by the Board of County Commissioners to provide guidance to the county on historic preservation issues. Its primary focus is to review structures and sites for historic significance and to review building or development plans which might affect these resources. HPAB also reviews landmark applications and must approve building plans which result in the alteration of an historic landmark. \nEach HPAB meeting is a public hearing\, and at the beginning of each meeting anyone may address the Board with historic preservation concerns or questions. \n\nBoulder County wants to ensure that everyone has equal access to our programs\, activities\, and services. To request an Americans with Disability Act (ADA) accommodation\, please email ADA@bouldercounty.gov\, or call 303-441-1386. Submit your request as early as possible\, and no later than two business days before the event. \nIf you need help in another language\, please email CPPfrontdesk@bouldercounty.gov or call 303-441-3930. Contact us as early as possible\, and no later than three business days before the event.
URL:https://bouldercounty.gov/event/historic-preservation-subcommittee-meeting-hpab-meeting/
LOCATION:Virtual via email
CATEGORIES:Community Planning & Permitting,County Commissioners,Home Page
ORGANIZER;CN="Community Planning &amp%3B Permitting":MAILTO:planner@bouldercounty.gov
END:VEVENT
BEGIN:VEVENT
DTSTART;TZID=America/Denver:20250114T090000
DTEND;TZID=America/Denver:20250114T103000
DTSTAMP:20260419T223332
CREATED:20250902T161501Z
LAST-MODIFIED:20250902T161501Z
UID:10000266-1736845200-1736850600@bouldercounty.gov
SUMMARY:Boulder County 2025 Reorganization Meeting
DESCRIPTION:Public Meeting – 2025 Reorganization Meeting\nHosted by the Boulder County Commissioners\n\nWhat: Annual reorganization meeting\, appointments\, State of the County Address\, and other county business.\nWhen: Tuesday\, January 14\, 2025\nLocation (Hybrid): Commissioners’ Hearing Room (3rd Floor\, 1325 Pearl St\, Boulder) and Zoom Webinar\n\nThe meeting agenda is available through the county’s Open Meeting Portal. \nThe following elected officials will be sworn into office: \n\nBoulder County Commissioners: Claire Levy and Marta Loachamin\nCoroner: Jeff Martin\n\nThe event can be attended in person\, online via Zoom\, or by phone. \nLinks available through www.boco.org/advance-agenda \nThe event is open to the public\, but there is no opportunity for public comment. Registration is not required to attend in person. \nContact information: commissioners@bouldercounty.gov
URL:https://bouldercounty.gov/event/boulder-county-2025-reorganization-meeting/
LOCATION:Commissioners’ Hearing Room\, Downtown County Courthouse\, 1325 Pearl Street\, 3rd Floor\, Boulder\, CO\, 80302\, United States
CATEGORIES:County Commissioners
ORGANIZER;CN="Board of County Commissioners":MAILTO:commissioners@bouldercounty.gov
GEO:40.018877;-105.278254
X-APPLE-STRUCTURED-LOCATION;VALUE=URI;X-ADDRESS=Commissioners’ Hearing Room Downtown County Courthouse 1325 Pearl Street 3rd Floor Boulder CO 80302 United States;X-APPLE-RADIUS=500;X-TITLE=Downtown County Courthouse\, 1325 Pearl Street\, 3rd Floor:geo:-105.278254,40.018877
END:VEVENT
BEGIN:VEVENT
DTSTART;TZID=America/Denver:20250114T130000
DTEND;TZID=America/Denver:20250114T140000
DTSTAMP:20260419T223332
CREATED:20250902T170723Z
LAST-MODIFIED:20250902T170723Z
UID:10001123-1736859600-1736863200@bouldercounty.gov
SUMMARY:BOCC Public Hearing - Docket LU-24-0015: Lopez Ag Worker Accessory Dwelling Unit
DESCRIPTION:Board of County Commissioners public hearings and meetings are convened in a hybrid format where attendees can join through Zoom or attend in-person at the Boulder County Courthouse\, 3rd Floor\, 1325 Pearl St.\, Boulder. For questions regarding in-person hearings or technical assistance\, please email hearings@bouldercounty.gov or call 303-441-3500. \nBoard of County Commissioners (BOCC) Public Hearing – Docket LU-24-0015: Lopez Ag Worker Accessory Dwelling Unit\, Tuesday\, Jan. 14\, 2025\, at 1 p.m.\nOptional virtual meeting participation using Zoom Webinar. Registration is required to attend virtually: \nRegister to attend or speak virtually\nOptional call-in information: 1-833-568-8864\, Webinar ID: 160 792 1037 \nRegister to speak in-person\nCommunity Planning & Permitting Department – Docket LU-24-0015: Lopez Ag Worker Accessory Dwelling Unit \nLimited Impact Special Use Review for an Agricultural Worker Accessory Dwelling Unit on an approximately 83-acre parcel. The application is submitted by Kristin Lopez (owner/applicant). The subject property is in the Agricultural (A) zoning district at 10790 N. 49th Street\, an approximately 83-acre parcel located approximately 0.3-mile south of the intersection of N. 49th Street and Saint Vrain Road\, in Section 4\, Township 2N\, Range 70W.\nPublic testimony will be taken. \nOpportunities for live virtual public comment will be available. Written comments can be emailed to planner@bouldercounty.gov\, please reference Docket LU-24-0015. \n\nBoulder County wants to ensure that everyone has equal access to our programs\, activities\, and services. To request an Americans with Disability Act (ADA) accommodation\, please email ADA@bouldercounty.gov\, or call 303-441-1386. Submit your request as early as possible\, and no later than two business days before the event. \nIf you need help in another language\, please email CPPfrontdesk@bouldercounty.gov or call 303-441-3930. Contact us as early as possible\, and no later than three business days before the event. \nPlease note that the County Commissioners’ agenda is subject to change. To receive updates to the agenda\, please subscribe to the Boulder County Commissioners Agenda list.
URL:https://bouldercounty.gov/event/bocc-public-hearing-docket-lu-24-0015-lopez-ag-worker-accessory-dwelling-unit/
CATEGORIES:Community Planning & Permitting,County Commissioners,Home Page
ORGANIZER;CN="Community Planning &amp%3B Permitting":MAILTO:planner@bouldercounty.gov
END:VEVENT
BEGIN:VEVENT
DTSTART;TZID=America/Denver:20250121T173000
DTEND;TZID=America/Denver:20250121T190000
DTSTAMP:20260419T223332
CREATED:20250902T170903Z
LAST-MODIFIED:20250902T170903Z
UID:10001199-1737480600-1737486000@bouldercounty.gov
SUMMARY:Virtual BOCC Town Hall: Homeless Solutions in Boulder County
DESCRIPTION:Virtual Town Hall with the Board of County Commissioners\nTopic: Homeless Solutions in Boulder County\nWhen: Tuesday\, January 21 starting at 5:30 p.m. \nPurpose: Residents are invited to join the Boulder County Commissioners for a virtual Town Hall to discuss homeless solutions in the county. Division of Homeless Systems and Coordinated Response Director Heidi Grove will present followed by a Q&A session with the board about this and other topics. \n\nSign-up to give public comment by emailing commissioners@bouldercounty.org and including “January 21 Town Hall” in the subject line.\nVirtual Attendee Link: https://boco.org/BOCCTownHall\nCall-in information (i.e.\, for those without Zoom video): 1-833-568-8864\, Webinar ID: 160 022 6415\nSpanish interpretation will be available.\nStaff Contact: Jennifer Churchill
URL:https://bouldercounty.gov/event/virtual-bocc-town-hall-homeless-solutions-in-boulder-county/
LOCATION:Virtual via Zoom
CATEGORIES:County Commissioners,Home Page
ORGANIZER;CN="Board of County Commissioners":MAILTO:commissioners@bouldercounty.gov
END:VEVENT
BEGIN:VEVENT
DTSTART;TZID=America/Denver:20250127T150000
DTEND;TZID=America/Denver:20250127T160000
DTSTAMP:20260419T223332
CREATED:20250902T170348Z
LAST-MODIFIED:20250902T170348Z
UID:10001006-1737990000-1737993600@bouldercounty.gov
SUMMARY:Historic Preservation Advisory Board (HPAB) Subcommittee Meeting
DESCRIPTION:Historic Preservation Advisory Board meetings are conducted virtually\nHistoric Preservation Advisory Board Subcommittee Meeting\, Monday\, January 27\, 2025\, at 3 p.m.\nAttend or Participate Virtually:\nVirtual Meeting using Zoom \nAttend or participate starting at 3 p.m.\nOptional call-in information: 1-833-568-8864 | Meeting ID: 160 394 6244 \nBuilding Permit Review for Structure 50 Years of Age and Older: \n\nBP-24-3197: 2075 S Foothills Hwy\nRequest: Deconstruction of building\nLocation: 2075 S Foothills Hwy\nZoning: Agricultural (A) Zoning District\nOwner: City of Boulder\nAgent: Jerry Katopodes\nCertificate of Appropriateness:\nCA-25-0001: Clark House – two new detached structures\nRequest: Certificate of Appropriateness for the construction of a 1\,176-sqft detached accessory structure and a 91-sqft detached shed\nLocation: 811 County Road 83\nZoning: Forestry (F) Zoning District\nOwners: Gwen and Lawrence Van Lingen\nAgent: John Hoffmann\n\nContact the Historic Preservation Team at historic@bouldercounty.gov for more information on these items. Please note that the HPAB agenda is subject to change. \nThe Boulder County Historic Preservation Advisory Board (HPAB) is an advisory board appointed by the Board of County Commissioners to provide guidance to the county on historic preservation issues. Its primary focus is to review structures and sites for historic significance and to review building or development plans which might affect these resources. HPAB also reviews landmark applications and must approve building plans which result in the alteration of an historic landmark. \nEach HPAB meeting is a public hearing\, and at the beginning of each meeting anyone may address the Board with historic preservation concerns or questions. \n\nBoulder County wants to ensure that everyone has equal access to our programs\, activities\, and services. To request an Americans with Disability Act (ADA) accommodation\, please email ADA@bouldercounty.gov\, or call 303-441-1386. Submit your request as early as possible\, and no later than two business days before the event. \nIf you need help in another language\, please email CPPfrontdesk@bouldercounty.gov or call 303-441-3930. Contact us as early as possible\, and no later than three business days before the event.
URL:https://bouldercounty.gov/event/historic-preservation-advisory-board-hpab-subcommittee-meeting/
LOCATION:Virtual via Zoom
CATEGORIES:Community Planning & Permitting,County Commissioners,Home Page
ORGANIZER;CN="Community Planning &amp%3B Permitting":MAILTO:planner@bouldercounty.gov
END:VEVENT
END:VCALENDAR