BEGIN:VCALENDAR
VERSION:2.0
PRODID:-//Boulder County - ECPv6.15.17.1//NONSGML v1.0//EN
CALSCALE:GREGORIAN
METHOD:PUBLISH
X-ORIGINAL-URL:https://bouldercounty.gov
X-WR-CALDESC:Events for Boulder County
REFRESH-INTERVAL;VALUE=DURATION:PT1H
X-Robots-Tag:noindex
X-PUBLISHED-TTL:PT1H
BEGIN:VTIMEZONE
TZID:America/Denver
BEGIN:DAYLIGHT
TZOFFSETFROM:-0700
TZOFFSETTO:-0600
TZNAME:MDT
DTSTART:20230312T090000
END:DAYLIGHT
BEGIN:STANDARD
TZOFFSETFROM:-0600
TZOFFSETTO:-0700
TZNAME:MST
DTSTART:20231105T080000
END:STANDARD
BEGIN:DAYLIGHT
TZOFFSETFROM:-0700
TZOFFSETTO:-0600
TZNAME:MDT
DTSTART:20240310T090000
END:DAYLIGHT
BEGIN:STANDARD
TZOFFSETFROM:-0600
TZOFFSETTO:-0700
TZNAME:MST
DTSTART:20241103T080000
END:STANDARD
BEGIN:DAYLIGHT
TZOFFSETFROM:-0700
TZOFFSETTO:-0600
TZNAME:MDT
DTSTART:20250309T090000
END:DAYLIGHT
BEGIN:STANDARD
TZOFFSETFROM:-0600
TZOFFSETTO:-0700
TZNAME:MST
DTSTART:20251102T080000
END:STANDARD
END:VTIMEZONE
BEGIN:VEVENT
DTSTART;TZID=America/Denver:20241205T090000
DTEND;TZID=America/Denver:20241205T100000
DTSTAMP:20260420T000001
CREATED:20250902T170559Z
LAST-MODIFIED:20250902T170559Z
UID:10001075-1733389200-1733392800@bouldercounty.gov
SUMMARY:BOCC Public Hearing - Docket HP-24-0002: Jayhawk Cabin
DESCRIPTION:Board of County Commissioners public hearings and meetings are convened in a hybrid format where attendees can join through Zoom or attend in-person at the Boulder County Courthouse\, 3rd Floor\, 1325 Pearl St.\, Boulder. For questions regarding in-person hearings or technical assistance\, please email hearings@bouldercounty.gov or call 303-441-3500. \nBoard of County Commissioners (BOCC) Public Hearing – Docket HP-24-0002: Jayhawk Cabin\, Thursday\, Dec. 5\, 2024\, at 9 a.m.\nOptional virtual meeting participation using Zoom Webinar. Registration is required to attend virtually: \nRegister to attend or speak virtually\nOptional call-in information: 1-833-568-8864\, Webinar ID: 161 837 2035 \nRegister to speak in-person\nCommunity Planning & Permitting Department – Docket HP-24-0002: Jayhawk Cabin \nBoulder County Historic Landmark Designation. The application is submitted by Julie Behrens (applicant/owner) and the subject property is in the Forestry (F) zoning district at 25 Washington Street\, in Section 26\, Township 3N\, Range 73W of the 6th Principal Meridian.\nPublic testimony will be taken \nOpportunities for live virtual public comment will be available. Written comments can be emailed to planner@bouldercounty.gov\, please reference HP-24-0002. \n\nBoulder County wants to ensure that everyone has equal access to our programs\, activities\, and services. To request an Americans with Disability Act (ADA) accommodation\, please email ADA@bouldercounty.gov\, or call 303-441-1386. Submit your request as early as possible\, and no later than two business days before the event. \nIf you need help in another language\, please email CPPfrontdesk@bouldercounty.gov or call 303-441-3930. Contact us as early as possible\, and no later than three business days before the event. \nPlease note that the County Commissioners’ agenda is subject to change. To receive updates to the agenda\, please subscribe to the Boulder County Commissioners Agenda list.
URL:https://bouldercounty.gov/event/bocc-public-hearing-docket-hp-24-0002-jayhawk-cabin/
CATEGORIES:Community Planning & Permitting,County Commissioners,Home Page
ORGANIZER;CN="Community Planning &amp%3B Permitting":MAILTO:planner@bouldercounty.gov
END:VEVENT
BEGIN:VEVENT
DTSTART;TZID=America/Denver:20241210T130000
DTEND;TZID=America/Denver:20241210T140000
DTSTAMP:20260420T000001
CREATED:20250902T170641Z
LAST-MODIFIED:20250902T170641Z
UID:10001098-1733835600-1733839200@bouldercounty.gov
SUMMARY:BOCC Public Hearing - Docket LU-24-0012/SPRW-24-0073: Leonard Demonstration Farm and Agricultural Structure
DESCRIPTION:Board of County Commissioners public hearings and meetings are convened in a hybrid format where attendees can join through Zoom or attend in-person at the Boulder County Courthouse\, 3rd Floor\, 1325 Pearl St.\, Boulder. For questions regarding in-person hearings or technical assistance\, please email hearings@bouldercounty.gov or call 303-441-3500. \nBoard of County Commissioners (BOCC) Public Hearing – Docket LU-24-0012/SPRW-24-0073: Leonard Demonstration Farm and Agricultural Structure\, Tuesday\, Dec. 10\, 2024\, at 1 p.m.\nOptional virtual meeting participation using Zoom Webinar. Registration is required to attend virtually: \nRegister to attend or speak virtually\nOptional call-in information: 1-833-568-8864\, Webinar ID: 161 957 3712 \nRegister to speak in-person\nCommunity Planning & Permitting Department – Docket LU-24-0012/SPRW-24-0073: Leonard Demonstration Farm and Agricultural Structure \nLimited Impact Special Use Review for the establishment of a Demonstration Farm and the construction of a 1\,913-square-foot agricultural accessory structure on a 5-acre parcel. The application submitted by Tonja and Jeremy Leonard (applicants/property owners) and is in the Applicant (A) zoning district at 14217 N 107th Street\, approximately 0.3 mile west of the intersection of US 287 and County Road 4\, in Section 10\, Township 3N\, Range 69W. \nOpportunities for live virtual public comment will be available. Written comments can be emailed to planner@bouldercounty.gov\, please reference Docket LU-24-0012/SPRW-24-0073. \n\nBoulder County wants to ensure that everyone has equal access to our programs\, activities\, and services. To request an Americans with Disability Act (ADA) accommodation\, please email ADA@bouldercounty.gov\, or call 303-441-1386. Submit your request as early as possible\, and no later than two business days before the event. \nIf you need help in another language\, please email CPPfrontdesk@bouldercounty.gov or call 303-441-3930. Contact us as early as possible\, and no later than three business days before the event. \nPlease note that the County Commissioners’ agenda is subject to change. To receive updates to the agenda\, please subscribe to the Boulder County Commissioners Agenda list.
URL:https://bouldercounty.gov/event/bocc-public-hearing-docket-lu-24-0012-sprw-24-0073-leonard-demonstration-farm-and-agricultural-structure/
CATEGORIES:Community Planning & Permitting,County Commissioners,Home Page
ORGANIZER;CN="Community Planning &amp%3B Permitting":MAILTO:planner@bouldercounty.gov
END:VEVENT
BEGIN:VEVENT
DTSTART;TZID=America/Denver:20241211T093000
DTEND;TZID=America/Denver:20241211T100000
DTSTAMP:20260420T000001
CREATED:20250902T161349Z
LAST-MODIFIED:20250902T161349Z
UID:10000240-1733909400-1733911200@bouldercounty.gov
SUMMARY:Public Meeting: Boulder County 2025 Budget Adoption
DESCRIPTION:Boulder County Commissioners formally adopt the 2025 budget\nHosted by: Office of Financial Management & Board of County Commissioners\n(Staff Contact: Ramona Farineau\, Emily Beam) (Hybrid: In-Person and Zoom Webinar) \nDate: Wednesday\, December 11\, 2024\nTime: 9:30 a.m. \nBOCC Action Requested: Adoption \n\nPublic testimony will not be taken at this meeting.\nVirtual Attendee Link: boco.org/BOCC-Dec11AM\nCall-in information: 1-833-568-8864\, Webinar ID: 160 990 7171\nThe 2025 Budget proposal can be viewed at boco.org/Budget.
URL:https://bouldercounty.gov/event/public-meeting-boulder-county-2025-budget-adoption/
CATEGORIES:County Commissioners,Home Page,Office of Financial Management
ORGANIZER;CN="Board of County Commissioners":MAILTO:commissioners@bouldercounty.gov
END:VEVENT
BEGIN:VEVENT
DTSTART;TZID=America/Denver:20241217T130000
DTEND;TZID=America/Denver:20241217T140000
DTSTAMP:20260420T000001
CREATED:20250902T170627Z
LAST-MODIFIED:20250902T170627Z
UID:10001089-1734440400-1734444000@bouldercounty.gov
SUMMARY:BOCC Public Hearing - Docket LU-24-0008/SPR-24-0035: Hein Residence and ADU
DESCRIPTION:Board of County Commissioners public hearings and meetings are convened in a hybrid format where attendees can join through Zoom or attend in-person at the Boulder County Courthouse\, 3rd Floor\, 1325 Pearl St.\, Boulder. For questions regarding in-person hearings or technical assistance\, please email hearings@bouldercounty.gov or call 303-441-3500. \nBoard of County Commissioners (BOCC) Public Hearing – Docket LU-24-0008/SPR-24-0035: Hein Residence and ADU\, Tuesday\, Dec. 17\, 2024\, at 1 p.m.\nOptional virtual meeting participation using Zoom Webinar. Registration is required to attend virtually: \nRegister to attend or speak virtually\nOptional call-in information: 1-833-568-8864\, Webinar ID: 161 931 2308 \nRegister to speak in-person\nCommunity Planning & Permitting Department Docket LU-24-0008/SPR-24-0035: Hein Residence and ADU \nLimited Impact Special Review to convert an existing residence to a Family Care Accessory Dwelling Unit and Site Plan Review for construction of a new 2\,272-square-foot residence and a 1\,425- square-foot agricultural structure. The application is submitted by Holly Hein and Christian Doucette (applicants/owners) and Johnny Brokken (agent). The subject property is in the Agricultural (A) zoning district at 3625 Nimbus Road\, located approximately 1\,800 feet west of the intersection of Nimbus Road and N 39th Street\, in Section 30\, Township 2N\, Range 70W.\nPublic testimony will be taken. \nDetailed information regarding this item is available on-line at www.boco.org/LU-24-0008-SPR-24-0035 or you may contact the Community Planning & Permitting Department (planner@bouldercounty.gov /303-441-3930) to request application materials or view them at our office (2045 13th Street\, Boulder) during our open public hours. \n\nBoulder County wants to ensure that everyone has equal access to our programs\, activities\, and services. To request an Americans with Disability Act (ADA) accommodation\, please email ADA@bouldercounty.gov\, or call 303-441-1386. Submit your request as early as possible\, and no later than two business days before the event. \nIf you need help in another language\, please email CPPfrontdesk@bouldercounty.gov or call 303-441-3930. Contact us as early as possible\, and no later than three business days before the event. \nPlease note that the County Commissioners’ agenda is subject to change. To receive updates to the agenda\, please subscribe to the Boulder County Commissioners Agenda list.
URL:https://bouldercounty.gov/event/bocc-public-hearing-docket-lu-24-0008-spr-24-0035-hein-residence-and-adu/
CATEGORIES:Community Planning & Permitting,County Commissioners,Home Page
ORGANIZER;CN="Community Planning &amp%3B Permitting":MAILTO:planner@bouldercounty.gov
END:VEVENT
END:VCALENDAR