BEGIN:VCALENDAR
VERSION:2.0
PRODID:-//Boulder County - ECPv6.15.17.1//NONSGML v1.0//EN
CALSCALE:GREGORIAN
METHOD:PUBLISH
X-WR-CALNAME:Boulder County
X-ORIGINAL-URL:https://bouldercounty.gov
X-WR-CALDESC:Events for Boulder County
REFRESH-INTERVAL;VALUE=DURATION:PT1H
X-Robots-Tag:noindex
X-PUBLISHED-TTL:PT1H
BEGIN:VTIMEZONE
TZID:America/Denver
BEGIN:DAYLIGHT
TZOFFSETFROM:-0700
TZOFFSETTO:-0600
TZNAME:MDT
DTSTART:20230312T090000
END:DAYLIGHT
BEGIN:STANDARD
TZOFFSETFROM:-0600
TZOFFSETTO:-0700
TZNAME:MST
DTSTART:20231105T080000
END:STANDARD
BEGIN:DAYLIGHT
TZOFFSETFROM:-0700
TZOFFSETTO:-0600
TZNAME:MDT
DTSTART:20240310T090000
END:DAYLIGHT
BEGIN:STANDARD
TZOFFSETFROM:-0600
TZOFFSETTO:-0700
TZNAME:MST
DTSTART:20241103T080000
END:STANDARD
BEGIN:DAYLIGHT
TZOFFSETFROM:-0700
TZOFFSETTO:-0600
TZNAME:MDT
DTSTART:20250309T090000
END:DAYLIGHT
BEGIN:STANDARD
TZOFFSETFROM:-0600
TZOFFSETTO:-0700
TZNAME:MST
DTSTART:20251102T080000
END:STANDARD
END:VTIMEZONE
BEGIN:VEVENT
DTSTART;TZID=America/Denver:20240516T090000
DTEND;TZID=America/Denver:20240516T100000
DTSTAMP:20260420T104402
CREATED:20250902T163557Z
LAST-MODIFIED:20250902T163557Z
UID:10000629-1715850000-1715853600@bouldercounty.gov
SUMMARY:Tabled Indefinitely: BOCC Public Hearing - Docket SE-24-0002 Kostecki-Keil Lot Recognition
DESCRIPTION:Board of County Commissioners (BOCC) Public Hearing – Docket SE-24-0002: Kostecki-Keil Lot Recognition\, scheduled for May 16\, 2024\, has been tabled indefinitely. \nView the staff memo of April 30\, 2024. \nCommunity Planning & Permitting Department Docket SE-24-0002: Kostecki-Keil Lot Recognition \nRequest to recognize the parcel at 468 Riverside Drive as a legal building lot\, eligible for building permits. The application is submitted by Nicholas Kostecki and Amanda Kiel (applicants/property owners). The subject property is in the Forestry (F) zoning district at 468 Riverside Drive\, approximately .5 miles west of the easternmost intersection of Riverside Drive and SH7\, in Section 34\, Township 3N\, Range 72W.\nPublic testimony will be taken.\nPlanner: Sam Walker\nBoard of County Commissioners Action Requested: Decision\n\n\n\n\nIt is Boulder County policy to make county programs\, meetings\, activities\, and services accessible to individuals with disabilities\, according to the Americans with Disabilities Act. If you need special assistance\, contact the ADA Coordinator at 303-441-3525 at least 72 hours before the scheduled event. \nPlease note that the County Commissioners’ agenda is subject to change. To receive updates to the agenda\, please subscribe to the Boulder County Commissioners Agenda list.
URL:https://bouldercounty.gov/event/tabled-indefinitely-bocc-public-hearing-docket-se-24-0002-kostecki-keil-lot-recognition/
LOCATION:CO
CATEGORIES:Community Planning & Permitting,County Commissioners,Home Page
ORGANIZER;CN="Community Planning &amp%3B Permitting":MAILTO:planner@bouldercounty.gov
END:VEVENT
BEGIN:VEVENT
DTSTART;TZID=America/Denver:20240516T090000
DTEND;TZID=America/Denver:20240516T103000
DTSTAMP:20260420T104402
CREATED:20250902T163916Z
LAST-MODIFIED:20250902T163916Z
UID:10000644-1715850000-1715855400@bouldercounty.gov
SUMMARY:BOCC Public Hearing - Docket SE-24-0003: Longmont Creek Channel Acquisition
DESCRIPTION:Board of County Commissioners public hearings and meetings are convened in a hybrid format where attendees can join through Zoom or attend in-person at the Boulder County Courthouse\, 3rd Floor\, 1325 Pearl St.\, Boulder. For questions regarding in-person hearings\, please email Brianna Barber at bbarber@bouldercounty.gov or call 303-441-3500. \nBoard of County Commissioners (BOCC) Public Hearing – Docket SE-24-0003: Longmont Creek Channel Acquisition\, Thursday\, May 16\, 2024\, at 9 a.m.\nOptional virtual meeting participation using Zoom Webinar. Registration is required to attend virtually: \nRegister to attend or speak virtually\nOptional call-in information: 1-833-568-8864\, Webinar ID: 161 325 8574 \nRegister to speak in-person\nCommunity Planning & Permitting Department Docket SE-24-0003: Longmont Creek Channel Acquisition \nSubdivision Exemption request to separate approximately 1.7 acres of land from the subject property for purchase by the City of Longmont for flood mitigation work in order to support the Resilient St. Vrain Project. The application is submitted by Scott Natter\, c/o 26 S. Sunset Street LLC (applicant/property owner) and Josh Sherman c/o City of Longmont (agent). The subject property is in the General Industrial (GI) zoning district at 26 S. Sunset Street\, approximately .1 miles north of the intersection of S. Sunset Street and Boston Avenue in Section 4\, Township 2N\, Range 69W.\nPlanner: Sam Walker\nBoard of County Commissioners Action Requested: Decision \nOpportunities for live virtual public comment will be available. Written comments can be emailed to planner@bouldercounty.gov\, please reference SE-24-0003. \nFor technical assistance in joining the hearing\, please email hearings@bouldercounty.gov. \n\nIt is Boulder County policy to make county programs\, meetings\, activities\, and services accessible to individuals with disabilities\, according to the Americans with Disabilities Act. If you need special assistance\, contact the ADA Coordinator at 303-441-3525 at least 72 hours before the scheduled event. \nPlease note that the County Commissioners’ agenda is subject to change. To receive updates to the agenda\, please subscribe to the Boulder County Commissioners Agenda list.
URL:https://bouldercounty.gov/event/bocc-public-hearing-docket-se-24-0003-longmont-creek-channel-acquisition/
LOCATION:CO
CATEGORIES:Community Planning & Permitting,County Commissioners,Home Page
ORGANIZER;CN="Community Planning &amp%3B Permitting":MAILTO:planner@bouldercounty.gov
END:VEVENT
BEGIN:VEVENT
DTSTART;TZID=America/Denver:20240523T090000
DTEND;TZID=America/Denver:20240523T100000
DTSTAMP:20260420T104402
CREATED:20250902T164036Z
LAST-MODIFIED:20250902T164036Z
UID:10000674-1716454800-1716458400@bouldercounty.gov
SUMMARY:Public Meeting on Final Draft Integrated Weed Management Plan Decision
DESCRIPTION:The Board of County Commissioners will hold a public meeting to deliberate the proposed Integrated Weed Management Plan previously presented at a public hearing on April 16\, 2024.\nNo additional public comment will be taken during this meeting\, but written comments will continue to be accepted until the planning process is complete. More information is available at: boco.org/Weeds \nLocation – Hybrid: Hearing Room (Map & Directions) and Zoom Webinar  \nThe Boulder County Integrated Weed Management Plan provides a framework for weed management on private and public lands in Boulder County in compliance with state law. It also provides guidance for weed management on Boulder County Parks & Open Space natural lands. \nAction requested: Decision \n\nPublic Meeting and Hearing Information Portal\nSubmit Written Comments\nRegister to Attend Virtually\nCall-in information: 1-833-568-8864\, Webinar ID: 160 376 7431\n\nIt is Boulder County policy to make county programs\, meetings\, activities\, and services accessible to individuals with disabilities\, according to the Americans with Disabilities Act. If you need special assistance\, contact the ADA Coordinator at 303-441-1386 or ADA@bouldercounty.gov at least 48 hours before the scheduled event.
URL:https://bouldercounty.gov/event/public-meeting-on-final-draft-integrated-weed-management-plan-decision/
LOCATION:Commissioners’ Hearing Room\, Downtown County Courthouse\, 1325 Pearl Street\, 3rd Floor\, Boulder\, CO\, 80302\, United States
CATEGORIES:County Commissioners,Parks & Open Space
ORGANIZER;CN="Board of County Commissioners":MAILTO:commissioners@bouldercounty.gov
GEO:40.018877;-105.278254
X-APPLE-STRUCTURED-LOCATION;VALUE=URI;X-ADDRESS=Commissioners’ Hearing Room Downtown County Courthouse 1325 Pearl Street 3rd Floor Boulder CO 80302 United States;X-APPLE-RADIUS=500;X-TITLE=Downtown County Courthouse\, 1325 Pearl Street\, 3rd Floor:geo:-105.278254,40.018877
END:VEVENT
END:VCALENDAR