BEGIN:VCALENDAR
VERSION:2.0
PRODID:-//Boulder County - ECPv6.15.17.1//NONSGML v1.0//EN
CALSCALE:GREGORIAN
METHOD:PUBLISH
X-ORIGINAL-URL:https://bouldercounty.gov
X-WR-CALDESC:Events for Boulder County
REFRESH-INTERVAL;VALUE=DURATION:PT1H
X-Robots-Tag:noindex
X-PUBLISHED-TTL:PT1H
BEGIN:VTIMEZONE
TZID:America/Denver
BEGIN:DAYLIGHT
TZOFFSETFROM:-0700
TZOFFSETTO:-0600
TZNAME:MDT
DTSTART:20230312T090000
END:DAYLIGHT
BEGIN:STANDARD
TZOFFSETFROM:-0600
TZOFFSETTO:-0700
TZNAME:MST
DTSTART:20231105T080000
END:STANDARD
BEGIN:DAYLIGHT
TZOFFSETFROM:-0700
TZOFFSETTO:-0600
TZNAME:MDT
DTSTART:20240310T090000
END:DAYLIGHT
BEGIN:STANDARD
TZOFFSETFROM:-0600
TZOFFSETTO:-0700
TZNAME:MST
DTSTART:20241103T080000
END:STANDARD
BEGIN:DAYLIGHT
TZOFFSETFROM:-0700
TZOFFSETTO:-0600
TZNAME:MDT
DTSTART:20250309T090000
END:DAYLIGHT
BEGIN:STANDARD
TZOFFSETFROM:-0600
TZOFFSETTO:-0700
TZNAME:MST
DTSTART:20251102T080000
END:STANDARD
END:VTIMEZONE
BEGIN:VEVENT
DTSTART;TZID=America/Denver:20240206T093000
DTEND;TZID=America/Denver:20240206T103000
DTSTAMP:20260420T151224
CREATED:20250902T161557Z
LAST-MODIFIED:20250902T161557Z
UID:10000305-1707211800-1707215400@bouldercounty.gov
SUMMARY:BOCC Public Hearing - Docket SU-23-0002: Legacy Church Sanctuary Expansion and Parking Lot
DESCRIPTION:Board of County Commissioners public hearings and meetings are convened in a hybrid format where attendees can join through Zoom or attend in-person at the Boulder County Courthouse\, 3rd Floor\, 1325 Pearl St.\, Boulder. For questions regarding in-person hearings\, please email Brianna Barber at bbarber@bouldercounty.org or call 303-441-3500. \nBoard of County Commissioners (BOCC) Public Hearing: Docket SU-23-0002: Legacy Church Sanctuary Expansion and Parking Lot\, Tuesday\, February 6\, 2024 at 9:30 a.m.\nOptional virtual meeting participation using Zoom Webinar. Registration is required to attend virtually: \nRegister to attend or speak virtually\nOptional call-in information: 1-833-568-8864\, Webinar ID: 160 198 2411 \nRegister to speak in-person\nCommunity Planning & Permitting Department Docket SU-23-0002: Legacy Church Sanctuary Expansion and Parking Lot\n\nSpecial Use Review to recognize an existing church use with an occupant load greater than 100 persons per lot\, expansion of sanctuary space\, and for earthwork/grading in excess of 500 cubic yards for new parking lot. The application is submitted by Legacy Church c/o Grant Hansen (applicant/owner). The proposal is in the Estate Residential zoning district at 270 N. 76th Street (parcel no. 157701400024)\, located on the east side of N. 76th Street\, approximately 0.25 mile north of the intersection of South Boulder Road and N. 76th Street\, in Section 1\, Township 1S\, Range 70W.\nPublic testimony will be taken.\n\nPlanner: Pete L’Orange\nBoard of County Commissioners Action Requested: Decision \n\n\nOpportunities for live virtual public comment will be available. Written comments can be emailed to planner@bouldercounty.org\, please reference Docket SU-23-0002.\n\nFor technical assistance in joining the hearing\, please email hearings@bouldercounty.org. \n\nIt is Boulder County policy to make county programs\, meetings\, activities\, and services accessible to individuals with disabilities\, according to the Americans with Disabilities Act. If you need special assistance\, contact the ADA Coordinator at 303-441-3525 at least 72 hours before the scheduled event. \nPlease note that the County Commissioners’ agenda is subject to change. To receive updates to the agenda\, please subscribe to the Boulder County Commissioners Agenda list.
URL:https://bouldercounty.gov/event/bocc-public-hearing-docket-su-23-0002-legacy-church-sanctuary-expansion-and-parking-lot/
LOCATION:CO
CATEGORIES:Community Planning & Permitting,County Commissioners,Home Page
ORGANIZER;CN="Community Planning &amp%3B Permitting":MAILTO:planner@bouldercounty.gov
END:VEVENT
BEGIN:VEVENT
DTSTART;TZID=America/Denver:20240208T090000
DTEND;TZID=America/Denver:20240208T100000
DTSTAMP:20260420T151224
CREATED:20250902T161517Z
LAST-MODIFIED:20250902T161517Z
UID:10000278-1707382800-1707386400@bouldercounty.gov
SUMMARY:BOCC Public Hearing - Docket LU-23-0037: Haystack Holdings LLC Access Road
DESCRIPTION:Board of County Commissioners public hearings and meetings are convened in a hybrid format where attendees can join through Zoom or attend in-person at the Boulder County Courthouse\, 3rd Floor\, 1325 Pearl St.\, Boulder. For questions regarding in-person hearings\, please email Brianna Barber at bbarber@bouldercounty.org or call 303-441-3500. \nBoard of County Commissioners (BOCC) Public Hearing: Docket LU-23-0037: Haystack Holdings LLC Access Road\, Thursday\, February 8\, 2024 at 9 a.m.\nOptional virtual meeting participation using Zoom Webinar. Registration is required to attend virtually: \nRegister to attend or speak virtually\nOptional call-in information: 1-833-568-8864\, Webinar ID: 161 589 8745 \nRegister to speak in-person\nCommunity Planning & Permitting Department Docket LU-23-0037: Haystack Holdings LLC Access Road \nLimited Impact Special Use Review for 2\,126 cubic yards of nonfoundational earthwork and grading for the construction of an access road. The application is submitted by Haystack Holdings LLC\, c/o Michael Markel (applicant) and Rosi Dennett\, AICP Front Range Land Solutions (agent). The\nsubject property is in the Agricultural (A) zoning district at 5621 and 5695 Niwot Road\, located north of Niwot Road\, approximately 0.7 mile west of the intersection of Niwot Road and N. 63rd Street\, in Section 27\, Township 2N\, Range 70W.\nPlanner: Pete L’Orange\nBoard of County Commissioners Action Requested: Decision \n\n\nOpportunities for live virtual public comment will be available. Written comments can be emailed to planner@bouldercounty.org\, please reference Docket LU-23-0037.\n\nFor technical assistance in joining the hearing\, please email hearings@bouldercounty.org. \n\nIt is Boulder County policy to make county programs\, meetings\, activities\, and services accessible to individuals with disabilities\, according to the Americans with Disabilities Act. If you need special assistance\, contact the ADA Coordinator at 303-441-3525 at least 72 hours before the scheduled event. \nPlease note that the County Commissioners’ agenda is subject to change. To receive updates to the agenda\, please subscribe to the Boulder County Commissioners Agenda list.
URL:https://bouldercounty.gov/event/bocc-public-hearing-docket-lu-23-0037-haystack-holdings-llc-access-road/
LOCATION:CO
CATEGORIES:Community Planning & Permitting,County Commissioners,Home Page
ORGANIZER;CN="Community Planning &amp%3B Permitting":MAILTO:planner@bouldercounty.gov
END:VEVENT
BEGIN:VEVENT
DTSTART;TZID=America/Denver:20240208T133000
DTEND;TZID=America/Denver:20240208T143000
DTSTAMP:20260420T151224
CREATED:20250902T161453Z
LAST-MODIFIED:20250902T161453Z
UID:10000261-1707399000-1707402600@bouldercounty.gov
SUMMARY:BOCC Public Hearing - Docket SI-22-0001: Terry Lake Regional Sanitary Sewer
DESCRIPTION:Board of County Commissioners public hearings and meetings are convened in a hybrid format where attendees can join through Zoom or attend in-person at the Boulder County Courthouse\, 3rd Floor\, 1325 Pearl St.\, Boulder. For questions regarding in-person hearings\, please email Brianna Barber at bbarber@bouldercounty.org or call 303-441-3500. \nBoard of County Commissioners (BOCC) Public Hearing: Docket SI-22-0001: Terry Lake Regional Sanitary Sewer\, Thursday\, February 8\, 2024 at 1:30 p.m. (Tabled from January 18\, 2024)\nOptional virtual meeting participation using Zoom Webinar. Registration is required to attend virtually: \nRegister to attend or speak virtually\nOptional call-in information: 1-833-568-8864\, Webinar ID: 161 518 3923 \nRegister to speak in-person\nCommunity Planning & Permitting Department Docket SI-22-0001: Terry Lake Regional Sanitary Sewer \nAreas and Activities of State Interest (1041) review for the westward extension of an existing sanitary sewer located on Gay Street just north of Highway 66 to provide service for future development of parcels along Highway 66 from Gay Street to Hover Road\, known as the Terry Lake Neighborhood. The project is submitted by Babcock Land Corp.\, Jack Dickens Trust\, Puma 66 Investors\, Maple Leaf Investors LLC\, and Lifebridge Christian Church (applicants) and is in the Agricultural Zoning District at 2080 Hwy 66 (parcel no. 120521000021)\, 12734 Longford Drive (parcel no. 120521000019)\, 9911 Ute Road (parcel no.120521000023)\, 10161 Ute Hwy (parcel no. 120521000010)\, and 12822 N 95th Street (parcel no. 120521000008)\, located north of Highway 66 approximately 1/2 mile west of Highway 66 and US 287\, in Section 21\, Township 3N\, Range 69W.\nPlanner: Pete L’Orange\nBoard of County Commissioners Action Requested: Decision \n\n\nOpportunities for live virtual public comment will be available. Written comments can be emailed to planner@bouldercounty.org\, please reference Docket SI-22-0001.\n\nFor technical assistance in joining the hearing\, please email hearings@bouldercounty.org. \n\nIt is Boulder County policy to make county programs\, meetings\, activities\, and services accessible to individuals with disabilities\, according to the Americans with Disabilities Act. If you need special assistance\, contact the ADA Coordinator at 303-441-3525 at least 72 hours before the scheduled event. \nPlease note that the County Commissioners’ agenda is subject to change. To receive updates to the agenda\, please subscribe to the Boulder County Commissioners Agenda list.
URL:https://bouldercounty.gov/event/bocc-public-hearing-docket-si-22-0001-terry-lake-regional-sanitary-sewer/
LOCATION:CO
CATEGORIES:Community Planning & Permitting,County Commissioners,Home Page
ORGANIZER;CN="Community Planning &amp%3B Permitting":MAILTO:planner@bouldercounty.gov
END:VEVENT
BEGIN:VEVENT
DTSTART;TZID=America/Denver:20240213T130000
DTEND;TZID=America/Denver:20240213T140000
DTSTAMP:20260420T151224
CREATED:20250902T161655Z
LAST-MODIFIED:20250902T161655Z
UID:10000346-1707829200-1707832800@bouldercounty.gov
SUMMARY:BOCC Public Hearing - ZON-21-0101: Abatement of Rubbish
DESCRIPTION:Board of County Commissioners public hearings and meetings are convened in a hybrid format where attendees can join through Zoom or attend in-person at the Boulder County Courthouse\, 3rd Floor\, 1325 Pearl St.\, Boulder. For questions regarding in-person hearings\, please email Brianna Barber at bbarber@bouldercounty.org or call 303-441-3500. \nBoard of County Commissioners (BOCC) Public Hearing – ZON-21-0101: Abatement of Rubbish at 88 W. Skyline Drive – Tuesday\, Feb. 13\, 2024 at 1 p.m.\nOptional virtual meeting participation using Zoom Webinar. Registration is required to attend virtually: \nRegister to attend or speak virtually\nOptional call-in information: 1-833-568-8864\, Webinar ID: 160 804 9201 \nRegister to speak in-person\n  \n  \nCommunity Planning & Permitting Department: \n\nDocket ZON-21-0101: 88 West Skyline Drive\nAuthorization to arrange for abatement of rubbish as needed throughout Property\, including abandoned\, inoperative or unlicensed vehicles\, as defined under Article 14 of the Land Use Code (88 West Skyline Drive). The property owner is Robert David Perkins. The subject property is located at 88 West Skyline Drive in the Forestry zoning district\, in Section 36\, Township 1S\, Range 72W.\nWebpage: ZON-21-0101\n\n\nContact: Scott Weeks\, Lead Code Compliance Specialist II\, 720-564-2621\, sweeks@bouldercounty.gov \nFor technical assistance in joining the hearing\, please email hearings@bouldercounty.org. \nIt is Boulder County policy to make county programs\, meetings\, activities\, and services accessible to individuals with disabilities\, according to the Americans with Disabilities Act. If you need special assistance\, contact the ADA Coordinator at 303-441-3525 at least 48 hours before the scheduled event.
URL:https://bouldercounty.gov/event/bocc-public-hearing-zon-21-0101-abatement-of-rubbish/
LOCATION:CO
CATEGORIES:Community Planning & Permitting,County Commissioners,Home Page
ORGANIZER;CN="Community Planning &amp%3B Permitting":MAILTO:planner@bouldercounty.gov
END:VEVENT
BEGIN:VEVENT
DTSTART;TZID=America/Denver:20240213T130000
DTEND;TZID=America/Denver:20240213T140000
DTSTAMP:20260420T151224
CREATED:20250902T161803Z
LAST-MODIFIED:20250902T161807Z
UID:10000395-1707829200-1707832800@bouldercounty.gov
SUMMARY:BOCC Public Hearing - ZON-21-0105: Abatement of Rubbish
DESCRIPTION:Board of County Commissioners public hearings and meetings are convened in a hybrid format where attendees can join through Zoom or attend in-person at the Boulder County Courthouse\, 3rd Floor\, 1325 Pearl St.\, Boulder. For questions regarding in-person hearings\, please email Brianna Barber at bbarber@bouldercounty.org or call 303-441-3500. \nBoard of County Commissioners (BOCC) Public Hearing – Dockets ZON-21-0105: Abatement of Rubbish at 175 S. 7th Street – Tuesday\, Feb. 13\, 2024 at 1 p.m.\nOptional virtual meeting participation using Zoom Webinar. Registration is required to attend virtually: \nRegister to attend or speak virtually\nOptional call-in information: 1-833-568-8864\, Webinar ID: 160 804 9201 \nRegister to speak in-person\n  \nCommunity Planning & Permitting Department: \n\nDocket ZON-21-0105: 175 South 7th Street\nAuthorization to arrange for abatement of rubbish as needed throughout Property\, including abandoned\, inoperative or unlicensed vehicles\, as defined under Article 14 of the Land Use Code (175 S 7th Street). The property owner is Matthew Phillips. The subject property is located at 175 S 7th Street in the Forestry zoning district\, in Section 21\, Township 1S\, Range 73W.\nWebpage: ZON-21-0105\n\n\nContact: Scott Weeks\, Lead Code Compliance Specialist II\, 720-564-2621\, sweeks@bouldercounty.gov \nFor technical assistance in joining the hearing\, please email hearings@bouldercounty.org. \nIt is Boulder County policy to make county programs\, meetings\, activities\, and services accessible to individuals with disabilities\, according to the Americans with Disabilities Act. If you need special assistance\, contact the ADA Coordinator at 303-441-3525 at least 48 hours before the scheduled event.
URL:https://bouldercounty.gov/event/bocc-public-hearing-zon-21-0105-abatement-of-rubbish/
LOCATION:CO
CATEGORIES:Community Planning & Permitting,County Commissioners,Home Page
ORGANIZER;CN="Community Planning &amp%3B Permitting":MAILTO:planner@bouldercounty.gov
END:VEVENT
BEGIN:VEVENT
DTSTART;TZID=America/Denver:20240226T150000
DTEND;TZID=America/Denver:20240226T160000
DTSTAMP:20260420T151224
CREATED:20250902T162943Z
LAST-MODIFIED:20250902T162943Z
UID:10000450-1708959600-1708963200@bouldercounty.gov
SUMMARY:Historic Preservation Advisory Board (HPAB) Subcommittee Virtual Meeting
DESCRIPTION:Historic Preservation Advisory Board meetings are conducted virtually\nHistoric Preservation Advisory Board Subcommittee Meeting\, Monday\, Feb. 26\, 2024\, at 3 p.m.\nAttend or Participate Virtually:\nVirtual Meeting using Zoom \nAttend or participate starting at 3 p.m.\nOptional call-in information: 1-833-568-8864 | Meeting ID: 160 394 6244 \nDocument: HPAB Subcommittee Meeting Agenda\, Febuary 26\, 2024 \nContact the Historic Preservation Team at historic@bouldercounty.gov for more information on these items. Please note that the HPAB agenda is subject to change. \nIt is Boulder County policy to make county programs\, meetings\, activities\, and services accessible to individuals with disabilities\, according to the Americans with Disabilities Act. If you need special assistance\, contact the ADA Coordinator at 303-441-3525 as soon as possible prior to the scheduled event. \n\nThe Boulder County Historic Preservation Advisory Board (HPAB) is an advisory board appointed by the Board of County Commissioners to provide guidance to the county on historic preservation issues. Its primary focus is to review structures and sites for historic significance and to review building or development plans which might affect these resources. HPAB also reviews landmark applications and must approve building plans which result in the alteration of an historic landmark. \nEach HPAB meeting is a public hearing\, and at the beginning of each meeting anyone may address the Board with historic preservation concerns or questions.
URL:https://bouldercounty.gov/event/historic-preservation-advisory-board-hpab-subcommittee-virtual-meeting-2/
LOCATION:Virtual via Zoom
CATEGORIES:Community Planning & Permitting,County Commissioners,Home Page
ORGANIZER;CN="Community Planning &amp%3B Permitting":MAILTO:planner@bouldercounty.gov
END:VEVENT
END:VCALENDAR