BEGIN:VCALENDAR
VERSION:2.0
PRODID:-//Boulder County - ECPv6.15.17.1//NONSGML v1.0//EN
CALSCALE:GREGORIAN
METHOD:PUBLISH
X-WR-CALNAME:Boulder County
X-ORIGINAL-URL:https://bouldercounty.gov
X-WR-CALDESC:Events for Boulder County
REFRESH-INTERVAL;VALUE=DURATION:PT1H
X-Robots-Tag:noindex
X-PUBLISHED-TTL:PT1H
BEGIN:VTIMEZONE
TZID:America/Denver
BEGIN:DAYLIGHT
TZOFFSETFROM:-0700
TZOFFSETTO:-0600
TZNAME:MDT
DTSTART:20230312T090000
END:DAYLIGHT
BEGIN:STANDARD
TZOFFSETFROM:-0600
TZOFFSETTO:-0700
TZNAME:MST
DTSTART:20231105T080000
END:STANDARD
BEGIN:DAYLIGHT
TZOFFSETFROM:-0700
TZOFFSETTO:-0600
TZNAME:MDT
DTSTART:20240310T090000
END:DAYLIGHT
BEGIN:STANDARD
TZOFFSETFROM:-0600
TZOFFSETTO:-0700
TZNAME:MST
DTSTART:20241103T080000
END:STANDARD
BEGIN:DAYLIGHT
TZOFFSETFROM:-0700
TZOFFSETTO:-0600
TZNAME:MDT
DTSTART:20250309T090000
END:DAYLIGHT
BEGIN:STANDARD
TZOFFSETFROM:-0600
TZOFFSETTO:-0700
TZNAME:MST
DTSTART:20251102T080000
END:STANDARD
END:VTIMEZONE
BEGIN:VEVENT
DTSTART;TZID=America/Denver:20240529T090000
DTEND;TZID=America/Denver:20240529T103000
DTSTAMP:20260420T022309
CREATED:20250902T163503Z
LAST-MODIFIED:20250902T163503Z
UID:10000610-1716973200-1716978600@bouldercounty.gov
SUMMARY:Capable & Confident in the Job Search
DESCRIPTION:Capable & Confident in the Job Search Virtual\, 1.5 hour\nJob hunting in a pandemic adds a new level of challenge. If you’re discourage and frustrated\, this workshop is for you. Get re-energized for job search and build confidence for that next interview. To sign up for this workshop\, go to connectingcoloroado.com\, create an account and look under Workshops.  A link to the workshop will be sent to you a day or two before the workshop with instructions on how to join the virtual meeting.
URL:https://bouldercounty.gov/event/capable-confident-in-the-job-search-3/
LOCATION:Virtual via Zoom
CATEGORIES:WfBC Events and Workshops
END:VEVENT
BEGIN:VEVENT
DTSTART;TZID=America/Denver:20240529T130000
DTEND;TZID=America/Denver:20240529T143000
DTSTAMP:20260420T022309
CREATED:20250902T164120Z
LAST-MODIFIED:20250902T164120Z
UID:10000689-1716987600-1716993000@bouldercounty.gov
SUMMARY:Budgeting on a Small Income
DESCRIPTION:Budgeting on a Small Income 1.5 hours\, Virtual\nWhen money is tight and resources are limited\, creating a ‘plan for spending’ might be the last thing on your mind. Creating this plan when you’re in a low or no-income situation can actually be one of the best ways to begin to problem solve and gain control over your financial life. In this workshop\, we explore the use of creative thinking and resourcefulness to build a spending plan that moves you towards greater financial stability. Learn to use tools and techniques to make a budget that works for YOU through the use of community and personal resources that help bridge financial gaps. Identify the nuts and bolts of how to track your income and expenses. Leave this workshop with clear\, motivating action steps to help you gain power of your financial situation. \nClick to register for Financial Workshops
URL:https://bouldercounty.gov/event/budgeting-on-a-small-income-4/
LOCATION:Virtual via Teams
CATEGORIES:WfBC Events and Workshops
END:VEVENT
BEGIN:VEVENT
DTSTART;TZID=America/Denver:20240529T130000
DTEND;TZID=America/Denver:20240529T150000
DTSTAMP:20260420T022309
CREATED:20250902T163523Z
LAST-MODIFIED:20250902T163523Z
UID:10000616-1716987600-1716994800@bouldercounty.gov
SUMMARY:Credit Reporting\, Know the Facts!
DESCRIPTION:Credit Reporting\, Know the Facts!  1.5 hours\, Virtual\nCredit has a huge impact on our financial well-being yet many of us are confused on how credit works. This workshop unravels the mysteries of credit. Learn how credit impacts us as consumers and how to make choices that support building your credit. Discuss Vantage and FICO credit scoring models in easy-to-understand terms. Identify how to access and interpret your credit report from a trustworthy source. Discover how to dispute inaccurate information on your credit report. Learn how to monitor your credit to ensure your finances and identify stay safe. Leave this workshop with a deepened sense of knowledge and empowerment on credit. \nClick to register for Financial Workshops
URL:https://bouldercounty.gov/event/credit-reporting-know-the-facts-3/
LOCATION:Virtual via Teams
CATEGORIES:WfBC Events and Workshops
END:VEVENT
BEGIN:VEVENT
DTSTART;TZID=America/Denver:20240529T160000
DTEND;TZID=America/Denver:20240529T173000
DTSTAMP:20260420T022309
CREATED:20250902T163214Z
LAST-MODIFIED:20250902T163214Z
UID:10000536-1716998400-1717003800@bouldercounty.gov
SUMMARY:Comprendiendo su Informe de Crédito
DESCRIPTION:Comprendiendo su Informe de Crédito –  Virtual\, 1.5 hours\nEn esta clase Ud. aprenderá el concepto de la palabra crédito. Comprenderá los componentes de su historial crediticio y como establecer y mantener un buen crédito\, al igual que los beneficios de obtenerlo. Por favor llame al 720-926-7599. Email cfarias-sabalo@bouldercounty.org \nMarque aqui para Financial Workshops en Español
URL:https://bouldercounty.gov/event/comprendiendo-su-informe-de-credito-2/
LOCATION:Virtual via Teams
CATEGORIES:WfBC Events and Workshops
END:VEVENT
END:VCALENDAR