BEGIN:VCALENDAR
VERSION:2.0
PRODID:-//Boulder County - ECPv6.15.17.1//NONSGML v1.0//EN
CALSCALE:GREGORIAN
METHOD:PUBLISH
X-ORIGINAL-URL:https://bouldercounty.gov
X-WR-CALDESC:Events for Boulder County
REFRESH-INTERVAL;VALUE=DURATION:PT1H
X-Robots-Tag:noindex
X-PUBLISHED-TTL:PT1H
BEGIN:VTIMEZONE
TZID:America/Denver
BEGIN:DAYLIGHT
TZOFFSETFROM:-0700
TZOFFSETTO:-0600
TZNAME:MDT
DTSTART:20250309T090000
END:DAYLIGHT
BEGIN:STANDARD
TZOFFSETFROM:-0600
TZOFFSETTO:-0700
TZNAME:MST
DTSTART:20251102T080000
END:STANDARD
BEGIN:DAYLIGHT
TZOFFSETFROM:-0700
TZOFFSETTO:-0600
TZNAME:MDT
DTSTART:20260308T090000
END:DAYLIGHT
BEGIN:STANDARD
TZOFFSETFROM:-0600
TZOFFSETTO:-0700
TZNAME:MST
DTSTART:20261101T080000
END:STANDARD
BEGIN:DAYLIGHT
TZOFFSETFROM:-0700
TZOFFSETTO:-0600
TZNAME:MDT
DTSTART:20270314T090000
END:DAYLIGHT
BEGIN:STANDARD
TZOFFSETFROM:-0600
TZOFFSETTO:-0700
TZNAME:MST
DTSTART:20271107T080000
END:STANDARD
END:VTIMEZONE
BEGIN:VEVENT
DTSTART;TZID=America/Denver:20261103T080000
DTEND;TZID=America/Denver:20261103T170000
DTSTAMP:20260423T071849
CREATED:20260113T090436Z
LAST-MODIFIED:20260113T214459Z
UID:10003169-1793692800-1793725200@bouldercounty.gov
SUMMARY:Boulder County government offices closed to support the General Election
DESCRIPTION:Boulder County government offices/services will be closed on Tuesday\, Nov. 3\, – Election Day – as many county locations are used for Vote Centers and many county employees will be supporting election operations. Vote Centers are open on Election Day from 7 a.m. – 7 p.m. Visit the Boulder County Vote Centers page for locations. \n 
URL:https://bouldercounty.gov/event/boulder-county-government-offices-closed-to-support-the-general-election/
CATEGORIES:Home Page,Office Closures
END:VEVENT
BEGIN:VEVENT
DTSTART;TZID=America/Denver:20261111T080000
DTEND;TZID=America/Denver:20261111T170000
DTSTAMP:20260423T071849
CREATED:20260105T085747Z
LAST-MODIFIED:20260105T205823Z
UID:10003114-1794384000-1794416400@bouldercounty.gov
SUMMARY:Boulder County government offices closed in observance of Veterans Day
DESCRIPTION:
URL:https://bouldercounty.gov/event/boulder-county-government-offices-closed-in-observance-of-veterans-day-3/
CATEGORIES:Home Page,Office Closures
END:VEVENT
BEGIN:VEVENT
DTSTART;TZID=America/Denver:20261126T080000
DTEND;TZID=America/Denver:20261126T170000
DTSTAMP:20260423T071849
CREATED:20260105T085831Z
LAST-MODIFIED:20260105T205904Z
UID:10003115-1795680000-1795712400@bouldercounty.gov
SUMMARY:Boulder County government offices closed in observance of Thanksgiving
DESCRIPTION:
URL:https://bouldercounty.gov/event/boulder-county-government-offices-closed-in-observance-of-thanksgiving/
CATEGORIES:Home Page,Office Closures
END:VEVENT
BEGIN:VEVENT
DTSTART;TZID=America/Denver:20261127T080000
DTEND;TZID=America/Denver:20261127T170000
DTSTAMP:20260423T071849
CREATED:20260105T085912Z
LAST-MODIFIED:20260105T205949Z
UID:10003116-1795766400-1795798800@bouldercounty.gov
SUMMARY:Boulder County government offices closed in observance of Thanksgiving holiday
DESCRIPTION:
URL:https://bouldercounty.gov/event/boulder-county-government-offices-closed-in-observance-of-thanksgiving-holiday/
CATEGORIES:Home Page,Office Closures
END:VEVENT
END:VCALENDAR