BEGIN:VCALENDAR
VERSION:2.0
PRODID:-//Boulder County - ECPv6.15.17.1//NONSGML v1.0//EN
CALSCALE:GREGORIAN
METHOD:PUBLISH
X-ORIGINAL-URL:https://bouldercounty.gov
X-WR-CALDESC:Events for Boulder County
REFRESH-INTERVAL;VALUE=DURATION:PT1H
X-Robots-Tag:noindex
X-PUBLISHED-TTL:PT1H
BEGIN:VTIMEZONE
TZID:America/Denver
BEGIN:DAYLIGHT
TZOFFSETFROM:-0700
TZOFFSETTO:-0600
TZNAME:MDT
DTSTART:20250309T090000
END:DAYLIGHT
BEGIN:STANDARD
TZOFFSETFROM:-0600
TZOFFSETTO:-0700
TZNAME:MST
DTSTART:20251102T080000
END:STANDARD
BEGIN:DAYLIGHT
TZOFFSETFROM:-0700
TZOFFSETTO:-0600
TZNAME:MDT
DTSTART:20260308T090000
END:DAYLIGHT
BEGIN:STANDARD
TZOFFSETFROM:-0600
TZOFFSETTO:-0700
TZNAME:MST
DTSTART:20261101T080000
END:STANDARD
BEGIN:DAYLIGHT
TZOFFSETFROM:-0700
TZOFFSETTO:-0600
TZNAME:MDT
DTSTART:20270314T090000
END:DAYLIGHT
BEGIN:STANDARD
TZOFFSETFROM:-0600
TZOFFSETTO:-0700
TZNAME:MST
DTSTART:20271107T080000
END:STANDARD
END:VTIMEZONE
BEGIN:VEVENT
DTSTART;TZID=America/Denver:20260331T093000
DTEND;TZID=America/Denver:20260331T100000
DTSTAMP:20260420T094743
CREATED:20250902T161519Z
LAST-MODIFIED:20260310T175142Z
UID:10002109-1774949400-1774951200@bouldercounty.gov
SUMMARY:County Commissioners' Business Meeting (Hybrid)
DESCRIPTION:The County Commissioners conduct routine county business at regularly scheduled business meetings (generally each Tuesday at 9:30 a.m.). \nActions taken include administrative tasks such as signing agreements or contracts\, acting on personnel actions\, approving expenditures\, and making decisions on routine matters not requiring a public hearing. \nThe public is invited to attend and observe\, but no public comment is taken at Commissioners’ business meetings. \nView the Commissioners’ Business Meetings and Agendas:\nItems scheduled for discussion are listed on the Open Meeting Portal and discussed in the given order. No set time is assigned to an individual item. \n\nAccess the Open Meeting Portal and find the video link to the business meeting and agenda packet. Note: Once the meeting has started\, a link to view the meeting “live” will appear in the upper right area of the webpage.\nLook for “Board of County Commissioners – Regular Meeting” agenda for the specific date.\nBusiness meeting agendas are published the day before the meeting.\n\n\nAttend In-Person:\n\nLocation: Commissioners’ Hearing Room\, Downtown Courthouse\, 3rd Floor\, 1325 Pearl St.\, Boulder (map location)\n\nAttend Virtually via Zoom:\n\nFind the link to view the meeting virtually on the Commissioners’ Advance Agenda. \n\n\nStay in the loop\n\nSign up to receive agendas and a link to watch the Commissioners’ meetings and hearings.\nView the advance agenda or visit the Open Meeting Portal for additional information.
URL:https://bouldercounty.gov/event/bocc-business-meeting-hybrid/2026-03-31/
LOCATION:Commissioners’ Hearing Room\, Downtown County Courthouse\, 1325 Pearl Street\, 3rd Floor\, Boulder\, CO\, 80302\, United States
CATEGORIES:County Commissioners,Home Page
ORGANIZER;CN="Board of County Commissioners":MAILTO:commissioners@bouldercounty.gov
GEO:40.018877;-105.278254
X-APPLE-STRUCTURED-LOCATION;VALUE=URI;X-ADDRESS=Commissioners’ Hearing Room Downtown County Courthouse 1325 Pearl Street 3rd Floor Boulder CO 80302 United States;X-APPLE-RADIUS=500;X-TITLE=Downtown County Courthouse\, 1325 Pearl Street\, 3rd Floor:geo:-105.278254,40.018877
END:VEVENT
BEGIN:VEVENT
DTSTART;TZID=America/Denver:20260331T093000
DTEND;TZID=America/Denver:20260331T103000
DTSTAMP:20260420T094743
CREATED:20260123T090536Z
LAST-MODIFIED:20260123T213053Z
UID:10003186-1774949400-1774953000@bouldercounty.gov
SUMMARY:Tour the Boulder County Recycling Center with PACE!
DESCRIPTION:Partners for a Clean Environment (PACE)\, Boulder County’s business sustainability program\, is hosting a free tour of the county’s recycling center. Join fellow Boulder County business owners and employees for this popular tour. Attendees will learn about the newest equipment upgrades and new materials accepted for recycling and will leave with a better understanding of why and how the recycling process works here in Boulder County. \nThere will also be an opportunity to ask questions about items that you toss away on a daily basis and debunk some recycling myths. \nPlease complete this form to register for the event. Registration is free\, but is required due to limited space inside the recycling center.
URL:https://bouldercounty.gov/event/tour-the-boulder-county-recycling-center-with-pace/
LOCATION:Boulder County Recycling Center\, 1901 63rd St\, Boulder\, Colorado\, 80301
CATEGORIES:Office of Sustainability (OSCAR),Partners for a Clean Environment (PACE)
ORGANIZER;CN="Partners for a Clean Environment (PACE)":MAILTO:info@pacepartners.com
END:VEVENT
BEGIN:VEVENT
DTSTART;TZID=America/Denver:20260331T130000
DTEND;TZID=America/Denver:20260331T143000
DTSTAMP:20260420T094743
CREATED:20260217T120322Z
LAST-MODIFIED:20260218T000353Z
UID:10003256-1774962000-1774967400@bouldercounty.gov
SUMMARY:Career Exploration
DESCRIPTION:Career Exploration\, Virtual\, 1.5 hours\nIf you are unsure about your next career move this workshop is for you. The career assessment tools we offer will give you insights into new jobs and careers that would be your best fit. \nTo sign up for a workshop go to Connecting Colorado and create an account\, and click on Events. A link to the workshop will be sent to you the day before the workshop with instructions on how to join the virtual meeting.
URL:https://bouldercounty.gov/event/career-exploration-27/
LOCATION:Virtual via Zoom
CATEGORIES:WfBC Events and Workshops
END:VEVENT
END:VCALENDAR